BEGIN:VCALENDAR
VERSION:2.0
PRODID:-//achurchnearyou.com//eventfeed//EN
CALSCALE:GREGORIAN
METHOD:PUBLISH
X-WR-TIMEZONE:UTC
BEGIN:VEVENT
SUMMARY:Mothering Sunday Worship for All at the later time of 11am
DTSTART:20260315T110000Z
DTEND:20260315T120000Z
DTSTAMP:20260423T235640Z
UID:12935742026-03-15 11:00:00+00:00achurchnearyou
CATEGORIES:
DESCRIPTION:The service is at the later time of 11am as it is preceded by 
 a Children's Workshop in the church at 10am with craft activities and refr
 eshments for parents and carers. All are welcome but please note the works
 hop is for accompanied children. There will be refreshments also after the
  service and posies will be distributed.
GEO:-0.323367;51.267535
LOCATION:Mickleham: St Michael and All Angels
URL:https://www.achurchnearyou.com/church/8192/service-and-events/events/1
 293574/
END:VEVENT
END:VCALENDAR
