BEGIN:VCALENDAR
VERSION:2.0
PRODID:-//achurchnearyou.com//eventfeed//EN
CALSCALE:GREGORIAN
METHOD:PUBLISH
X-WR-TIMEZONE:UTC
BEGIN:VEVENT
SUMMARY:All Age Christingle Service
DTSTART:20250105T110000Z
DTEND:20250105T120000Z
DTSTAMP:20260419T210507Z
UID:11450222025-01-05 11:00:00+00:00achurchnearyou
CATEGORIES:
DESCRIPTION:Make your Christingle in the Church Hall from 10am\, then join
  the service at 11am - take your Christingle and light the candle to symbo
 lize the light of Christ
GEO:-0.662114;51.351609
LOCATION:All Saints' Lightwater
URL:https://www.achurchnearyou.com/church/8194/service-and-events/events/1
 145022/
END:VEVENT
END:VCALENDAR
