BEGIN:VCALENDAR
VERSION:2.0
PRODID:-//achurchnearyou.com//eventfeed//EN
CALSCALE:GREGORIAN
METHOD:PUBLISH
X-WR-TIMEZONE:UTC
BEGIN:VEVENT
SUMMARY:Virtual service of Holy Communion
DTSTART;TZID=Europe/London:20200405T101500
DTEND;TZID=Europe/London:20200405T110500
DTSTAMP:20260423T215407Z
UID:6626942020-04-05 10:15:00+01:00achurchnearyou
CATEGORIES:
DESCRIPTION:A service of Holy Communion via Zoom\n\nhttps://us02web.zoom.u
 s/j/89045595577\n\nMeeting ID: 890 4559 5577\n\nTo dial in phone 020 3481 
 5240 and enter 890 4559 5577 #
GEO:-0.316899;51.380542
LOCATION:St Mary's Long Ditton
URL:https://www.achurchnearyou.com/church/8195/service-and-events/events/6
 62694/
END:VEVENT
BEGIN:VEVENT
SUMMARY:Virtual service of Holy Communion
DTSTART;TZID=Europe/London:20200412T101500
DTEND;TZID=Europe/London:20200412T110500
DTSTAMP:20260423T215407Z
UID:6626942020-04-12 10:15:00+01:00achurchnearyou
CATEGORIES:
DESCRIPTION:A service of Holy Communion via Zoom\n\nhttps://us02web.zoom.u
 s/j/89045595577\n\nMeeting ID: 890 4559 5577\n\nTo dial in phone 020 3481 
 5240 and enter 890 4559 5577 #
GEO:-0.316899;51.380542
LOCATION:St Mary's Long Ditton
URL:https://www.achurchnearyou.com/church/8195/service-and-events/events/6
 62694/
END:VEVENT
BEGIN:VEVENT
SUMMARY:Virtual service of Holy Communion
DTSTART;TZID=Europe/London:20200419T101500
DTEND;TZID=Europe/London:20200419T110500
DTSTAMP:20260423T215407Z
UID:6626942020-04-19 10:15:00+01:00achurchnearyou
CATEGORIES:
DESCRIPTION:A service of Holy Communion via Zoom\n\nhttps://us02web.zoom.u
 s/j/89045595577\n\nMeeting ID: 890 4559 5577\n\nTo dial in phone 020 3481 
 5240 and enter 890 4559 5577 #
GEO:-0.316899;51.380542
LOCATION:St Mary's Long Ditton
URL:https://www.achurchnearyou.com/church/8195/service-and-events/events/6
 62694/
END:VEVENT
BEGIN:VEVENT
SUMMARY:Virtual service of Holy Communion
DTSTART;TZID=Europe/London:20200426T101500
DTEND;TZID=Europe/London:20200426T110500
DTSTAMP:20260423T215407Z
UID:6626942020-04-26 10:15:00+01:00achurchnearyou
CATEGORIES:
DESCRIPTION:A service of Holy Communion via Zoom\n\nhttps://us02web.zoom.u
 s/j/89045595577\n\nMeeting ID: 890 4559 5577\n\nTo dial in phone 020 3481 
 5240 and enter 890 4559 5577 #
GEO:-0.316899;51.380542
LOCATION:St Mary's Long Ditton
URL:https://www.achurchnearyou.com/church/8195/service-and-events/events/6
 62694/
END:VEVENT
BEGIN:VEVENT
SUMMARY:Virtual service of Holy Communion
DTSTART;TZID=Europe/London:20200503T101500
DTEND;TZID=Europe/London:20200503T110500
DTSTAMP:20260423T215407Z
UID:6626942020-05-03 10:15:00+01:00achurchnearyou
CATEGORIES:
DESCRIPTION:A service of Holy Communion via Zoom\n\nhttps://us02web.zoom.u
 s/j/89045595577\n\nMeeting ID: 890 4559 5577\n\nTo dial in phone 020 3481 
 5240 and enter 890 4559 5577 #
GEO:-0.316899;51.380542
LOCATION:St Mary's Long Ditton
URL:https://www.achurchnearyou.com/church/8195/service-and-events/events/6
 62694/
END:VEVENT
BEGIN:VEVENT
SUMMARY:Virtual service of Holy Communion
DTSTART;TZID=Europe/London:20200510T101500
DTEND;TZID=Europe/London:20200510T110500
DTSTAMP:20260423T215407Z
UID:6626942020-05-10 10:15:00+01:00achurchnearyou
CATEGORIES:
DESCRIPTION:A service of Holy Communion via Zoom\n\nhttps://us02web.zoom.u
 s/j/89045595577\n\nMeeting ID: 890 4559 5577\n\nTo dial in phone 020 3481 
 5240 and enter 890 4559 5577 #
GEO:-0.316899;51.380542
LOCATION:St Mary's Long Ditton
URL:https://www.achurchnearyou.com/church/8195/service-and-events/events/6
 62694/
END:VEVENT
BEGIN:VEVENT
SUMMARY:Virtual service of Holy Communion
DTSTART;TZID=Europe/London:20200517T101500
DTEND;TZID=Europe/London:20200517T110500
DTSTAMP:20260423T215407Z
UID:6626942020-05-17 10:15:00+01:00achurchnearyou
CATEGORIES:
DESCRIPTION:A service of Holy Communion via Zoom\n\nhttps://us02web.zoom.u
 s/j/89045595577\n\nMeeting ID: 890 4559 5577\n\nTo dial in phone 020 3481 
 5240 and enter 890 4559 5577 #
GEO:-0.316899;51.380542
LOCATION:St Mary's Long Ditton
URL:https://www.achurchnearyou.com/church/8195/service-and-events/events/6
 62694/
END:VEVENT
BEGIN:VEVENT
SUMMARY:Virtual service of Holy Communion
DTSTART;TZID=Europe/London:20200524T101500
DTEND;TZID=Europe/London:20200524T110500
DTSTAMP:20260423T215407Z
UID:6626942020-05-24 10:15:00+01:00achurchnearyou
CATEGORIES:
DESCRIPTION:A service of Holy Communion via Zoom\n\nhttps://us02web.zoom.u
 s/j/89045595577\n\nMeeting ID: 890 4559 5577\n\nTo dial in phone 020 3481 
 5240 and enter 890 4559 5577 #
GEO:-0.316899;51.380542
LOCATION:St Mary's Long Ditton
URL:https://www.achurchnearyou.com/church/8195/service-and-events/events/6
 62694/
END:VEVENT
BEGIN:VEVENT
SUMMARY:Virtual service of Holy Communion
DTSTART;TZID=Europe/London:20200531T101500
DTEND;TZID=Europe/London:20200531T110500
DTSTAMP:20260423T215407Z
UID:6626942020-05-31 10:15:00+01:00achurchnearyou
CATEGORIES:
DESCRIPTION:A service of Holy Communion via Zoom\n\nhttps://us02web.zoom.u
 s/j/89045595577\n\nMeeting ID: 890 4559 5577\n\nTo dial in phone 020 3481 
 5240 and enter 890 4559 5577 #
GEO:-0.316899;51.380542
LOCATION:St Mary's Long Ditton
URL:https://www.achurchnearyou.com/church/8195/service-and-events/events/6
 62694/
END:VEVENT
BEGIN:VEVENT
SUMMARY:Virtual service of Holy Communion
DTSTART;TZID=Europe/London:20200607T101500
DTEND;TZID=Europe/London:20200607T110500
DTSTAMP:20260423T215407Z
UID:6626942020-06-07 10:15:00+01:00achurchnearyou
CATEGORIES:
DESCRIPTION:A service of Holy Communion via Zoom\n\nhttps://us02web.zoom.u
 s/j/89045595577\n\nMeeting ID: 890 4559 5577\n\nTo dial in phone 020 3481 
 5240 and enter 890 4559 5577 #
GEO:-0.316899;51.380542
LOCATION:St Mary's Long Ditton
URL:https://www.achurchnearyou.com/church/8195/service-and-events/events/6
 62694/
END:VEVENT
BEGIN:VEVENT
SUMMARY:Virtual service of Holy Communion
DTSTART;TZID=Europe/London:20200614T101500
DTEND;TZID=Europe/London:20200614T110500
DTSTAMP:20260423T215407Z
UID:6626942020-06-14 10:15:00+01:00achurchnearyou
CATEGORIES:
DESCRIPTION:A service of Holy Communion via Zoom\n\nhttps://us02web.zoom.u
 s/j/89045595577\n\nMeeting ID: 890 4559 5577\n\nTo dial in phone 020 3481 
 5240 and enter 890 4559 5577 #
GEO:-0.316899;51.380542
LOCATION:St Mary's Long Ditton
URL:https://www.achurchnearyou.com/church/8195/service-and-events/events/6
 62694/
END:VEVENT
BEGIN:VEVENT
SUMMARY:Virtual service of Holy Communion
DTSTART;TZID=Europe/London:20200621T101500
DTEND;TZID=Europe/London:20200621T110500
DTSTAMP:20260423T215407Z
UID:6626942020-06-21 10:15:00+01:00achurchnearyou
CATEGORIES:
DESCRIPTION:A service of Holy Communion via Zoom\n\nhttps://us02web.zoom.u
 s/j/89045595577\n\nMeeting ID: 890 4559 5577\n\nTo dial in phone 020 3481 
 5240 and enter 890 4559 5577 #
GEO:-0.316899;51.380542
LOCATION:St Mary's Long Ditton
URL:https://www.achurchnearyou.com/church/8195/service-and-events/events/6
 62694/
END:VEVENT
BEGIN:VEVENT
SUMMARY:Virtual service of Holy Communion
DTSTART;TZID=Europe/London:20200628T101500
DTEND;TZID=Europe/London:20200628T110500
DTSTAMP:20260423T215407Z
UID:6626942020-06-28 10:15:00+01:00achurchnearyou
CATEGORIES:
DESCRIPTION:A service of Holy Communion via Zoom\n\nhttps://us02web.zoom.u
 s/j/89045595577\n\nMeeting ID: 890 4559 5577\n\nTo dial in phone 020 3481 
 5240 and enter 890 4559 5577 #
GEO:-0.316899;51.380542
LOCATION:St Mary's Long Ditton
URL:https://www.achurchnearyou.com/church/8195/service-and-events/events/6
 62694/
END:VEVENT
BEGIN:VEVENT
SUMMARY:Virtual service of Holy Communion
DTSTART;TZID=Europe/London:20200705T101500
DTEND;TZID=Europe/London:20200705T110500
DTSTAMP:20260423T215407Z
UID:6626942020-07-05 10:15:00+01:00achurchnearyou
CATEGORIES:
DESCRIPTION:A service of Holy Communion via Zoom\n\nhttps://us02web.zoom.u
 s/j/89045595577\n\nMeeting ID: 890 4559 5577\n\nTo dial in phone 020 3481 
 5240 and enter 890 4559 5577 #
GEO:-0.316899;51.380542
LOCATION:St Mary's Long Ditton
URL:https://www.achurchnearyou.com/church/8195/service-and-events/events/6
 62694/
END:VEVENT
BEGIN:VEVENT
SUMMARY:Virtual service of Holy Communion
DTSTART;TZID=Europe/London:20200712T101500
DTEND;TZID=Europe/London:20200712T110500
DTSTAMP:20260423T215407Z
UID:6626942020-07-12 10:15:00+01:00achurchnearyou
CATEGORIES:
DESCRIPTION:A service of Holy Communion via Zoom\n\nhttps://us02web.zoom.u
 s/j/89045595577\n\nMeeting ID: 890 4559 5577\n\nTo dial in phone 020 3481 
 5240 and enter 890 4559 5577 #
GEO:-0.316899;51.380542
LOCATION:St Mary's Long Ditton
URL:https://www.achurchnearyou.com/church/8195/service-and-events/events/6
 62694/
END:VEVENT
BEGIN:VEVENT
SUMMARY:Virtual service of Holy Communion
DTSTART;TZID=Europe/London:20200719T101500
DTEND;TZID=Europe/London:20200719T110500
DTSTAMP:20260423T215407Z
UID:6626942020-07-19 10:15:00+01:00achurchnearyou
CATEGORIES:
DESCRIPTION:A service of Holy Communion via Zoom\n\nhttps://us02web.zoom.u
 s/j/89045595577\n\nMeeting ID: 890 4559 5577\n\nTo dial in phone 020 3481 
 5240 and enter 890 4559 5577 #
GEO:-0.316899;51.380542
LOCATION:St Mary's Long Ditton
URL:https://www.achurchnearyou.com/church/8195/service-and-events/events/6
 62694/
END:VEVENT
BEGIN:VEVENT
SUMMARY:Virtual service of Holy Communion
DTSTART;TZID=Europe/London:20200726T101500
DTEND;TZID=Europe/London:20200726T110500
DTSTAMP:20260423T215407Z
UID:6626942020-07-26 10:15:00+01:00achurchnearyou
CATEGORIES:
DESCRIPTION:A service of Holy Communion via Zoom\n\nhttps://us02web.zoom.u
 s/j/89045595577\n\nMeeting ID: 890 4559 5577\n\nTo dial in phone 020 3481 
 5240 and enter 890 4559 5577 #
GEO:-0.316899;51.380542
LOCATION:St Mary's Long Ditton
URL:https://www.achurchnearyou.com/church/8195/service-and-events/events/6
 62694/
END:VEVENT
BEGIN:VEVENT
SUMMARY:Virtual service of Holy Communion
DTSTART;TZID=Europe/London:20200802T101500
DTEND;TZID=Europe/London:20200802T110500
DTSTAMP:20260423T215407Z
UID:6626942020-08-02 10:15:00+01:00achurchnearyou
CATEGORIES:
DESCRIPTION:A service of Holy Communion via Zoom\n\nhttps://us02web.zoom.u
 s/j/89045595577\n\nMeeting ID: 890 4559 5577\n\nTo dial in phone 020 3481 
 5240 and enter 890 4559 5577 #
GEO:-0.316899;51.380542
LOCATION:St Mary's Long Ditton
URL:https://www.achurchnearyou.com/church/8195/service-and-events/events/6
 62694/
END:VEVENT
BEGIN:VEVENT
SUMMARY:Virtual service of Holy Communion
DTSTART;TZID=Europe/London:20200809T101500
DTEND;TZID=Europe/London:20200809T110500
DTSTAMP:20260423T215407Z
UID:6626942020-08-09 10:15:00+01:00achurchnearyou
CATEGORIES:
DESCRIPTION:A service of Holy Communion via Zoom\n\nhttps://us02web.zoom.u
 s/j/89045595577\n\nMeeting ID: 890 4559 5577\n\nTo dial in phone 020 3481 
 5240 and enter 890 4559 5577 #
GEO:-0.316899;51.380542
LOCATION:St Mary's Long Ditton
URL:https://www.achurchnearyou.com/church/8195/service-and-events/events/6
 62694/
END:VEVENT
BEGIN:VEVENT
SUMMARY:Virtual service of Holy Communion
DTSTART;TZID=Europe/London:20200816T101500
DTEND;TZID=Europe/London:20200816T110500
DTSTAMP:20260423T215407Z
UID:6626942020-08-16 10:15:00+01:00achurchnearyou
CATEGORIES:
DESCRIPTION:A service of Holy Communion via Zoom\n\nhttps://us02web.zoom.u
 s/j/89045595577\n\nMeeting ID: 890 4559 5577\n\nTo dial in phone 020 3481 
 5240 and enter 890 4559 5577 #
GEO:-0.316899;51.380542
LOCATION:St Mary's Long Ditton
URL:https://www.achurchnearyou.com/church/8195/service-and-events/events/6
 62694/
END:VEVENT
BEGIN:VEVENT
SUMMARY:Virtual service of Holy Communion
DTSTART;TZID=Europe/London:20200823T101500
DTEND;TZID=Europe/London:20200823T110500
DTSTAMP:20260423T215407Z
UID:6626942020-08-23 10:15:00+01:00achurchnearyou
CATEGORIES:
DESCRIPTION:A service of Holy Communion via Zoom\n\nhttps://us02web.zoom.u
 s/j/89045595577\n\nMeeting ID: 890 4559 5577\n\nTo dial in phone 020 3481 
 5240 and enter 890 4559 5577 #
GEO:-0.316899;51.380542
LOCATION:St Mary's Long Ditton
URL:https://www.achurchnearyou.com/church/8195/service-and-events/events/6
 62694/
END:VEVENT
BEGIN:VEVENT
SUMMARY:Virtual service of Holy Communion
DTSTART;TZID=Europe/London:20200830T101500
DTEND;TZID=Europe/London:20200830T110500
DTSTAMP:20260423T215407Z
UID:6626942020-08-30 10:15:00+01:00achurchnearyou
CATEGORIES:
DESCRIPTION:A service of Holy Communion via Zoom\n\nhttps://us02web.zoom.u
 s/j/89045595577\n\nMeeting ID: 890 4559 5577\n\nTo dial in phone 020 3481 
 5240 and enter 890 4559 5577 #
GEO:-0.316899;51.380542
LOCATION:St Mary's Long Ditton
URL:https://www.achurchnearyou.com/church/8195/service-and-events/events/6
 62694/
END:VEVENT
BEGIN:VEVENT
SUMMARY:Virtual service of Holy Communion
DTSTART;TZID=Europe/London:20200906T101500
DTEND;TZID=Europe/London:20200906T110500
DTSTAMP:20260423T215407Z
UID:6626942020-09-06 10:15:00+01:00achurchnearyou
CATEGORIES:
DESCRIPTION:A service of Holy Communion via Zoom\n\nhttps://us02web.zoom.u
 s/j/89045595577\n\nMeeting ID: 890 4559 5577\n\nTo dial in phone 020 3481 
 5240 and enter 890 4559 5577 #
GEO:-0.316899;51.380542
LOCATION:St Mary's Long Ditton
URL:https://www.achurchnearyou.com/church/8195/service-and-events/events/6
 62694/
END:VEVENT
BEGIN:VEVENT
SUMMARY:Virtual service of Holy Communion
DTSTART;TZID=Europe/London:20200913T101500
DTEND;TZID=Europe/London:20200913T110500
DTSTAMP:20260423T215407Z
UID:6626942020-09-13 10:15:00+01:00achurchnearyou
CATEGORIES:
DESCRIPTION:A service of Holy Communion via Zoom\n\nhttps://us02web.zoom.u
 s/j/89045595577\n\nMeeting ID: 890 4559 5577\n\nTo dial in phone 020 3481 
 5240 and enter 890 4559 5577 #
GEO:-0.316899;51.380542
LOCATION:St Mary's Long Ditton
URL:https://www.achurchnearyou.com/church/8195/service-and-events/events/6
 62694/
END:VEVENT
BEGIN:VEVENT
SUMMARY:Virtual service of Holy Communion
DTSTART;TZID=Europe/London:20200920T101500
DTEND;TZID=Europe/London:20200920T110500
DTSTAMP:20260423T215407Z
UID:6626942020-09-20 10:15:00+01:00achurchnearyou
CATEGORIES:
DESCRIPTION:A service of Holy Communion via Zoom\n\nhttps://us02web.zoom.u
 s/j/89045595577\n\nMeeting ID: 890 4559 5577\n\nTo dial in phone 020 3481 
 5240 and enter 890 4559 5577 #
GEO:-0.316899;51.380542
LOCATION:St Mary's Long Ditton
URL:https://www.achurchnearyou.com/church/8195/service-and-events/events/6
 62694/
END:VEVENT
BEGIN:VEVENT
SUMMARY:Virtual service of Holy Communion
DTSTART;TZID=Europe/London:20200927T101500
DTEND;TZID=Europe/London:20200927T110500
DTSTAMP:20260423T215407Z
UID:6626942020-09-27 10:15:00+01:00achurchnearyou
CATEGORIES:
DESCRIPTION:A service of Holy Communion via Zoom\n\nhttps://us02web.zoom.u
 s/j/89045595577\n\nMeeting ID: 890 4559 5577\n\nTo dial in phone 020 3481 
 5240 and enter 890 4559 5577 #
GEO:-0.316899;51.380542
LOCATION:St Mary's Long Ditton
URL:https://www.achurchnearyou.com/church/8195/service-and-events/events/6
 62694/
END:VEVENT
BEGIN:VEVENT
SUMMARY:Virtual service of Holy Communion
DTSTART;TZID=Europe/London:20201004T101500
DTEND;TZID=Europe/London:20201004T110500
DTSTAMP:20260423T215407Z
UID:6626942020-10-04 10:15:00+01:00achurchnearyou
CATEGORIES:
DESCRIPTION:A service of Holy Communion via Zoom\n\nhttps://us02web.zoom.u
 s/j/89045595577\n\nMeeting ID: 890 4559 5577\n\nTo dial in phone 020 3481 
 5240 and enter 890 4559 5577 #
GEO:-0.316899;51.380542
LOCATION:St Mary's Long Ditton
URL:https://www.achurchnearyou.com/church/8195/service-and-events/events/6
 62694/
END:VEVENT
BEGIN:VEVENT
SUMMARY:Virtual service of Holy Communion
DTSTART;TZID=Europe/London:20201011T101500
DTEND;TZID=Europe/London:20201011T110500
DTSTAMP:20260423T215407Z
UID:6626942020-10-11 10:15:00+01:00achurchnearyou
CATEGORIES:
DESCRIPTION:A service of Holy Communion via Zoom\n\nhttps://us02web.zoom.u
 s/j/89045595577\n\nMeeting ID: 890 4559 5577\n\nTo dial in phone 020 3481 
 5240 and enter 890 4559 5577 #
GEO:-0.316899;51.380542
LOCATION:St Mary's Long Ditton
URL:https://www.achurchnearyou.com/church/8195/service-and-events/events/6
 62694/
END:VEVENT
BEGIN:VEVENT
SUMMARY:Virtual service of Holy Communion
DTSTART;TZID=Europe/London:20201018T101500
DTEND;TZID=Europe/London:20201018T110500
DTSTAMP:20260423T215407Z
UID:6626942020-10-18 10:15:00+01:00achurchnearyou
CATEGORIES:
DESCRIPTION:A service of Holy Communion via Zoom\n\nhttps://us02web.zoom.u
 s/j/89045595577\n\nMeeting ID: 890 4559 5577\n\nTo dial in phone 020 3481 
 5240 and enter 890 4559 5577 #
GEO:-0.316899;51.380542
LOCATION:St Mary's Long Ditton
URL:https://www.achurchnearyou.com/church/8195/service-and-events/events/6
 62694/
END:VEVENT
BEGIN:VEVENT
SUMMARY:Virtual service of Holy Communion
DTSTART;TZID=Europe/London:20201025T101500
DTEND;TZID=Europe/London:20201025T110500
DTSTAMP:20260423T215407Z
UID:6626942020-10-25 10:15:00+00:00achurchnearyou
CATEGORIES:
DESCRIPTION:A service of Holy Communion via Zoom\n\nhttps://us02web.zoom.u
 s/j/89045595577\n\nMeeting ID: 890 4559 5577\n\nTo dial in phone 020 3481 
 5240 and enter 890 4559 5577 #
GEO:-0.316899;51.380542
LOCATION:St Mary's Long Ditton
URL:https://www.achurchnearyou.com/church/8195/service-and-events/events/6
 62694/
END:VEVENT
BEGIN:VEVENT
SUMMARY:Virtual service of Holy Communion
DTSTART;TZID=Europe/London:20201101T101500
DTEND;TZID=Europe/London:20201101T110500
DTSTAMP:20260423T215407Z
UID:6626942020-11-01 10:15:00+00:00achurchnearyou
CATEGORIES:
DESCRIPTION:A service of Holy Communion via Zoom\n\nhttps://us02web.zoom.u
 s/j/89045595577\n\nMeeting ID: 890 4559 5577\n\nTo dial in phone 020 3481 
 5240 and enter 890 4559 5577 #
GEO:-0.316899;51.380542
LOCATION:St Mary's Long Ditton
URL:https://www.achurchnearyou.com/church/8195/service-and-events/events/6
 62694/
END:VEVENT
BEGIN:VEVENT
SUMMARY:Virtual service of Holy Communion
DTSTART;TZID=Europe/London:20201108T101500
DTEND;TZID=Europe/London:20201108T110500
DTSTAMP:20260423T215407Z
UID:6626942020-11-08 10:15:00+00:00achurchnearyou
CATEGORIES:
DESCRIPTION:A service of Holy Communion via Zoom\n\nhttps://us02web.zoom.u
 s/j/89045595577\n\nMeeting ID: 890 4559 5577\n\nTo dial in phone 020 3481 
 5240 and enter 890 4559 5577 #
GEO:-0.316899;51.380542
LOCATION:St Mary's Long Ditton
URL:https://www.achurchnearyou.com/church/8195/service-and-events/events/6
 62694/
END:VEVENT
BEGIN:VEVENT
SUMMARY:Virtual service of Holy Communion
DTSTART;TZID=Europe/London:20201115T101500
DTEND;TZID=Europe/London:20201115T110500
DTSTAMP:20260423T215407Z
UID:6626942020-11-15 10:15:00+00:00achurchnearyou
CATEGORIES:
DESCRIPTION:A service of Holy Communion via Zoom\n\nhttps://us02web.zoom.u
 s/j/89045595577\n\nMeeting ID: 890 4559 5577\n\nTo dial in phone 020 3481 
 5240 and enter 890 4559 5577 #
GEO:-0.316899;51.380542
LOCATION:St Mary's Long Ditton
URL:https://www.achurchnearyou.com/church/8195/service-and-events/events/6
 62694/
END:VEVENT
BEGIN:VEVENT
SUMMARY:Virtual service of Holy Communion
DTSTART;TZID=Europe/London:20201122T101500
DTEND;TZID=Europe/London:20201122T110500
DTSTAMP:20260423T215407Z
UID:6626942020-11-22 10:15:00+00:00achurchnearyou
CATEGORIES:
DESCRIPTION:A service of Holy Communion via Zoom\n\nhttps://us02web.zoom.u
 s/j/89045595577\n\nMeeting ID: 890 4559 5577\n\nTo dial in phone 020 3481 
 5240 and enter 890 4559 5577 #
GEO:-0.316899;51.380542
LOCATION:St Mary's Long Ditton
URL:https://www.achurchnearyou.com/church/8195/service-and-events/events/6
 62694/
END:VEVENT
BEGIN:VEVENT
SUMMARY:Virtual service of Holy Communion
DTSTART;TZID=Europe/London:20201129T101500
DTEND;TZID=Europe/London:20201129T110500
DTSTAMP:20260423T215407Z
UID:6626942020-11-29 10:15:00+00:00achurchnearyou
CATEGORIES:
DESCRIPTION:A service of Holy Communion via Zoom\n\nhttps://us02web.zoom.u
 s/j/89045595577\n\nMeeting ID: 890 4559 5577\n\nTo dial in phone 020 3481 
 5240 and enter 890 4559 5577 #
GEO:-0.316899;51.380542
LOCATION:St Mary's Long Ditton
URL:https://www.achurchnearyou.com/church/8195/service-and-events/events/6
 62694/
END:VEVENT
BEGIN:VEVENT
SUMMARY:Virtual service of Holy Communion
DTSTART;TZID=Europe/London:20201206T101500
DTEND;TZID=Europe/London:20201206T110500
DTSTAMP:20260423T215407Z
UID:6626942020-12-06 10:15:00+00:00achurchnearyou
CATEGORIES:
DESCRIPTION:A service of Holy Communion via Zoom\n\nhttps://us02web.zoom.u
 s/j/89045595577\n\nMeeting ID: 890 4559 5577\n\nTo dial in phone 020 3481 
 5240 and enter 890 4559 5577 #
GEO:-0.316899;51.380542
LOCATION:St Mary's Long Ditton
URL:https://www.achurchnearyou.com/church/8195/service-and-events/events/6
 62694/
END:VEVENT
BEGIN:VEVENT
SUMMARY:Virtual service of Holy Communion
DTSTART;TZID=Europe/London:20201213T101500
DTEND;TZID=Europe/London:20201213T110500
DTSTAMP:20260423T215407Z
UID:6626942020-12-13 10:15:00+00:00achurchnearyou
CATEGORIES:
DESCRIPTION:A service of Holy Communion via Zoom\n\nhttps://us02web.zoom.u
 s/j/89045595577\n\nMeeting ID: 890 4559 5577\n\nTo dial in phone 020 3481 
 5240 and enter 890 4559 5577 #
GEO:-0.316899;51.380542
LOCATION:St Mary's Long Ditton
URL:https://www.achurchnearyou.com/church/8195/service-and-events/events/6
 62694/
END:VEVENT
BEGIN:VEVENT
SUMMARY:Virtual service of Holy Communion
DTSTART;TZID=Europe/London:20201220T101500
DTEND;TZID=Europe/London:20201220T110500
DTSTAMP:20260423T215407Z
UID:6626942020-12-20 10:15:00+00:00achurchnearyou
CATEGORIES:
DESCRIPTION:A service of Holy Communion via Zoom\n\nhttps://us02web.zoom.u
 s/j/89045595577\n\nMeeting ID: 890 4559 5577\n\nTo dial in phone 020 3481 
 5240 and enter 890 4559 5577 #
GEO:-0.316899;51.380542
LOCATION:St Mary's Long Ditton
URL:https://www.achurchnearyou.com/church/8195/service-and-events/events/6
 62694/
END:VEVENT
BEGIN:VEVENT
SUMMARY:Virtual service of Holy Communion
DTSTART;TZID=Europe/London:20201227T101500
DTEND;TZID=Europe/London:20201227T110500
DTSTAMP:20260423T215407Z
UID:6626942020-12-27 10:15:00+00:00achurchnearyou
CATEGORIES:
DESCRIPTION:A service of Holy Communion via Zoom\n\nhttps://us02web.zoom.u
 s/j/89045595577\n\nMeeting ID: 890 4559 5577\n\nTo dial in phone 020 3481 
 5240 and enter 890 4559 5577 #
GEO:-0.316899;51.380542
LOCATION:St Mary's Long Ditton
URL:https://www.achurchnearyou.com/church/8195/service-and-events/events/6
 62694/
END:VEVENT
BEGIN:VEVENT
SUMMARY:Virtual service of Holy Communion
DTSTART;TZID=Europe/London:20210103T101500
DTEND;TZID=Europe/London:20210103T110500
DTSTAMP:20260423T215407Z
UID:6626942021-01-03 10:15:00+00:00achurchnearyou
CATEGORIES:
DESCRIPTION:A service of Holy Communion via Zoom\n\nhttps://us02web.zoom.u
 s/j/89045595577\n\nMeeting ID: 890 4559 5577\n\nTo dial in phone 020 3481 
 5240 and enter 890 4559 5577 #
GEO:-0.316899;51.380542
LOCATION:St Mary's Long Ditton
URL:https://www.achurchnearyou.com/church/8195/service-and-events/events/6
 62694/
END:VEVENT
END:VCALENDAR
