BEGIN:VCALENDAR
VERSION:2.0
PRODID:-//achurchnearyou.com//eventfeed//EN
CALSCALE:GREGORIAN
METHOD:PUBLISH
X-WR-TIMEZONE:UTC
BEGIN:VEVENT
SUMMARY:Activation Youth Prom Event
DTSTART:20250627T180000Z
DTEND:20250627T200000Z
DTSTAMP:20260422T105232Z
UID:11999302025-06-27 18:00:00+00:00achurchnearyou
CATEGORIES:
DESCRIPTION:Last one of term.\nFun and games.\nContact Leon for more detai
 ls. 07881786309.
GEO:-0.427961;51.371886
LOCATION:St Mary Oatlands
URL:https://www.achurchnearyou.com/church/8202/service-and-events/events/1
 199930/
END:VEVENT
END:VCALENDAR
