BEGIN:VCALENDAR
VERSION:2.0
PRODID:-//achurchnearyou.com//eventfeed//EN
CALSCALE:GREGORIAN
METHOD:PUBLISH
X-WR-TIMEZONE:UTC
BEGIN:VEVENT
SUMMARY:Father's Day BBQ at Vicarage
DTSTART:20250615T110000Z
DTEND:20250615T140000Z
DTSTAMP:20260422T123421Z
UID:12058372025-06-15 11:00:00+00:00achurchnearyou
CATEGORIES:
DESCRIPTION:Father's Day BBQ at Vicarage\nPlease bring your own meat.
LOCATION:The Vicarage
URL:https://www.achurchnearyou.com/church/8202/service-and-events/events/1
 205837/
END:VEVENT
END:VCALENDAR
