BEGIN:VCALENDAR
VERSION:2.0
PRODID:-//achurchnearyou.com//eventfeed//EN
CALSCALE:GREGORIAN
METHOD:PUBLISH
X-WR-TIMEZONE:UTC
BEGIN:VEVENT
SUMMARY:Annual Winter Fair
DTSTART:20251122T110000Z
DTEND:20251122T140000Z
DTSTAMP:20260421T225120Z
UID:12400342025-11-22 11:00:00+00:00achurchnearyou
CATEGORIES:
DESCRIPTION:A community annual Winter Fair.\nA known and anticipated commu
 nity event.\nNEW this year-  Santa's Grotto!\nLots for every age. Entry: 
 £1.50 adults\, Kids free.\nHot food and refreshments avaialble at good pr
 ices.
GEO:-0.427961;51.371886
LOCATION:St Mary Oatlands
URL:https://www.achurchnearyou.com/church/8202/service-and-events/events/1
 240034/
END:VEVENT
END:VCALENDAR
