BEGIN:VCALENDAR
VERSION:2.0
PRODID:-//achurchnearyou.com//eventfeed//EN
CALSCALE:GREGORIAN
METHOD:PUBLISH
X-WR-TIMEZONE:UTC
BEGIN:VEVENT
SUMMARY:Stations of the Cross
DTSTART:20250416T180000Z
DTEND:20250416T190000Z
DTSTAMP:20260425T173503Z
UID:11632632025-04-16 18:00:00+00:00achurchnearyou
CATEGORIES:
DESCRIPTION:Follow with us in the steps of Jesus on the way to the Cross\,
  pausing for prayer and devotion at various points.
GEO:-0.821915;51.15855
LOCATION:Dockenfield: The Church of the Good Shepherd
URL:https://www.frenshamchurches.org.uk/services
END:VEVENT
END:VCALENDAR
