BEGIN:VCALENDAR
VERSION:2.0
PRODID:-//achurchnearyou.com//eventfeed//EN
CALSCALE:GREGORIAN
METHOD:PUBLISH
X-WR-TIMEZONE:UTC
BEGIN:VEVENT
SUMMARY:Harvest Festival
DTSTART:20251005T093000Z
DTEND:20251005T103000Z
DTSTAMP:20260424T003850Z
UID:12237582025-10-05 09:30:00+00:00achurchnearyou
CATEGORIES:
DESCRIPTION:All age service to celebrate Harvest\, with collection of food
  for our food bank.
GEO:-0.540967;51.279079
LOCATION:Send: St Mary the Virgin
URL:https://www.achurchnearyou.com/church/8217/service-and-events/events/1
 223758/
END:VEVENT
END:VCALENDAR
