BEGIN:VCALENDAR
VERSION:2.0
PRODID:-//achurchnearyou.com//eventfeed//EN
CALSCALE:GREGORIAN
METHOD:PUBLISH
X-WR-TIMEZONE:UTC
BEGIN:VEVENT
SUMMARY:Christmas Day Celebration
DTSTART:20251225T100000Z
DTEND:20251225T110000Z
DTSTAMP:20260424T042650Z
UID:12571372025-12-25 10:00:00+00:00achurchnearyou
CATEGORIES:
DESCRIPTION:A great celebration of the birth of Jesus on Christmas Day. Fu
 n for all the family! Followed by Holy Communion at 11am.
GEO:-0.571231;51.246983
LOCATION:Stoke-next-Guildford: St John the Evangelist
URL:https://www.achurchnearyou.com/church/8225/service-and-events/events/1
 257137/
END:VEVENT
END:VCALENDAR
