BEGIN:VCALENDAR
VERSION:2.0
PRODID:-//achurchnearyou.com//eventfeed//EN
CALSCALE:GREGORIAN
METHOD:PUBLISH
X-WR-TIMEZONE:UTC
BEGIN:VEVENT
SUMMARY:Good Friday All Age
DTSTART:20260403T081500Z
DTEND:20260403T090000Z
DTSTAMP:20260423T104025Z
UID:13147022026-04-03 08:15:00+00:00achurchnearyou
CATEGORIES:
DESCRIPTION:Join us for a short All Age Service this Good Friday
GEO:-0.571231;51.246983
LOCATION:Stoke-next-Guildford: St John the Evangelist
URL:https://www.achurchnearyou.com/church/8225/service-and-events/events/1
 314702/
END:VEVENT
END:VCALENDAR
