BEGIN:VCALENDAR
VERSION:2.0
PRODID:-//achurchnearyou.com//eventfeed//EN
CALSCALE:GREGORIAN
METHOD:PUBLISH
X-WR-TIMEZONE:UTC
BEGIN:VEVENT
SUMMARY:Mother's Day family celebration
DTSTART:20250330T100000Z
DTEND:20250330T110000Z
DTSTAMP:20260421T070501Z
UID:11584532025-03-30 10:00:00+00:00achurchnearyou
CATEGORIES:
DESCRIPTION:Giving thanks for mothers and motherhood on Mothering Sunday i
 n a family-friendly environment.
GEO:-0.248725;51.363715
LOCATION:Stoneleigh: St John's
URL:https://www.achurchnearyou.com/church/8226/service-and-events/events/1
 158453/
END:VEVENT
END:VCALENDAR
