BEGIN:VCALENDAR
VERSION:2.0
PRODID:-//achurchnearyou.com//eventfeed//EN
CALSCALE:GREGORIAN
METHOD:PUBLISH
X-WR-TIMEZONE:UTC
BEGIN:VEVENT
SUMMARY:Easter Day celebration
DTSTART:20260405T090000Z
DTEND:20260405T100000Z
DTSTAMP:20260420T071326Z
UID:11584572026-04-05 09:00:00+00:00achurchnearyou
CATEGORIES:
DESCRIPTION:Jesus is risen! An uplifting family-friendly service to celebr
 ate the resurrection of Jesus\, the light of the world.
GEO:-0.248725;51.363715
LOCATION:Stoneleigh: St John's
URL:https://www.achurchnearyou.com/church/8226/service-and-events/events/1
 158457/
END:VEVENT
END:VCALENDAR
