BEGIN:VCALENDAR
VERSION:2.0
PRODID:-//achurchnearyou.com//eventfeed//EN
CALSCALE:GREGORIAN
METHOD:PUBLISH
X-WR-TIMEZONE:UTC
BEGIN:VEVENT
SUMMARY:The Gathering: St George's Day celebration
DTSTART:20260426T090000Z
DTEND:20260426T100000Z
DTSTAMP:20260420T033612Z
UID:11584702026-04-26 09:00:00+00:00achurchnearyou
CATEGORIES:
DESCRIPTION:Co-hosted by St John's and Stoneleigh Scouts\, this service ha
 s a patriotic feel as we give thanks for our patron saint.
GEO:-0.248725;51.363715
LOCATION:Stoneleigh: St John's
URL:https://www.achurchnearyou.com/church/8226/service-and-events/events/1
 158470/
END:VEVENT
END:VCALENDAR
