BEGIN:VCALENDAR
VERSION:2.0
PRODID:-//achurchnearyou.com//eventfeed//EN
CALSCALE:GREGORIAN
METHOD:PUBLISH
X-WR-TIMEZONE:UTC
BEGIN:VEVENT
SUMMARY:Family Worship (with Communion)
DTSTART;TZID=Europe/London:20260802T100000
DTEND;TZID=Europe/London:20260802T110000
DTSTAMP:20260420T033616Z
UID:12129462026-08-02 10:00:00+01:00achurchnearyou
CATEGORIES:
DESCRIPTION:All Together August: this month our two services will combine 
 into one. Children's activities are available.
GEO:-0.248725;51.363715
LOCATION:Stoneleigh: St John's
URL:https://www.achurchnearyou.com/church/8226/service-and-events/events/1
 212946/
END:VEVENT
BEGIN:VEVENT
SUMMARY:Family Worship (with Communion)
DTSTART;TZID=Europe/London:20260809T100000
DTEND;TZID=Europe/London:20260809T110000
DTSTAMP:20260420T033616Z
UID:12129462026-08-09 10:00:00+01:00achurchnearyou
CATEGORIES:
DESCRIPTION:All Together August: this month our two services will combine 
 into one. Children's activities are available.
GEO:-0.248725;51.363715
LOCATION:Stoneleigh: St John's
URL:https://www.achurchnearyou.com/church/8226/service-and-events/events/1
 212946/
END:VEVENT
BEGIN:VEVENT
SUMMARY:Family Worship (with Communion)
DTSTART;TZID=Europe/London:20260816T100000
DTEND;TZID=Europe/London:20260816T110000
DTSTAMP:20260420T033616Z
UID:12129462026-08-16 10:00:00+01:00achurchnearyou
CATEGORIES:
DESCRIPTION:All Together August: this month our two services will combine 
 into one. Children's activities are available.
GEO:-0.248725;51.363715
LOCATION:Stoneleigh: St John's
URL:https://www.achurchnearyou.com/church/8226/service-and-events/events/1
 212946/
END:VEVENT
BEGIN:VEVENT
SUMMARY:Family Worship (with Communion)
DTSTART;TZID=Europe/London:20260823T100000
DTEND;TZID=Europe/London:20260823T110000
DTSTAMP:20260420T033616Z
UID:12129462026-08-23 10:00:00+01:00achurchnearyou
CATEGORIES:
DESCRIPTION:All Together August: this month our two services will combine 
 into one. Children's activities are available.
GEO:-0.248725;51.363715
LOCATION:Stoneleigh: St John's
URL:https://www.achurchnearyou.com/church/8226/service-and-events/events/1
 212946/
END:VEVENT
BEGIN:VEVENT
SUMMARY:Family Worship (with Communion)
DTSTART;TZID=Europe/London:20260830T100000
DTEND;TZID=Europe/London:20260830T110000
DTSTAMP:20260420T033616Z
UID:12129462026-08-30 10:00:00+01:00achurchnearyou
CATEGORIES:
DESCRIPTION:All Together August: this month our two services will combine 
 into one. Children's activities are available.
GEO:-0.248725;51.363715
LOCATION:Stoneleigh: St John's
URL:https://www.achurchnearyou.com/church/8226/service-and-events/events/1
 212946/
END:VEVENT
END:VCALENDAR
