BEGIN:VCALENDAR
VERSION:2.0
PRODID:-//achurchnearyou.com//eventfeed//EN
CALSCALE:GREGORIAN
METHOD:PUBLISH
X-WR-TIMEZONE:UTC
BEGIN:VEVENT
SUMMARY:All the Family Service - Monthly on selected dates
DTSTART;TZID=Europe/London:20250615T100000
DTEND;TZID=Europe/London:20250615T104500
DTSTAMP:20260419T181538Z
UID:12049262025-06-15 10:00:00+01:00achurchnearyou
CATEGORIES:
DESCRIPTION:A once a month service for all the church family\, with singin
 g\, bible story\, prayers\, activity and refreshments.
GEO:-0.52873;51.40777
LOCATION:St Mary's Church\, Thorpe
URL:https://www.stmaryschurchthorpe.co.uk/what-s-on
END:VEVENT
BEGIN:VEVENT
SUMMARY:All the Family Service - Monthly on selected dates
DTSTART;TZID=Europe/London:20250720T100000
DTEND;TZID=Europe/London:20250720T104500
DTSTAMP:20260419T181538Z
UID:12049262025-07-20 10:00:00+01:00achurchnearyou
CATEGORIES:
DESCRIPTION:A once a month service for all the church family\, with singin
 g\, bible story\, prayers\, activity and refreshments.
GEO:-0.52873;51.40777
LOCATION:St Mary's Church\, Thorpe
URL:https://www.stmaryschurchthorpe.co.uk/what-s-on
END:VEVENT
BEGIN:VEVENT
SUMMARY:All the Family Service - Monthly on selected dates
DTSTART;TZID=Europe/London:20250817T100000
DTEND;TZID=Europe/London:20250817T104500
DTSTAMP:20260419T181538Z
UID:12049262025-08-17 10:00:00+01:00achurchnearyou
CATEGORIES:
DESCRIPTION:A once a month service for all the church family\, with singin
 g\, bible story\, prayers\, activity and refreshments.
GEO:-0.52873;51.40777
LOCATION:St Mary's Church\, Thorpe
URL:https://www.stmaryschurchthorpe.co.uk/what-s-on
END:VEVENT
BEGIN:VEVENT
SUMMARY:All the Family Service - Monthly on selected dates
DTSTART;TZID=Europe/London:20250921T100000
DTEND;TZID=Europe/London:20250921T104500
DTSTAMP:20260419T181538Z
UID:12049262025-09-21 10:00:00+01:00achurchnearyou
CATEGORIES:
DESCRIPTION:A once a month service for all the church family\, with singin
 g\, bible story\, prayers\, activity and refreshments.
GEO:-0.52873;51.40777
LOCATION:St Mary's Church\, Thorpe
URL:https://www.stmaryschurchthorpe.co.uk/what-s-on
END:VEVENT
BEGIN:VEVENT
SUMMARY:All the Family Service - Monthly on selected dates
DTSTART;TZID=Europe/London:20251019T100000
DTEND;TZID=Europe/London:20251019T104500
DTSTAMP:20260419T181538Z
UID:12049262025-10-19 10:00:00+01:00achurchnearyou
CATEGORIES:
DESCRIPTION:A once a month service for all the church family\, with singin
 g\, bible story\, prayers\, activity and refreshments.
GEO:-0.52873;51.40777
LOCATION:St Mary's Church\, Thorpe
URL:https://www.stmaryschurchthorpe.co.uk/what-s-on
END:VEVENT
BEGIN:VEVENT
SUMMARY:All the Family Service - Monthly on selected dates
DTSTART;TZID=Europe/London:20251116T100000
DTEND;TZID=Europe/London:20251116T104500
DTSTAMP:20260419T181538Z
UID:12049262025-11-16 10:00:00+00:00achurchnearyou
CATEGORIES:
DESCRIPTION:A once a month service for all the church family\, with singin
 g\, bible story\, prayers\, activity and refreshments.
GEO:-0.52873;51.40777
LOCATION:St Mary's Church\, Thorpe
URL:https://www.stmaryschurchthorpe.co.uk/what-s-on
END:VEVENT
END:VCALENDAR
