BEGIN:VCALENDAR
VERSION:2.0
PRODID:-//achurchnearyou.com//eventfeed//EN
CALSCALE:GREGORIAN
METHOD:PUBLISH
X-WR-TIMEZONE:UTC
BEGIN:VEVENT
SUMMARY:Community Quiz Night on Saturday 20th September at 7:00pm
DTSTART:20250920T180000Z
DTEND:20250920T210000Z
DTSTAMP:20260420T213651Z
UID:12167022025-09-20 18:00:00+00:00achurchnearyou
CATEGORIES:
DESCRIPTION:Bring your friends along to All Saints Church for an evening o
 f light hearted quizzing.  New faces will be especially welcome.  £10 a h
 ead - pay on the night with cash or card.  We offer a licensed wine\, beer
  and soft drink bar and a raffle in aid of our Paint All Saints appeal.  P
 ut together a table of up to 8 people\, or book individually and we will m
 ake up friendly tables so you can get to know more local people.  The quiz
  is suitable for over 12 year olds with a mixture of general knowledge and
  fun facts. Limited tables available for this popular annual event so invi
 te you friends and reserve your quizzing places now!
GEO:-0.349293;51.384212
LOCATION:All Saints Weston Green
URL:https://allsaintsweston.com/
END:VEVENT
END:VCALENDAR
