BEGIN:VCALENDAR
VERSION:2.0
PRODID:-//achurchnearyou.com//eventfeed//EN
CALSCALE:GREGORIAN
METHOD:PUBLISH
X-WR-TIMEZONE:UTC
BEGIN:VEVENT
SUMMARY:Candlelight Carols
DTSTART:20251214T060000Z
DTEND:20251214T080000Z
DTSTAMP:20260420T153507Z
UID:12475922025-12-14 06:00:00+00:00achurchnearyou
CATEGORIES:
DESCRIPTION:Traditional festive hymns with organ
GEO:-0.349293;51.384212
LOCATION:All Saints Weston Green
URL:https://allsaintsweston.com/
END:VEVENT
END:VCALENDAR
