BEGIN:VCALENDAR
VERSION:2.0
PRODID:-//achurchnearyou.com//eventfeed//EN
CALSCALE:GREGORIAN
METHOD:PUBLISH
X-WR-TIMEZONE:UTC
BEGIN:VEVENT
SUMMARY:8:30am BCP Eucharist at  St Andrew's Church
DTSTART;TZID=Europe/London:20260403T083000
DTEND;TZID=Europe/London:20260403T090000
DTSTAMP:20260421T044728Z
UID:7271701775201400.0achurchnearyou
CATEGORIES:
DESCRIPTION:An in person Communion service at St Andrew's Church weekly on
  a Friday morning at 8:30am.
LOCATION:St Andrew's Church
URL:https://surbitonchurch.org.uk/
END:VEVENT
BEGIN:VEVENT
SUMMARY:8:30am BCP Eucharist at  St Andrew's Church
DTSTART;TZID=Europe/London:20260410T083000
DTEND;TZID=Europe/London:20260410T090000
DTSTAMP:20260421T044728Z
UID:7271701775806200.0achurchnearyou
CATEGORIES:
DESCRIPTION:An in person Communion service at St Andrew's Church weekly on
  a Friday morning at 8:30am.
LOCATION:St Andrew's Church
URL:https://surbitonchurch.org.uk/
END:VEVENT
BEGIN:VEVENT
SUMMARY:11am Parish Eucharist
DTSTART;TZID=Europe/London:20260412T110000
DTEND;TZID=Europe/London:20260412T120000
DTSTAMP:20260421T044728Z
UID:6625121775988000.0achurchnearyou
CATEGORIES:
DESCRIPTION:We are meeting in church and online.\nWe meet at 11am for a  P
 arish Eucharist service. If you would like to attend the service online pl
 ease see the weekly email from Robert the vicar with the Zoom codes or con
 tact the parish office. All are welcome.
GEO:-0.308956;51.393328
LOCATION:St Andrew and St Mark\, Surbiton
URL:https://surbitonchurch.org.uk/
END:VEVENT
BEGIN:VEVENT
SUMMARY:8:30am BCP Eucharist at  St Andrew's Church
DTSTART;TZID=Europe/London:20260417T083000
DTEND;TZID=Europe/London:20260417T090000
DTSTAMP:20260421T044728Z
UID:7271701776411000.0achurchnearyou
CATEGORIES:
DESCRIPTION:An in person Communion service at St Andrew's Church weekly on
  a Friday morning at 8:30am.
LOCATION:St Andrew's Church
URL:https://surbitonchurch.org.uk/
END:VEVENT
BEGIN:VEVENT
SUMMARY:11am Parish Eucharist
DTSTART;TZID=Europe/London:20260419T110000
DTEND;TZID=Europe/London:20260419T120000
DTSTAMP:20260421T044728Z
UID:6625121776592800.0achurchnearyou
CATEGORIES:
DESCRIPTION:We are meeting in church and online.\nWe meet at 11am for a  P
 arish Eucharist service. If you would like to attend the service online pl
 ease see the weekly email from Robert the vicar with the Zoom codes or con
 tact the parish office. All are welcome.
GEO:-0.308956;51.393328
LOCATION:St Andrew and St Mark\, Surbiton
URL:https://surbitonchurch.org.uk/
END:VEVENT
BEGIN:VEVENT
SUMMARY:8:30am BCP Eucharist at  St Andrew's Church
DTSTART;TZID=Europe/London:20260424T083000
DTEND;TZID=Europe/London:20260424T090000
DTSTAMP:20260421T044728Z
UID:7271701777015800.0achurchnearyou
CATEGORIES:
DESCRIPTION:An in person Communion service at St Andrew's Church weekly on
  a Friday morning at 8:30am.
LOCATION:St Andrew's Church
URL:https://surbitonchurch.org.uk/
END:VEVENT
BEGIN:VEVENT
SUMMARY:11am Parish Eucharist
DTSTART;TZID=Europe/London:20260426T110000
DTEND;TZID=Europe/London:20260426T120000
DTSTAMP:20260421T044728Z
UID:6625121777197600.0achurchnearyou
CATEGORIES:
DESCRIPTION:We are meeting in church and online.\nWe meet at 11am for a  P
 arish Eucharist service. If you would like to attend the service online pl
 ease see the weekly email from Robert the vicar with the Zoom codes or con
 tact the parish office. All are welcome.
GEO:-0.308956;51.393328
LOCATION:St Andrew and St Mark\, Surbiton
URL:https://surbitonchurch.org.uk/
END:VEVENT
BEGIN:VEVENT
SUMMARY:8:30am BCP Eucharist at  St Andrew's Church
DTSTART;TZID=Europe/London:20260501T083000
DTEND;TZID=Europe/London:20260501T090000
DTSTAMP:20260421T044728Z
UID:7271701777620600.0achurchnearyou
CATEGORIES:
DESCRIPTION:An in person Communion service at St Andrew's Church weekly on
  a Friday morning at 8:30am.
LOCATION:St Andrew's Church
URL:https://surbitonchurch.org.uk/
END:VEVENT
BEGIN:VEVENT
SUMMARY:8:30am BCP Eucharist at  St Andrew's Church
DTSTART;TZID=Europe/London:20260508T083000
DTEND;TZID=Europe/London:20260508T090000
DTSTAMP:20260421T044728Z
UID:7271701778225400.0achurchnearyou
CATEGORIES:
DESCRIPTION:An in person Communion service at St Andrew's Church weekly on
  a Friday morning at 8:30am.
LOCATION:St Andrew's Church
URL:https://surbitonchurch.org.uk/
END:VEVENT
BEGIN:VEVENT
SUMMARY:11am Parish Eucharist
DTSTART;TZID=Europe/London:20260510T110000
DTEND;TZID=Europe/London:20260510T120000
DTSTAMP:20260421T044728Z
UID:6625121778407200.0achurchnearyou
CATEGORIES:
DESCRIPTION:We are meeting in church and online.\nWe meet at 11am for a  P
 arish Eucharist service. If you would like to attend the service online pl
 ease see the weekly email from Robert the vicar with the Zoom codes or con
 tact the parish office. All are welcome.
GEO:-0.308956;51.393328
LOCATION:St Andrew and St Mark\, Surbiton
URL:https://surbitonchurch.org.uk/
END:VEVENT
BEGIN:VEVENT
SUMMARY:8:30am BCP Eucharist at  St Andrew's Church
DTSTART;TZID=Europe/London:20260515T083000
DTEND;TZID=Europe/London:20260515T090000
DTSTAMP:20260421T044728Z
UID:7271701778830200.0achurchnearyou
CATEGORIES:
DESCRIPTION:An in person Communion service at St Andrew's Church weekly on
  a Friday morning at 8:30am.
LOCATION:St Andrew's Church
URL:https://surbitonchurch.org.uk/
END:VEVENT
BEGIN:VEVENT
SUMMARY:11am Parish Eucharist
DTSTART;TZID=Europe/London:20260517T110000
DTEND;TZID=Europe/London:20260517T120000
DTSTAMP:20260421T044728Z
UID:6625121779012000.0achurchnearyou
CATEGORIES:
DESCRIPTION:We are meeting in church and online.\nWe meet at 11am for a  P
 arish Eucharist service. If you would like to attend the service online pl
 ease see the weekly email from Robert the vicar with the Zoom codes or con
 tact the parish office. All are welcome.
GEO:-0.308956;51.393328
LOCATION:St Andrew and St Mark\, Surbiton
URL:https://surbitonchurch.org.uk/
END:VEVENT
BEGIN:VEVENT
SUMMARY:8:30am BCP Eucharist at  St Andrew's Church
DTSTART;TZID=Europe/London:20260522T083000
DTEND;TZID=Europe/London:20260522T090000
DTSTAMP:20260421T044728Z
UID:7271701779435000.0achurchnearyou
CATEGORIES:
DESCRIPTION:An in person Communion service at St Andrew's Church weekly on
  a Friday morning at 8:30am.
LOCATION:St Andrew's Church
URL:https://surbitonchurch.org.uk/
END:VEVENT
BEGIN:VEVENT
SUMMARY:11am Parish Eucharist
DTSTART;TZID=Europe/London:20260524T110000
DTEND;TZID=Europe/London:20260524T120000
DTSTAMP:20260421T044728Z
UID:6625121779616800.0achurchnearyou
CATEGORIES:
DESCRIPTION:We are meeting in church and online.\nWe meet at 11am for a  P
 arish Eucharist service. If you would like to attend the service online pl
 ease see the weekly email from Robert the vicar with the Zoom codes or con
 tact the parish office. All are welcome.
GEO:-0.308956;51.393328
LOCATION:St Andrew and St Mark\, Surbiton
URL:https://surbitonchurch.org.uk/
END:VEVENT
BEGIN:VEVENT
SUMMARY:8:30am BCP Eucharist at  St Andrew's Church
DTSTART;TZID=Europe/London:20260529T083000
DTEND;TZID=Europe/London:20260529T090000
DTSTAMP:20260421T044728Z
UID:7271701780039800.0achurchnearyou
CATEGORIES:
DESCRIPTION:An in person Communion service at St Andrew's Church weekly on
  a Friday morning at 8:30am.
LOCATION:St Andrew's Church
URL:https://surbitonchurch.org.uk/
END:VEVENT
BEGIN:VEVENT
SUMMARY:11am Parish Eucharist
DTSTART;TZID=Europe/London:20260531T110000
DTEND;TZID=Europe/London:20260531T120000
DTSTAMP:20260421T044728Z
UID:6625121780221600.0achurchnearyou
CATEGORIES:
DESCRIPTION:We are meeting in church and online.\nWe meet at 11am for a  P
 arish Eucharist service. If you would like to attend the service online pl
 ease see the weekly email from Robert the vicar with the Zoom codes or con
 tact the parish office. All are welcome.
GEO:-0.308956;51.393328
LOCATION:St Andrew and St Mark\, Surbiton
URL:https://surbitonchurch.org.uk/
END:VEVENT
BEGIN:VEVENT
SUMMARY:8:30am BCP Eucharist at  St Andrew's Church
DTSTART;TZID=Europe/London:20260605T083000
DTEND;TZID=Europe/London:20260605T090000
DTSTAMP:20260421T044728Z
UID:7271701780644600.0achurchnearyou
CATEGORIES:
DESCRIPTION:An in person Communion service at St Andrew's Church weekly on
  a Friday morning at 8:30am.
LOCATION:St Andrew's Church
URL:https://surbitonchurch.org.uk/
END:VEVENT
BEGIN:VEVENT
SUMMARY:8:30am BCP Eucharist at  St Andrew's Church
DTSTART;TZID=Europe/London:20260612T083000
DTEND;TZID=Europe/London:20260612T090000
DTSTAMP:20260421T044728Z
UID:7271701781249400.0achurchnearyou
CATEGORIES:
DESCRIPTION:An in person Communion service at St Andrew's Church weekly on
  a Friday morning at 8:30am.
LOCATION:St Andrew's Church
URL:https://surbitonchurch.org.uk/
END:VEVENT
BEGIN:VEVENT
SUMMARY:11am Parish Eucharist
DTSTART;TZID=Europe/London:20260614T110000
DTEND;TZID=Europe/London:20260614T120000
DTSTAMP:20260421T044728Z
UID:6625121781431200.0achurchnearyou
CATEGORIES:
DESCRIPTION:We are meeting in church and online.\nWe meet at 11am for a  P
 arish Eucharist service. If you would like to attend the service online pl
 ease see the weekly email from Robert the vicar with the Zoom codes or con
 tact the parish office. All are welcome.
GEO:-0.308956;51.393328
LOCATION:St Andrew and St Mark\, Surbiton
URL:https://surbitonchurch.org.uk/
END:VEVENT
BEGIN:VEVENT
SUMMARY:8:30am BCP Eucharist at  St Andrew's Church
DTSTART;TZID=Europe/London:20260619T083000
DTEND;TZID=Europe/London:20260619T090000
DTSTAMP:20260421T044728Z
UID:7271701781854200.0achurchnearyou
CATEGORIES:
DESCRIPTION:An in person Communion service at St Andrew's Church weekly on
  a Friday morning at 8:30am.
LOCATION:St Andrew's Church
URL:https://surbitonchurch.org.uk/
END:VEVENT
BEGIN:VEVENT
SUMMARY:11am Parish Eucharist
DTSTART;TZID=Europe/London:20260621T110000
DTEND;TZID=Europe/London:20260621T120000
DTSTAMP:20260421T044728Z
UID:6625121782036000.0achurchnearyou
CATEGORIES:
DESCRIPTION:We are meeting in church and online.\nWe meet at 11am for a  P
 arish Eucharist service. If you would like to attend the service online pl
 ease see the weekly email from Robert the vicar with the Zoom codes or con
 tact the parish office. All are welcome.
GEO:-0.308956;51.393328
LOCATION:St Andrew and St Mark\, Surbiton
URL:https://surbitonchurch.org.uk/
END:VEVENT
BEGIN:VEVENT
SUMMARY:8:30am BCP Eucharist at  St Andrew's Church
DTSTART;TZID=Europe/London:20260626T083000
DTEND;TZID=Europe/London:20260626T090000
DTSTAMP:20260421T044728Z
UID:7271701782459000.0achurchnearyou
CATEGORIES:
DESCRIPTION:An in person Communion service at St Andrew's Church weekly on
  a Friday morning at 8:30am.
LOCATION:St Andrew's Church
URL:https://surbitonchurch.org.uk/
END:VEVENT
BEGIN:VEVENT
SUMMARY:11am Parish Eucharist
DTSTART;TZID=Europe/London:20260628T110000
DTEND;TZID=Europe/London:20260628T120000
DTSTAMP:20260421T044728Z
UID:6625121782640800.0achurchnearyou
CATEGORIES:
DESCRIPTION:We are meeting in church and online.\nWe meet at 11am for a  P
 arish Eucharist service. If you would like to attend the service online pl
 ease see the weekly email from Robert the vicar with the Zoom codes or con
 tact the parish office. All are welcome.
GEO:-0.308956;51.393328
LOCATION:St Andrew and St Mark\, Surbiton
URL:https://surbitonchurch.org.uk/
END:VEVENT
BEGIN:VEVENT
SUMMARY:8:30am BCP Eucharist at  St Andrew's Church
DTSTART;TZID=Europe/London:20260703T083000
DTEND;TZID=Europe/London:20260703T090000
DTSTAMP:20260421T044728Z
UID:7271701783063800.0achurchnearyou
CATEGORIES:
DESCRIPTION:An in person Communion service at St Andrew's Church weekly on
  a Friday morning at 8:30am.
LOCATION:St Andrew's Church
URL:https://surbitonchurch.org.uk/
END:VEVENT
BEGIN:VEVENT
SUMMARY:8:30am BCP Eucharist at  St Andrew's Church
DTSTART;TZID=Europe/London:20260710T083000
DTEND;TZID=Europe/London:20260710T090000
DTSTAMP:20260421T044728Z
UID:7271701783668600.0achurchnearyou
CATEGORIES:
DESCRIPTION:An in person Communion service at St Andrew's Church weekly on
  a Friday morning at 8:30am.
LOCATION:St Andrew's Church
URL:https://surbitonchurch.org.uk/
END:VEVENT
BEGIN:VEVENT
SUMMARY:11am Parish Eucharist
DTSTART;TZID=Europe/London:20260712T110000
DTEND;TZID=Europe/London:20260712T120000
DTSTAMP:20260421T044728Z
UID:6625121783850400.0achurchnearyou
CATEGORIES:
DESCRIPTION:We are meeting in church and online.\nWe meet at 11am for a  P
 arish Eucharist service. If you would like to attend the service online pl
 ease see the weekly email from Robert the vicar with the Zoom codes or con
 tact the parish office. All are welcome.
GEO:-0.308956;51.393328
LOCATION:St Andrew and St Mark\, Surbiton
URL:https://surbitonchurch.org.uk/
END:VEVENT
BEGIN:VEVENT
SUMMARY:8:30am BCP Eucharist at  St Andrew's Church
DTSTART;TZID=Europe/London:20260717T083000
DTEND;TZID=Europe/London:20260717T090000
DTSTAMP:20260421T044728Z
UID:7271701784273400.0achurchnearyou
CATEGORIES:
DESCRIPTION:An in person Communion service at St Andrew's Church weekly on
  a Friday morning at 8:30am.
LOCATION:St Andrew's Church
URL:https://surbitonchurch.org.uk/
END:VEVENT
BEGIN:VEVENT
SUMMARY:11am Parish Eucharist
DTSTART;TZID=Europe/London:20260719T110000
DTEND;TZID=Europe/London:20260719T120000
DTSTAMP:20260421T044728Z
UID:6625121784455200.0achurchnearyou
CATEGORIES:
DESCRIPTION:We are meeting in church and online.\nWe meet at 11am for a  P
 arish Eucharist service. If you would like to attend the service online pl
 ease see the weekly email from Robert the vicar with the Zoom codes or con
 tact the parish office. All are welcome.
GEO:-0.308956;51.393328
LOCATION:St Andrew and St Mark\, Surbiton
URL:https://surbitonchurch.org.uk/
END:VEVENT
BEGIN:VEVENT
SUMMARY:8:30am BCP Eucharist at  St Andrew's Church
DTSTART;TZID=Europe/London:20260724T083000
DTEND;TZID=Europe/London:20260724T090000
DTSTAMP:20260421T044728Z
UID:7271701784878200.0achurchnearyou
CATEGORIES:
DESCRIPTION:An in person Communion service at St Andrew's Church weekly on
  a Friday morning at 8:30am.
LOCATION:St Andrew's Church
URL:https://surbitonchurch.org.uk/
END:VEVENT
BEGIN:VEVENT
SUMMARY:11am Parish Eucharist
DTSTART;TZID=Europe/London:20260726T110000
DTEND;TZID=Europe/London:20260726T120000
DTSTAMP:20260421T044728Z
UID:6625121785060000.0achurchnearyou
CATEGORIES:
DESCRIPTION:We are meeting in church and online.\nWe meet at 11am for a  P
 arish Eucharist service. If you would like to attend the service online pl
 ease see the weekly email from Robert the vicar with the Zoom codes or con
 tact the parish office. All are welcome.
GEO:-0.308956;51.393328
LOCATION:St Andrew and St Mark\, Surbiton
URL:https://surbitonchurch.org.uk/
END:VEVENT
BEGIN:VEVENT
SUMMARY:8:30am BCP Eucharist at  St Andrew's Church
DTSTART;TZID=Europe/London:20260731T083000
DTEND;TZID=Europe/London:20260731T090000
DTSTAMP:20260421T044728Z
UID:7271701785483000.0achurchnearyou
CATEGORIES:
DESCRIPTION:An in person Communion service at St Andrew's Church weekly on
  a Friday morning at 8:30am.
LOCATION:St Andrew's Church
URL:https://surbitonchurch.org.uk/
END:VEVENT
BEGIN:VEVENT
SUMMARY:8:30am BCP Eucharist at  St Andrew's Church
DTSTART;TZID=Europe/London:20260807T083000
DTEND;TZID=Europe/London:20260807T090000
DTSTAMP:20260421T044728Z
UID:7271701786087800.0achurchnearyou
CATEGORIES:
DESCRIPTION:An in person Communion service at St Andrew's Church weekly on
  a Friday morning at 8:30am.
LOCATION:St Andrew's Church
URL:https://surbitonchurch.org.uk/
END:VEVENT
BEGIN:VEVENT
SUMMARY:11am Parish Eucharist
DTSTART;TZID=Europe/London:20260809T110000
DTEND;TZID=Europe/London:20260809T120000
DTSTAMP:20260421T044728Z
UID:6625121786269600.0achurchnearyou
CATEGORIES:
DESCRIPTION:We are meeting in church and online.\nWe meet at 11am for a  P
 arish Eucharist service. If you would like to attend the service online pl
 ease see the weekly email from Robert the vicar with the Zoom codes or con
 tact the parish office. All are welcome.
GEO:-0.308956;51.393328
LOCATION:St Andrew and St Mark\, Surbiton
URL:https://surbitonchurch.org.uk/
END:VEVENT
BEGIN:VEVENT
SUMMARY:8:30am BCP Eucharist at  St Andrew's Church
DTSTART;TZID=Europe/London:20260814T083000
DTEND;TZID=Europe/London:20260814T090000
DTSTAMP:20260421T044728Z
UID:7271701786692600.0achurchnearyou
CATEGORIES:
DESCRIPTION:An in person Communion service at St Andrew's Church weekly on
  a Friday morning at 8:30am.
LOCATION:St Andrew's Church
URL:https://surbitonchurch.org.uk/
END:VEVENT
BEGIN:VEVENT
SUMMARY:11am Parish Eucharist
DTSTART;TZID=Europe/London:20260816T110000
DTEND;TZID=Europe/London:20260816T120000
DTSTAMP:20260421T044728Z
UID:6625121786874400.0achurchnearyou
CATEGORIES:
DESCRIPTION:We are meeting in church and online.\nWe meet at 11am for a  P
 arish Eucharist service. If you would like to attend the service online pl
 ease see the weekly email from Robert the vicar with the Zoom codes or con
 tact the parish office. All are welcome.
GEO:-0.308956;51.393328
LOCATION:St Andrew and St Mark\, Surbiton
URL:https://surbitonchurch.org.uk/
END:VEVENT
BEGIN:VEVENT
SUMMARY:8:30am BCP Eucharist at  St Andrew's Church
DTSTART;TZID=Europe/London:20260821T083000
DTEND;TZID=Europe/London:20260821T090000
DTSTAMP:20260421T044728Z
UID:7271701787297400.0achurchnearyou
CATEGORIES:
DESCRIPTION:An in person Communion service at St Andrew's Church weekly on
  a Friday morning at 8:30am.
LOCATION:St Andrew's Church
URL:https://surbitonchurch.org.uk/
END:VEVENT
BEGIN:VEVENT
SUMMARY:11am Parish Eucharist
DTSTART;TZID=Europe/London:20260823T110000
DTEND;TZID=Europe/London:20260823T120000
DTSTAMP:20260421T044728Z
UID:6625121787479200.0achurchnearyou
CATEGORIES:
DESCRIPTION:We are meeting in church and online.\nWe meet at 11am for a  P
 arish Eucharist service. If you would like to attend the service online pl
 ease see the weekly email from Robert the vicar with the Zoom codes or con
 tact the parish office. All are welcome.
GEO:-0.308956;51.393328
LOCATION:St Andrew and St Mark\, Surbiton
URL:https://surbitonchurch.org.uk/
END:VEVENT
BEGIN:VEVENT
SUMMARY:8:30am BCP Eucharist at  St Andrew's Church
DTSTART;TZID=Europe/London:20260828T083000
DTEND;TZID=Europe/London:20260828T090000
DTSTAMP:20260421T044728Z
UID:7271701787902200.0achurchnearyou
CATEGORIES:
DESCRIPTION:An in person Communion service at St Andrew's Church weekly on
  a Friday morning at 8:30am.
LOCATION:St Andrew's Church
URL:https://surbitonchurch.org.uk/
END:VEVENT
BEGIN:VEVENT
SUMMARY:11am Parish Eucharist
DTSTART;TZID=Europe/London:20260830T110000
DTEND;TZID=Europe/London:20260830T120000
DTSTAMP:20260421T044728Z
UID:6625121788084000.0achurchnearyou
CATEGORIES:
DESCRIPTION:We are meeting in church and online.\nWe meet at 11am for a  P
 arish Eucharist service. If you would like to attend the service online pl
 ease see the weekly email from Robert the vicar with the Zoom codes or con
 tact the parish office. All are welcome.
GEO:-0.308956;51.393328
LOCATION:St Andrew and St Mark\, Surbiton
URL:https://surbitonchurch.org.uk/
END:VEVENT
BEGIN:VEVENT
SUMMARY:8:30am BCP Eucharist at  St Andrew's Church
DTSTART;TZID=Europe/London:20260904T083000
DTEND;TZID=Europe/London:20260904T090000
DTSTAMP:20260421T044728Z
UID:7271701788507000.0achurchnearyou
CATEGORIES:
DESCRIPTION:An in person Communion service at St Andrew's Church weekly on
  a Friday morning at 8:30am.
LOCATION:St Andrew's Church
URL:https://surbitonchurch.org.uk/
END:VEVENT
BEGIN:VEVENT
SUMMARY:8:30am BCP Eucharist at  St Andrew's Church
DTSTART;TZID=Europe/London:20260911T083000
DTEND;TZID=Europe/London:20260911T090000
DTSTAMP:20260421T044728Z
UID:7271701789111800.0achurchnearyou
CATEGORIES:
DESCRIPTION:An in person Communion service at St Andrew's Church weekly on
  a Friday morning at 8:30am.
LOCATION:St Andrew's Church
URL:https://surbitonchurch.org.uk/
END:VEVENT
BEGIN:VEVENT
SUMMARY:11am Parish Eucharist
DTSTART;TZID=Europe/London:20260913T110000
DTEND;TZID=Europe/London:20260913T120000
DTSTAMP:20260421T044728Z
UID:6625121789293600.0achurchnearyou
CATEGORIES:
DESCRIPTION:We are meeting in church and online.\nWe meet at 11am for a  P
 arish Eucharist service. If you would like to attend the service online pl
 ease see the weekly email from Robert the vicar with the Zoom codes or con
 tact the parish office. All are welcome.
GEO:-0.308956;51.393328
LOCATION:St Andrew and St Mark\, Surbiton
URL:https://surbitonchurch.org.uk/
END:VEVENT
BEGIN:VEVENT
SUMMARY:8:30am BCP Eucharist at  St Andrew's Church
DTSTART;TZID=Europe/London:20260918T083000
DTEND;TZID=Europe/London:20260918T090000
DTSTAMP:20260421T044728Z
UID:7271701789716600.0achurchnearyou
CATEGORIES:
DESCRIPTION:An in person Communion service at St Andrew's Church weekly on
  a Friday morning at 8:30am.
LOCATION:St Andrew's Church
URL:https://surbitonchurch.org.uk/
END:VEVENT
BEGIN:VEVENT
SUMMARY:11am Parish Eucharist
DTSTART;TZID=Europe/London:20260920T110000
DTEND;TZID=Europe/London:20260920T120000
DTSTAMP:20260421T044728Z
UID:6625121789898400.0achurchnearyou
CATEGORIES:
DESCRIPTION:We are meeting in church and online.\nWe meet at 11am for a  P
 arish Eucharist service. If you would like to attend the service online pl
 ease see the weekly email from Robert the vicar with the Zoom codes or con
 tact the parish office. All are welcome.
GEO:-0.308956;51.393328
LOCATION:St Andrew and St Mark\, Surbiton
URL:https://surbitonchurch.org.uk/
END:VEVENT
BEGIN:VEVENT
SUMMARY:8:30am BCP Eucharist at  St Andrew's Church
DTSTART;TZID=Europe/London:20260925T083000
DTEND;TZID=Europe/London:20260925T090000
DTSTAMP:20260421T044728Z
UID:7271701790321400.0achurchnearyou
CATEGORIES:
DESCRIPTION:An in person Communion service at St Andrew's Church weekly on
  a Friday morning at 8:30am.
LOCATION:St Andrew's Church
URL:https://surbitonchurch.org.uk/
END:VEVENT
BEGIN:VEVENT
SUMMARY:11am Parish Eucharist
DTSTART;TZID=Europe/London:20260927T110000
DTEND;TZID=Europe/London:20260927T120000
DTSTAMP:20260421T044728Z
UID:6625121790503200.0achurchnearyou
CATEGORIES:
DESCRIPTION:We are meeting in church and online.\nWe meet at 11am for a  P
 arish Eucharist service. If you would like to attend the service online pl
 ease see the weekly email from Robert the vicar with the Zoom codes or con
 tact the parish office. All are welcome.
GEO:-0.308956;51.393328
LOCATION:St Andrew and St Mark\, Surbiton
URL:https://surbitonchurch.org.uk/
END:VEVENT
END:VCALENDAR
