BEGIN:VCALENDAR
VERSION:2.0
PRODID:-//achurchnearyou.com//eventfeed//EN
CALSCALE:GREGORIAN
METHOD:PUBLISH
X-WR-TIMEZONE:UTC
BEGIN:VEVENT
SUMMARY:Iona Communion service
DTSTART;TZID=Europe/London:20260426T100000
DTEND;TZID=Europe/London:20260426T104500
DTSTAMP:20260420T134204Z
UID:10982762026-04-26 10:00:00+01:00achurchnearyou
CATEGORIES:
DESCRIPTION:A service of Holy Communion using the Iona liturgy. We use a c
 ombination of traditional and more modern songs.
GEO:-0.413726;51.188642
LOCATION:Holmbury Church
URL:https://www.achurchnearyou.com/church/8263/service-and-events/events/1
 098276/
END:VEVENT
BEGIN:VEVENT
SUMMARY:Iona Communion service
DTSTART;TZID=Europe/London:20260524T100000
DTEND;TZID=Europe/London:20260524T104500
DTSTAMP:20260420T134204Z
UID:10982762026-05-24 10:00:00+01:00achurchnearyou
CATEGORIES:
DESCRIPTION:A service of Holy Communion using the Iona liturgy. We use a c
 ombination of traditional and more modern songs.
GEO:-0.413726;51.188642
LOCATION:Holmbury Church
URL:https://www.achurchnearyou.com/church/8263/service-and-events/events/1
 098276/
END:VEVENT
BEGIN:VEVENT
SUMMARY:Iona Communion service
DTSTART;TZID=Europe/London:20260628T100000
DTEND;TZID=Europe/London:20260628T104500
DTSTAMP:20260420T134204Z
UID:10982762026-06-28 10:00:00+01:00achurchnearyou
CATEGORIES:
DESCRIPTION:A service of Holy Communion using the Iona liturgy. We use a c
 ombination of traditional and more modern songs.
GEO:-0.413726;51.188642
LOCATION:Holmbury Church
URL:https://www.achurchnearyou.com/church/8263/service-and-events/events/1
 098276/
END:VEVENT
BEGIN:VEVENT
SUMMARY:Iona Communion service
DTSTART;TZID=Europe/London:20260726T100000
DTEND;TZID=Europe/London:20260726T104500
DTSTAMP:20260420T134204Z
UID:10982762026-07-26 10:00:00+01:00achurchnearyou
CATEGORIES:
DESCRIPTION:A service of Holy Communion using the Iona liturgy. We use a c
 ombination of traditional and more modern songs.
GEO:-0.413726;51.188642
LOCATION:Holmbury Church
URL:https://www.achurchnearyou.com/church/8263/service-and-events/events/1
 098276/
END:VEVENT
BEGIN:VEVENT
SUMMARY:Iona Communion service
DTSTART;TZID=Europe/London:20260823T100000
DTEND;TZID=Europe/London:20260823T104500
DTSTAMP:20260420T134204Z
UID:10982762026-08-23 10:00:00+01:00achurchnearyou
CATEGORIES:
DESCRIPTION:A service of Holy Communion using the Iona liturgy. We use a c
 ombination of traditional and more modern songs.
GEO:-0.413726;51.188642
LOCATION:Holmbury Church
URL:https://www.achurchnearyou.com/church/8263/service-and-events/events/1
 098276/
END:VEVENT
BEGIN:VEVENT
SUMMARY:Iona Communion service
DTSTART;TZID=Europe/London:20260927T100000
DTEND;TZID=Europe/London:20260927T104500
DTSTAMP:20260420T134204Z
UID:10982762026-09-27 10:00:00+01:00achurchnearyou
CATEGORIES:
DESCRIPTION:A service of Holy Communion using the Iona liturgy. We use a c
 ombination of traditional and more modern songs.
GEO:-0.413726;51.188642
LOCATION:Holmbury Church
URL:https://www.achurchnearyou.com/church/8263/service-and-events/events/1
 098276/
END:VEVENT
BEGIN:VEVENT
SUMMARY:Iona Communion service
DTSTART;TZID=Europe/London:20261025T100000
DTEND;TZID=Europe/London:20261025T104500
DTSTAMP:20260420T134204Z
UID:10982762026-10-25 10:00:00+00:00achurchnearyou
CATEGORIES:
DESCRIPTION:A service of Holy Communion using the Iona liturgy. We use a c
 ombination of traditional and more modern songs.
GEO:-0.413726;51.188642
LOCATION:Holmbury Church
URL:https://www.achurchnearyou.com/church/8263/service-and-events/events/1
 098276/
END:VEVENT
BEGIN:VEVENT
SUMMARY:Iona Communion service
DTSTART;TZID=Europe/London:20261122T100000
DTEND;TZID=Europe/London:20261122T104500
DTSTAMP:20260420T134204Z
UID:10982762026-11-22 10:00:00+00:00achurchnearyou
CATEGORIES:
DESCRIPTION:A service of Holy Communion using the Iona liturgy. We use a c
 ombination of traditional and more modern songs.
GEO:-0.413726;51.188642
LOCATION:Holmbury Church
URL:https://www.achurchnearyou.com/church/8263/service-and-events/events/1
 098276/
END:VEVENT
BEGIN:VEVENT
SUMMARY:Iona Communion service
DTSTART;TZID=Europe/London:20261227T100000
DTEND;TZID=Europe/London:20261227T104500
DTSTAMP:20260420T134204Z
UID:10982762026-12-27 10:00:00+00:00achurchnearyou
CATEGORIES:
DESCRIPTION:A service of Holy Communion using the Iona liturgy. We use a c
 ombination of traditional and more modern songs.
GEO:-0.413726;51.188642
LOCATION:Holmbury Church
URL:https://www.achurchnearyou.com/church/8263/service-and-events/events/1
 098276/
END:VEVENT
BEGIN:VEVENT
SUMMARY:Iona Communion service
DTSTART;TZID=Europe/London:20270124T100000
DTEND;TZID=Europe/London:20270124T104500
DTSTAMP:20260420T134204Z
UID:10982762027-01-24 10:00:00+00:00achurchnearyou
CATEGORIES:
DESCRIPTION:A service of Holy Communion using the Iona liturgy. We use a c
 ombination of traditional and more modern songs.
GEO:-0.413726;51.188642
LOCATION:Holmbury Church
URL:https://www.achurchnearyou.com/church/8263/service-and-events/events/1
 098276/
END:VEVENT
BEGIN:VEVENT
SUMMARY:Iona Communion service
DTSTART;TZID=Europe/London:20270228T100000
DTEND;TZID=Europe/London:20270228T104500
DTSTAMP:20260420T134204Z
UID:10982762027-02-28 10:00:00+00:00achurchnearyou
CATEGORIES:
DESCRIPTION:A service of Holy Communion using the Iona liturgy. We use a c
 ombination of traditional and more modern songs.
GEO:-0.413726;51.188642
LOCATION:Holmbury Church
URL:https://www.achurchnearyou.com/church/8263/service-and-events/events/1
 098276/
END:VEVENT
BEGIN:VEVENT
SUMMARY:Iona Communion service
DTSTART;TZID=Europe/London:20270328T100000
DTEND;TZID=Europe/London:20270328T104500
DTSTAMP:20260420T134204Z
UID:10982762027-03-28 10:00:00+01:00achurchnearyou
CATEGORIES:
DESCRIPTION:A service of Holy Communion using the Iona liturgy. We use a c
 ombination of traditional and more modern songs.
GEO:-0.413726;51.188642
LOCATION:Holmbury Church
URL:https://www.achurchnearyou.com/church/8263/service-and-events/events/1
 098276/
END:VEVENT
END:VCALENDAR
