BEGIN:VCALENDAR
VERSION:2.0
PRODID:-//achurchnearyou.com//eventfeed//EN
CALSCALE:GREGORIAN
METHOD:PUBLISH
X-WR-TIMEZONE:UTC
BEGIN:VEVENT
SUMMARY:August Holiday Crafts
DTSTART;TZID=Europe/London:20250807T110000
DTEND;TZID=Europe/London:20250807T130000
DTSTAMP:20260421T085344Z
UID:12110862025-08-07 11:00:00+01:00achurchnearyou
CATEGORIES:
DESCRIPTION:Join us on Thursdays in August from 11am to 1pm and be creativ
 e. Crafts for all ages. Some fun crafts for children and adults will be av
 ailable\, refreshments available as we will be run alongside the Church Ca
 fe. \nDates\nThursday August 7th\nThursday August 14th\nThursday August 28
 th\nNOT Thursday August 21st as Hear Here Clinic\n\nNo charge and no booki
 ng needed\, donations welcomed.
GEO:-0.413726;51.188642
LOCATION:Holmbury Church
URL:https://www.achurchnearyou.com/church/8263/service-and-events/events/1
 211086/
END:VEVENT
BEGIN:VEVENT
SUMMARY:August Holiday Crafts
DTSTART;TZID=Europe/London:20250814T110000
DTEND;TZID=Europe/London:20250814T130000
DTSTAMP:20260421T085344Z
UID:12110862025-08-14 11:00:00+01:00achurchnearyou
CATEGORIES:
DESCRIPTION:Join us on Thursdays in August from 11am to 1pm and be creativ
 e. Crafts for all ages. Some fun crafts for children and adults will be av
 ailable\, refreshments available as we will be run alongside the Church Ca
 fe. \nDates\nThursday August 7th\nThursday August 14th\nThursday August 28
 th\nNOT Thursday August 21st as Hear Here Clinic\n\nNo charge and no booki
 ng needed\, donations welcomed.
GEO:-0.413726;51.188642
LOCATION:Holmbury Church
URL:https://www.achurchnearyou.com/church/8263/service-and-events/events/1
 211086/
END:VEVENT
BEGIN:VEVENT
SUMMARY:August Holiday Crafts
DTSTART;TZID=Europe/London:20250828T110000
DTEND;TZID=Europe/London:20250828T130000
DTSTAMP:20260421T085344Z
UID:12110862025-08-28 11:00:00+01:00achurchnearyou
CATEGORIES:
DESCRIPTION:Join us on Thursdays in August from 11am to 1pm and be creativ
 e. Crafts for all ages. Some fun crafts for children and adults will be av
 ailable\, refreshments available as we will be run alongside the Church Ca
 fe. \nDates\nThursday August 7th\nThursday August 14th\nThursday August 28
 th\nNOT Thursday August 21st as Hear Here Clinic\n\nNo charge and no booki
 ng needed\, donations welcomed.
GEO:-0.413726;51.188642
LOCATION:Holmbury Church
URL:https://www.achurchnearyou.com/church/8263/service-and-events/events/1
 211086/
END:VEVENT
END:VCALENDAR
