BEGIN:VCALENDAR
VERSION:2.0
PRODID:-//achurchnearyou.com//eventfeed//EN
CALSCALE:GREGORIAN
METHOD:PUBLISH
X-WR-TIMEZONE:UTC
BEGIN:VEVENT
SUMMARY:Palm Sunday Service of Holy Communion in Holmbury
DTSTART:20260329T090000Z
DTEND:20260329T100000Z
DTSTAMP:20260420T173849Z
UID:13016732026-03-29 09:00:00+00:00achurchnearyou
CATEGORIES:
DESCRIPTION:Sunday March 29th will be our Palm Sunday service at the usual
  time of 10am in Holmbury church. This will be a service with Holy Communi
 on. \nThe 5th Sunday is usually a benefice service at one of the 4 churche
 s in the benefice. But this month\, March\, each of the churches will hold
  their own service as it is Palm Sunday & the start of Holy week.\nThere w
 ill be a benefice service the Sunday after Easter Sunday.
GEO:-0.413726;51.188642
LOCATION:Holmbury Church
URL:https://www.achurchnearyou.com/church/8263/service-and-events/events/1
 301673/
END:VEVENT
END:VCALENDAR
