BEGIN:VCALENDAR
VERSION:2.0
PRODID:-//achurchnearyou.com//eventfeed//EN
CALSCALE:GREGORIAN
METHOD:PUBLISH
X-WR-TIMEZONE:UTC
BEGIN:VEVENT
SUMMARY:Institution of the Lord's Supper\, Maundy Thursday
DTSTART:20260402T180000Z
DTEND:20260402T190000Z
DTSTAMP:20260420T173818Z
UID:13018342026-04-02 18:00:00+00:00achurchnearyou
CATEGORIES:
DESCRIPTION:This service\, the Institution of the Lord's Supper\, will be 
 a Benefice service at Christ church\, Coldharbour. The service is based ar
 ound the Last Supper when Jesus is with his disciples.
LOCATION:Christ Church\, Coldharbour
URL:https://www.achurchnearyou.com/church/8263/service-and-events/events/1
 301834/
END:VEVENT
END:VCALENDAR
