BEGIN:VCALENDAR
VERSION:2.0
PRODID:-//achurchnearyou.com//eventfeed//EN
CALSCALE:GREGORIAN
METHOD:PUBLISH
X-WR-TIMEZONE:UTC
BEGIN:VEVENT
SUMMARY:Good Friday Benefice Service
DTSTART:20260403T120000Z
DTEND:20260403T130000Z
DTSTAMP:20260420T173827Z
UID:13018522026-04-03 12:00:00+00:00achurchnearyou
CATEGORIES:
DESCRIPTION:A chance for the benefice to gather together on Good Friday to
  reflect on the events of that day long ago. Visitors to the area are welc
 ome to join us. the service is in Abinger church.\nThere is a light lunch 
 serviced just before this\, please join us for the lunc and service. If po
 ssible\, please let Abinger know if you would like lunch: you can contact 
 Sally\, the church administrator\, at parishoffice@abingerandcoldharbour.o
 rg or call 01306 737160. Thank you
LOCATION:St James's Church\, Abinger Common
URL:https://www.achurchnearyou.com/church/8263/service-and-events/events/1
 301852/
END:VEVENT
END:VCALENDAR
