BEGIN:VCALENDAR
VERSION:2.0
PRODID:-//achurchnearyou.com//eventfeed//EN
CALSCALE:GREGORIAN
METHOD:PUBLISH
X-WR-TIMEZONE:UTC
BEGIN:VEVENT
SUMMARY:Soup and Pud Social\, 12-2pm Wed 26th Feb
DTSTART:20250226T120000Z
DTEND:20250226T140000Z
DTSTAMP:20260420T082650Z
UID:11579762025-02-26 12:00:00+00:00achurchnearyou
CATEGORIES:
DESCRIPTION:All welcome to a fun social lunch at Tarset Village Hall. Good
  food\, good company\, good countryside. Only £8 with proceeds to church 
 funds.
LOCATION:Tarset Village Hall
URL:https://www.achurchnearyou.com/church/8271/service-and-events/events/1
 157976/
END:VEVENT
END:VCALENDAR
