BEGIN:VCALENDAR
VERSION:2.0
PRODID:-//achurchnearyou.com//eventfeed//EN
CALSCALE:GREGORIAN
METHOD:PUBLISH
X-WR-TIMEZONE:UTC
BEGIN:VEVENT
SUMMARY:Good Friday hour at the cross 2-3pm
DTSTART:20260403T130000Z
DTEND:20260403T140000Z
DTSTAMP:20260419T180454Z
UID:13069332026-04-03 13:00:00+00:00achurchnearyou
CATEGORIES:
DESCRIPTION:Join us for a quiet hour of contemplation at the time of Jesus
 ' crucifixion\, 2-3pm on Friday 3rd April
GEO:-2.101483;55.23365
LOCATION:Elsdon: St Cuthbert
URL:https://www.achurchnearyou.com/church/8272/service-and-events/events/1
 306933/
END:VEVENT
END:VCALENDAR
