BEGIN:VCALENDAR
VERSION:2.0
PRODID:-//achurchnearyou.com//eventfeed//EN
CALSCALE:GREGORIAN
METHOD:PUBLISH
X-WR-TIMEZONE:UTC
BEGIN:VEVENT
SUMMARY:All Age Service
DTSTART;TZID=Europe/London:20260503T100000
DTEND;TZID=Europe/London:20260503T104500
DTSTAMP:20260422T102706Z
UID:40282026-05-03 10:00:00+01:00achurchnearyou
CATEGORIES:
DESCRIPTION:Our All Age service runs on the 1st Sunday of every month\, wi
 th singing\, Bible Stories\, and interactive talks.  While this service is
  particularly aimed at families\, and children\, it is of course open to "
 All Ages".
GEO:-0.28348;51.378139
LOCATION:St Georges\, Tolworth
URL:https://www.stgeorgestolworth.org.uk/children.htm
END:VEVENT
BEGIN:VEVENT
SUMMARY:All Age Service
DTSTART;TZID=Europe/London:20260607T100000
DTEND;TZID=Europe/London:20260607T104500
DTSTAMP:20260422T102706Z
UID:40282026-06-07 10:00:00+01:00achurchnearyou
CATEGORIES:
DESCRIPTION:Our All Age service runs on the 1st Sunday of every month\, wi
 th singing\, Bible Stories\, and interactive talks.  While this service is
  particularly aimed at families\, and children\, it is of course open to "
 All Ages".
GEO:-0.28348;51.378139
LOCATION:St Georges\, Tolworth
URL:https://www.stgeorgestolworth.org.uk/children.htm
END:VEVENT
BEGIN:VEVENT
SUMMARY:All Age Service
DTSTART;TZID=Europe/London:20260705T100000
DTEND;TZID=Europe/London:20260705T104500
DTSTAMP:20260422T102706Z
UID:40282026-07-05 10:00:00+01:00achurchnearyou
CATEGORIES:
DESCRIPTION:Our All Age service runs on the 1st Sunday of every month\, wi
 th singing\, Bible Stories\, and interactive talks.  While this service is
  particularly aimed at families\, and children\, it is of course open to "
 All Ages".
GEO:-0.28348;51.378139
LOCATION:St Georges\, Tolworth
URL:https://www.stgeorgestolworth.org.uk/children.htm
END:VEVENT
BEGIN:VEVENT
SUMMARY:All Age Service
DTSTART;TZID=Europe/London:20260802T100000
DTEND;TZID=Europe/London:20260802T104500
DTSTAMP:20260422T102706Z
UID:40282026-08-02 10:00:00+01:00achurchnearyou
CATEGORIES:
DESCRIPTION:Our All Age service runs on the 1st Sunday of every month\, wi
 th singing\, Bible Stories\, and interactive talks.  While this service is
  particularly aimed at families\, and children\, it is of course open to "
 All Ages".
GEO:-0.28348;51.378139
LOCATION:St Georges\, Tolworth
URL:https://www.stgeorgestolworth.org.uk/children.htm
END:VEVENT
BEGIN:VEVENT
SUMMARY:All Age Service
DTSTART;TZID=Europe/London:20260906T100000
DTEND;TZID=Europe/London:20260906T104500
DTSTAMP:20260422T102706Z
UID:40282026-09-06 10:00:00+01:00achurchnearyou
CATEGORIES:
DESCRIPTION:Our All Age service runs on the 1st Sunday of every month\, wi
 th singing\, Bible Stories\, and interactive talks.  While this service is
  particularly aimed at families\, and children\, it is of course open to "
 All Ages".
GEO:-0.28348;51.378139
LOCATION:St Georges\, Tolworth
URL:https://www.stgeorgestolworth.org.uk/children.htm
END:VEVENT
BEGIN:VEVENT
SUMMARY:All Age Service
DTSTART;TZID=Europe/London:20261004T100000
DTEND;TZID=Europe/London:20261004T104500
DTSTAMP:20260422T102706Z
UID:40282026-10-04 10:00:00+01:00achurchnearyou
CATEGORIES:
DESCRIPTION:Our All Age service runs on the 1st Sunday of every month\, wi
 th singing\, Bible Stories\, and interactive talks.  While this service is
  particularly aimed at families\, and children\, it is of course open to "
 All Ages".
GEO:-0.28348;51.378139
LOCATION:St Georges\, Tolworth
URL:https://www.stgeorgestolworth.org.uk/children.htm
END:VEVENT
BEGIN:VEVENT
SUMMARY:All Age Service
DTSTART;TZID=Europe/London:20261101T100000
DTEND;TZID=Europe/London:20261101T104500
DTSTAMP:20260422T102706Z
UID:40282026-11-01 10:00:00+00:00achurchnearyou
CATEGORIES:
DESCRIPTION:Our All Age service runs on the 1st Sunday of every month\, wi
 th singing\, Bible Stories\, and interactive talks.  While this service is
  particularly aimed at families\, and children\, it is of course open to "
 All Ages".
GEO:-0.28348;51.378139
LOCATION:St Georges\, Tolworth
URL:https://www.stgeorgestolworth.org.uk/children.htm
END:VEVENT
BEGIN:VEVENT
SUMMARY:All Age Service
DTSTART;TZID=Europe/London:20261206T100000
DTEND;TZID=Europe/London:20261206T104500
DTSTAMP:20260422T102706Z
UID:40282026-12-06 10:00:00+00:00achurchnearyou
CATEGORIES:
DESCRIPTION:Our All Age service runs on the 1st Sunday of every month\, wi
 th singing\, Bible Stories\, and interactive talks.  While this service is
  particularly aimed at families\, and children\, it is of course open to "
 All Ages".
GEO:-0.28348;51.378139
LOCATION:St Georges\, Tolworth
URL:https://www.stgeorgestolworth.org.uk/children.htm
END:VEVENT
BEGIN:VEVENT
SUMMARY:All Age Service
DTSTART;TZID=Europe/London:20270103T100000
DTEND;TZID=Europe/London:20270103T104500
DTSTAMP:20260422T102706Z
UID:40282027-01-03 10:00:00+00:00achurchnearyou
CATEGORIES:
DESCRIPTION:Our All Age service runs on the 1st Sunday of every month\, wi
 th singing\, Bible Stories\, and interactive talks.  While this service is
  particularly aimed at families\, and children\, it is of course open to "
 All Ages".
GEO:-0.28348;51.378139
LOCATION:St Georges\, Tolworth
URL:https://www.stgeorgestolworth.org.uk/children.htm
END:VEVENT
BEGIN:VEVENT
SUMMARY:All Age Service
DTSTART;TZID=Europe/London:20270207T100000
DTEND;TZID=Europe/London:20270207T104500
DTSTAMP:20260422T102706Z
UID:40282027-02-07 10:00:00+00:00achurchnearyou
CATEGORIES:
DESCRIPTION:Our All Age service runs on the 1st Sunday of every month\, wi
 th singing\, Bible Stories\, and interactive talks.  While this service is
  particularly aimed at families\, and children\, it is of course open to "
 All Ages".
GEO:-0.28348;51.378139
LOCATION:St Georges\, Tolworth
URL:https://www.stgeorgestolworth.org.uk/children.htm
END:VEVENT
BEGIN:VEVENT
SUMMARY:All Age Service
DTSTART;TZID=Europe/London:20270307T100000
DTEND;TZID=Europe/London:20270307T104500
DTSTAMP:20260422T102706Z
UID:40282027-03-07 10:00:00+00:00achurchnearyou
CATEGORIES:
DESCRIPTION:Our All Age service runs on the 1st Sunday of every month\, wi
 th singing\, Bible Stories\, and interactive talks.  While this service is
  particularly aimed at families\, and children\, it is of course open to "
 All Ages".
GEO:-0.28348;51.378139
LOCATION:St Georges\, Tolworth
URL:https://www.stgeorgestolworth.org.uk/children.htm
END:VEVENT
BEGIN:VEVENT
SUMMARY:All Age Service
DTSTART;TZID=Europe/London:20270404T100000
DTEND;TZID=Europe/London:20270404T104500
DTSTAMP:20260422T102706Z
UID:40282027-04-04 10:00:00+01:00achurchnearyou
CATEGORIES:
DESCRIPTION:Our All Age service runs on the 1st Sunday of every month\, wi
 th singing\, Bible Stories\, and interactive talks.  While this service is
  particularly aimed at families\, and children\, it is of course open to "
 All Ages".
GEO:-0.28348;51.378139
LOCATION:St Georges\, Tolworth
URL:https://www.stgeorgestolworth.org.uk/children.htm
END:VEVENT
END:VCALENDAR
