BEGIN:VCALENDAR
VERSION:2.0
PRODID:-//achurchnearyou.com//eventfeed//EN
CALSCALE:GREGORIAN
METHOD:PUBLISH
X-WR-TIMEZONE:UTC
BEGIN:VEVENT
SUMMARY:Mothering Sunday Holy Communion
DTSTART:20250330T100000Z
DTEND:20250330T110000Z
DTSTAMP:20260419T200613Z
UID:11654832025-03-30 10:00:00+00:00achurchnearyou
CATEGORIES:
DESCRIPTION:Lent 4
LOCATION:North Wootton: St Peter
URL:https://www.achurchnearyou.com/church/8280/service-and-events/events/1
 165483/
END:VEVENT
END:VCALENDAR
