BEGIN:VCALENDAR
VERSION:2.0
PRODID:-//achurchnearyou.com//eventfeed//EN
CALSCALE:GREGORIAN
METHOD:PUBLISH
X-WR-TIMEZONE:UTC
BEGIN:VEVENT
SUMMARY:Joint Benefice Holy Communion
DTSTART:20260201T103000Z
DTEND:20260201T113000Z
DTSTAMP:20260420T075048Z
UID:12773342026-02-01 10:30:00+00:00achurchnearyou
CATEGORIES:
DESCRIPTION:Presentation of Christ in the Temple
GEO:-2.587276;51.197457
LOCATION:Croscombe: The Blessed Virgin Mary
URL:https://www.achurchnearyou.com/church/8281/service-and-events/events/1
 277334/
END:VEVENT
END:VCALENDAR
