BEGIN:VCALENDAR
VERSION:2.0
PRODID:-//achurchnearyou.com//eventfeed//EN
CALSCALE:GREGORIAN
METHOD:PUBLISH
X-WR-TIMEZONE:UTC
BEGIN:VEVENT
SUMMARY:Lent Study Group - 'Living Hope'
DTSTART;TZID=Europe/London:20250304T190000
DTEND;TZID=Europe/London:20250304T204500
DTSTAMP:20260422T194837Z
UID:11632862025-03-04 19:00:00+00:00achurchnearyou
CATEGORIES:
DESCRIPTION:Bible Study and reflection based on this year's Lent theme.\nE
 very Tuesday @ 19:00\,  4th March - 15th April  in church lounge area.\n\n
 See attached flyer for more details.
GEO:-0.058092;51.427929
LOCATION:St Bart's\, Sydenham
URL:https://www.achurchnearyou.com/church/836/service-and-events/events/11
 63286/
END:VEVENT
BEGIN:VEVENT
SUMMARY:Lent Study Group - 'Living Hope'
DTSTART;TZID=Europe/London:20250311T190000
DTEND;TZID=Europe/London:20250311T204500
DTSTAMP:20260422T194837Z
UID:11632862025-03-11 19:00:00+00:00achurchnearyou
CATEGORIES:
DESCRIPTION:Bible Study and reflection based on this year's Lent theme.\nE
 very Tuesday @ 19:00\,  4th March - 15th April  in church lounge area.\n\n
 See attached flyer for more details.
GEO:-0.058092;51.427929
LOCATION:St Bart's\, Sydenham
URL:https://www.achurchnearyou.com/church/836/service-and-events/events/11
 63286/
END:VEVENT
BEGIN:VEVENT
SUMMARY:Lent Study Group - 'Living Hope'
DTSTART;TZID=Europe/London:20250318T190000
DTEND;TZID=Europe/London:20250318T204500
DTSTAMP:20260422T194837Z
UID:11632862025-03-18 19:00:00+00:00achurchnearyou
CATEGORIES:
DESCRIPTION:Bible Study and reflection based on this year's Lent theme.\nE
 very Tuesday @ 19:00\,  4th March - 15th April  in church lounge area.\n\n
 See attached flyer for more details.
GEO:-0.058092;51.427929
LOCATION:St Bart's\, Sydenham
URL:https://www.achurchnearyou.com/church/836/service-and-events/events/11
 63286/
END:VEVENT
BEGIN:VEVENT
SUMMARY:Lent Study Group - 'Living Hope'
DTSTART;TZID=Europe/London:20250325T190000
DTEND;TZID=Europe/London:20250325T204500
DTSTAMP:20260422T194837Z
UID:11632862025-03-25 19:00:00+00:00achurchnearyou
CATEGORIES:
DESCRIPTION:Bible Study and reflection based on this year's Lent theme.\nE
 very Tuesday @ 19:00\,  4th March - 15th April  in church lounge area.\n\n
 See attached flyer for more details.
GEO:-0.058092;51.427929
LOCATION:St Bart's\, Sydenham
URL:https://www.achurchnearyou.com/church/836/service-and-events/events/11
 63286/
END:VEVENT
BEGIN:VEVENT
SUMMARY:Lent Study Group - 'Living Hope'
DTSTART;TZID=Europe/London:20250401T190000
DTEND;TZID=Europe/London:20250401T204500
DTSTAMP:20260422T194837Z
UID:11632862025-04-01 19:00:00+01:00achurchnearyou
CATEGORIES:
DESCRIPTION:Bible Study and reflection based on this year's Lent theme.\nE
 very Tuesday @ 19:00\,  4th March - 15th April  in church lounge area.\n\n
 See attached flyer for more details.
GEO:-0.058092;51.427929
LOCATION:St Bart's\, Sydenham
URL:https://www.achurchnearyou.com/church/836/service-and-events/events/11
 63286/
END:VEVENT
BEGIN:VEVENT
SUMMARY:Lent Study Group - 'Living Hope'
DTSTART;TZID=Europe/London:20250408T190000
DTEND;TZID=Europe/London:20250408T204500
DTSTAMP:20260422T194837Z
UID:11632862025-04-08 19:00:00+01:00achurchnearyou
CATEGORIES:
DESCRIPTION:Bible Study and reflection based on this year's Lent theme.\nE
 very Tuesday @ 19:00\,  4th March - 15th April  in church lounge area.\n\n
 See attached flyer for more details.
GEO:-0.058092;51.427929
LOCATION:St Bart's\, Sydenham
URL:https://www.achurchnearyou.com/church/836/service-and-events/events/11
 63286/
END:VEVENT
BEGIN:VEVENT
SUMMARY:Lent Study Group - 'Living Hope'
DTSTART;TZID=Europe/London:20250415T190000
DTEND;TZID=Europe/London:20250415T204500
DTSTAMP:20260422T194837Z
UID:11632862025-04-15 19:00:00+01:00achurchnearyou
CATEGORIES:
DESCRIPTION:Bible Study and reflection based on this year's Lent theme.\nE
 very Tuesday @ 19:00\,  4th March - 15th April  in church lounge area.\n\n
 See attached flyer for more details.
GEO:-0.058092;51.427929
LOCATION:St Bart's\, Sydenham
URL:https://www.achurchnearyou.com/church/836/service-and-events/events/11
 63286/
END:VEVENT
END:VCALENDAR
