BEGIN:VCALENDAR
VERSION:2.0
PRODID:-//achurchnearyou.com//eventfeed//EN
CALSCALE:GREGORIAN
METHOD:PUBLISH
X-WR-TIMEZONE:UTC
BEGIN:VEVENT
SUMMARY:"One Body\, One Bread"
DTSTART;TZID=Europe/London:20250323T153000
DTEND;TZID=Europe/London:20250323T173000
DTSTAMP:20260422T175910Z
UID:11633432025-03-23 15:30:00+00:00achurchnearyou
CATEGORIES:
DESCRIPTION:Explore together how and why we celebrate Holy Communion.\n\nP
 lanned primarily for those young people\, together with their families\, p
 reparing to be admitted to receive Holy Communion\, but open to everyone w
 ho would like a simple refresher on this central act of our worship.\n\nSe
 e attached flyer for full details.
GEO:-0.058092;51.427929
LOCATION:St Bart's\, Sydenham
URL:https://www.achurchnearyou.com/church/836/service-and-events/events/11
 63343/
END:VEVENT
BEGIN:VEVENT
SUMMARY:"One Body\, One Bread"
DTSTART;TZID=Europe/London:20250406T153000
DTEND;TZID=Europe/London:20250406T173000
DTSTAMP:20260422T175910Z
UID:11633432025-04-06 15:30:00+01:00achurchnearyou
CATEGORIES:
DESCRIPTION:Explore together how and why we celebrate Holy Communion.\n\nP
 lanned primarily for those young people\, together with their families\, p
 reparing to be admitted to receive Holy Communion\, but open to everyone w
 ho would like a simple refresher on this central act of our worship.\n\nSe
 e attached flyer for full details.
GEO:-0.058092;51.427929
LOCATION:St Bart's\, Sydenham
URL:https://www.achurchnearyou.com/church/836/service-and-events/events/11
 63343/
END:VEVENT
END:VCALENDAR
