BEGIN:VCALENDAR
VERSION:2.0
PRODID:-//achurchnearyou.com//eventfeed//EN
CALSCALE:GREGORIAN
METHOD:PUBLISH
X-WR-TIMEZONE:UTC
BEGIN:VEVENT
SUMMARY:Music\, Wine & Cheese
DTSTART:20250404T183000Z
DTEND:20250404T203000Z
DTSTAMP:20260422T180121Z
UID:11703972025-04-04 18:30:00+00:00achurchnearyou
CATEGORIES:
DESCRIPTION:An informal get together to enjoy a fine selection of music\, 
 wine\, cheese and good company.\nFriday 4th April 2025  @ 19:30.\nTickets 
 £5 includes cheese and first glass of wine.  07785 905355 or on the door 
 (subject to availability)\nCash bar at very reasonable prices.
GEO:-0.058092;51.427929
LOCATION:St Bart's\, Sydenham
URL:https://www.achurchnearyou.com/church/836/service-and-events/events/11
 70397/
END:VEVENT
END:VCALENDAR
