BEGIN:VCALENDAR
VERSION:2.0
PRODID:-//achurchnearyou.com//eventfeed//EN
CALSCALE:GREGORIAN
METHOD:PUBLISH
X-WR-TIMEZONE:UTC
BEGIN:VEVENT
SUMMARY:Harvest Festival
DTSTART:20250928T090000Z
DTEND:20250928T101500Z
DTSTAMP:20260422T004925Z
UID:12185202025-09-28 09:00:00+00:00achurchnearyou
CATEGORIES:
DESCRIPTION:Sunday 28th September 2025 @ 10:00\nWe will be collecting good
 s for the Lewisham Food Bank and £ for the Christian Aid 'Harvest of Hope
 ' appeal.\n\nSee attached flyer for details.
GEO:-0.058092;51.427929
LOCATION:St Bart's\, Sydenham
URL:https://www.achurchnearyou.com/church/836/service-and-events/events/12
 18520/
END:VEVENT
END:VCALENDAR
