BEGIN:VCALENDAR
VERSION:2.0
PRODID:-//achurchnearyou.com//eventfeed//EN
CALSCALE:GREGORIAN
METHOD:PUBLISH
X-WR-TIMEZONE:UTC
BEGIN:VEVENT
SUMMARY:Dedication Festival
DTSTART:20251005T090000Z
DTEND:20251005T101500Z
DTSTAMP:20260422T004926Z
UID:12185462025-10-05 09:00:00+00:00achurchnearyou
CATEGORIES:
DESCRIPTION:Sunday 5th October @ 10:00\nGiving thanks for the founding of 
 St Bartholomew's as a place of worship and prayer.\nWe welcome the Bishop 
 of Woolwich\, Rt Rev'd Alastair Cutting to preside and preach.\nAll are we
 lcome.
GEO:-0.058092;51.427929
LOCATION:St Bart's\, Sydenham
URL:https://www.achurchnearyou.com/church/836/service-and-events/events/12
 18546/
END:VEVENT
END:VCALENDAR
