BEGIN:VCALENDAR
VERSION:2.0
PRODID:-//achurchnearyou.com//eventfeed//EN
CALSCALE:GREGORIAN
METHOD:PUBLISH
X-WR-TIMEZONE:UTC
BEGIN:VEVENT
SUMMARY:Music\, Cheese & Wine
DTSTART:20250926T180000Z
DTEND:20250926T200000Z
DTSTAMP:20260422T025540Z
UID:12258742025-09-26 18:00:00+00:00achurchnearyou
CATEGORIES:
DESCRIPTION:A relaxed and sociable evening featuring a selection of well-l
 oved Gilbert & Sulivan ensembles & arias\, followed bu cheese\, wine and l
 ively conversation!\n\nTickets £8 - includes cheese and first glass of wi
 ne - available from Eventbright:  eventbrite.co.uk/e/gs-themed-music-chees
 e-and-wine-at-st-bartholomews-tickets-1696144326339\nor call Lesley 07785 
 905355\n\nSee attached flyer for full details.
GEO:-0.058092;51.427929
LOCATION:St Bart's\, Sydenham
URL:https://www.achurchnearyou.com/church/836/service-and-events/events/12
 25874/
END:VEVENT
END:VCALENDAR
