BEGIN:VCALENDAR
VERSION:2.0
PRODID:-//achurchnearyou.com//eventfeed//EN
CALSCALE:GREGORIAN
METHOD:PUBLISH
X-WR-TIMEZONE:UTC
BEGIN:VEVENT
SUMMARY:Beer & Carols!
DTSTART:20251216T190000Z
DTEND:20251216T200000Z
DTSTAMP:20260421T205800Z
UID:12640932025-12-16 19:00:00+00:00achurchnearyou
CATEGORIES:
DESCRIPTION:Carol singing at our local\, The Greyhound.  Tuesday 16th Dece
 mber @ 19:00\nThis was great fun last year\, and is sure to be again this 
 year.  Enjoy a pint or glass of something and sing some favorite carols.\n
 \nSee attached flyer for full details
LOCATION:The Greyhound pub
URL:https://www.achurchnearyou.com/church/836/service-and-events/events/12
 64093/
END:VEVENT
END:VCALENDAR
