BEGIN:VCALENDAR
VERSION:2.0
PRODID:-//achurchnearyou.com//eventfeed//EN
CALSCALE:GREGORIAN
METHOD:PUBLISH
X-WR-TIMEZONE:UTC
BEGIN:VEVENT
SUMMARY:Paul & Pastries
DTSTART:20260222T091500Z
DTEND:20260222T094500Z
DTSTAMP:20260421T172025Z
UID:12797952026-02-22 09:15:00+00:00achurchnearyou
CATEGORIES:
DESCRIPTION:SUNDAY 22nd FEBRUARY  09:15 - 09:45\nRev'd Jim will give a bri
 ef introduction to St Paul's Letter to the Romans\, while Mthr Bethany ser
 ves breakfast pastries & coffee!\nMost weeks through Lent our first readin
 g on Sunday mornings will come from Romans\, and our Lent group 'Gracious 
 Dialogue' will also explore different interpretations f key passages in Ro
 mans.  This short breakfast introduction offers one way to prepare to hear
  and explore those readings through the Lent season.
GEO:-0.058092;51.427929
LOCATION:St Bart's\, Sydenham
URL:https://www.achurchnearyou.com/church/836/service-and-events/events/12
 79795/
END:VEVENT
END:VCALENDAR
