BEGIN:VCALENDAR
VERSION:2.0
PRODID:-//achurchnearyou.com//eventfeed//EN
CALSCALE:GREGORIAN
METHOD:PUBLISH
X-WR-TIMEZONE:UTC
BEGIN:VEVENT
SUMMARY:Lent Group 2026 - "Gracious Dialogue"
DTSTART;TZID=Europe/London:20260225T110000
DTEND;TZID=Europe/London:20260225T123000
DTSTAMP:20260421T154113Z
UID:12797962026-02-25 11:00:00+00:00achurchnearyou
CATEGORIES:
DESCRIPTION:WEDNESDAYS THROUGH LENT  19:00 - 20:30\n4 weeks of Bible study
 \, informed discussion and respectful conversation.\nUsing material from E
 mbrace The Middle East\, offering differing theological interpretations of
  passages form Romans\, snapshots of key historical moments\, and discussi
 on points to create space for respectful dialogue\, the group aims to help
  us listen and speak well about Israel and Palestine.\nFree to take part\,
  but if you sign up (at back of church) it helps with ordering enough mate
 rials.\nNB The planned Saturday group will not now be happening.
GEO:-0.058092;51.427929
LOCATION:St Bart's\, Sydenham
URL:https://www.achurchnearyou.com/church/836/service-and-events/events/12
 79796/
END:VEVENT
BEGIN:VEVENT
SUMMARY:Lent Group 2026 - "Gracious Dialogue"
DTSTART;TZID=Europe/London:20260304T110000
DTEND;TZID=Europe/London:20260304T123000
DTSTAMP:20260421T154113Z
UID:12797962026-03-04 11:00:00+00:00achurchnearyou
CATEGORIES:
DESCRIPTION:WEDNESDAYS THROUGH LENT  19:00 - 20:30\n4 weeks of Bible study
 \, informed discussion and respectful conversation.\nUsing material from E
 mbrace The Middle East\, offering differing theological interpretations of
  passages form Romans\, snapshots of key historical moments\, and discussi
 on points to create space for respectful dialogue\, the group aims to help
  us listen and speak well about Israel and Palestine.\nFree to take part\,
  but if you sign up (at back of church) it helps with ordering enough mate
 rials.\nNB The planned Saturday group will not now be happening.
GEO:-0.058092;51.427929
LOCATION:St Bart's\, Sydenham
URL:https://www.achurchnearyou.com/church/836/service-and-events/events/12
 79796/
END:VEVENT
BEGIN:VEVENT
SUMMARY:Lent Group 2026 - "Gracious Dialogue"
DTSTART;TZID=Europe/London:20260311T110000
DTEND;TZID=Europe/London:20260311T123000
DTSTAMP:20260421T154113Z
UID:12797962026-03-11 11:00:00+00:00achurchnearyou
CATEGORIES:
DESCRIPTION:WEDNESDAYS THROUGH LENT  19:00 - 20:30\n4 weeks of Bible study
 \, informed discussion and respectful conversation.\nUsing material from E
 mbrace The Middle East\, offering differing theological interpretations of
  passages form Romans\, snapshots of key historical moments\, and discussi
 on points to create space for respectful dialogue\, the group aims to help
  us listen and speak well about Israel and Palestine.\nFree to take part\,
  but if you sign up (at back of church) it helps with ordering enough mate
 rials.\nNB The planned Saturday group will not now be happening.
GEO:-0.058092;51.427929
LOCATION:St Bart's\, Sydenham
URL:https://www.achurchnearyou.com/church/836/service-and-events/events/12
 79796/
END:VEVENT
BEGIN:VEVENT
SUMMARY:Lent Group 2026 - "Gracious Dialogue"
DTSTART;TZID=Europe/London:20260318T110000
DTEND;TZID=Europe/London:20260318T123000
DTSTAMP:20260421T154113Z
UID:12797962026-03-18 11:00:00+00:00achurchnearyou
CATEGORIES:
DESCRIPTION:WEDNESDAYS THROUGH LENT  19:00 - 20:30\n4 weeks of Bible study
 \, informed discussion and respectful conversation.\nUsing material from E
 mbrace The Middle East\, offering differing theological interpretations of
  passages form Romans\, snapshots of key historical moments\, and discussi
 on points to create space for respectful dialogue\, the group aims to help
  us listen and speak well about Israel and Palestine.\nFree to take part\,
  but if you sign up (at back of church) it helps with ordering enough mate
 rials.\nNB The planned Saturday group will not now be happening.
GEO:-0.058092;51.427929
LOCATION:St Bart's\, Sydenham
URL:https://www.achurchnearyou.com/church/836/service-and-events/events/12
 79796/
END:VEVENT
END:VCALENDAR
