BEGIN:VCALENDAR
VERSION:2.0
PRODID:-//achurchnearyou.com//eventfeed//EN
CALSCALE:GREGORIAN
METHOD:PUBLISH
X-WR-TIMEZONE:UTC
BEGIN:VEVENT
SUMMARY:Maundy Thursday 2026
DTSTART;TZID=Europe/London:20260323T193000
DTEND;TZID=Europe/London:20260323T213000
DTSTAMP:20260421T153445Z
UID:13127962026-03-23 19:30:00+00:00achurchnearyou
CATEGORIES:
DESCRIPTION:18:00 - Mass with Prayer for Wholeness & Healing  @ St Philip 
 the Apostle\,  Coomb Rd\, SE26 6QW)\n19:30 - Eucharist of the Last Supper 
  @ St Bartholomew's\n\nAll are welcome
LOCATION:St Bart's\, Sydenham
URL:https://www.achurchnearyou.com/church/836/service-and-events/events/13
 12796/
END:VEVENT
END:VCALENDAR
