BEGIN:VCALENDAR
VERSION:2.0
PRODID:-//achurchnearyou.com//eventfeed//EN
CALSCALE:GREGORIAN
METHOD:PUBLISH
X-WR-TIMEZONE:UTC
BEGIN:VEVENT
SUMMARY:Study Group - The Eucharist
DTSTART;TZID=Europe/London:20260428T190000
DTEND;TZID=Europe/London:20260428T204500
DTSTAMP:20260421T102317Z
UID:13254562026-04-28 19:00:00+01:00achurchnearyou
CATEGORIES:
DESCRIPTION:Tuesday's\, starting 28th April @ 19:00\n\nStudy of the biblic
 al origins of the Eucharist\nDiscussion of it's place in the Church's wors
 hip\nConversation about our own experiences and what it means to us\n\nAll
  are welcome - faithful\, doubtful or just curious
GEO:-0.058092;51.427929
LOCATION:St Bart's\, Sydenham
URL:https://www.achurchnearyou.com/church/836/service-and-events/events/13
 25456/
END:VEVENT
BEGIN:VEVENT
SUMMARY:Study Group - The Eucharist
DTSTART;TZID=Europe/London:20260505T190000
DTEND;TZID=Europe/London:20260505T204500
DTSTAMP:20260421T102317Z
UID:13254562026-05-05 19:00:00+01:00achurchnearyou
CATEGORIES:
DESCRIPTION:Tuesday's\, starting 28th April @ 19:00\n\nStudy of the biblic
 al origins of the Eucharist\nDiscussion of it's place in the Church's wors
 hip\nConversation about our own experiences and what it means to us\n\nAll
  are welcome - faithful\, doubtful or just curious
GEO:-0.058092;51.427929
LOCATION:St Bart's\, Sydenham
URL:https://www.achurchnearyou.com/church/836/service-and-events/events/13
 25456/
END:VEVENT
BEGIN:VEVENT
SUMMARY:Study Group - The Eucharist
DTSTART;TZID=Europe/London:20260512T190000
DTEND;TZID=Europe/London:20260512T204500
DTSTAMP:20260421T102317Z
UID:13254562026-05-12 19:00:00+01:00achurchnearyou
CATEGORIES:
DESCRIPTION:Tuesday's\, starting 28th April @ 19:00\n\nStudy of the biblic
 al origins of the Eucharist\nDiscussion of it's place in the Church's wors
 hip\nConversation about our own experiences and what it means to us\n\nAll
  are welcome - faithful\, doubtful or just curious
GEO:-0.058092;51.427929
LOCATION:St Bart's\, Sydenham
URL:https://www.achurchnearyou.com/church/836/service-and-events/events/13
 25456/
END:VEVENT
BEGIN:VEVENT
SUMMARY:Study Group - The Eucharist
DTSTART;TZID=Europe/London:20260519T190000
DTEND;TZID=Europe/London:20260519T204500
DTSTAMP:20260421T102317Z
UID:13254562026-05-19 19:00:00+01:00achurchnearyou
CATEGORIES:
DESCRIPTION:Tuesday's\, starting 28th April @ 19:00\n\nStudy of the biblic
 al origins of the Eucharist\nDiscussion of it's place in the Church's wors
 hip\nConversation about our own experiences and what it means to us\n\nAll
  are welcome - faithful\, doubtful or just curious
GEO:-0.058092;51.427929
LOCATION:St Bart's\, Sydenham
URL:https://www.achurchnearyou.com/church/836/service-and-events/events/13
 25456/
END:VEVENT
BEGIN:VEVENT
SUMMARY:Study Group - The Eucharist
DTSTART;TZID=Europe/London:20260602T190000
DTEND;TZID=Europe/London:20260602T204500
DTSTAMP:20260421T102317Z
UID:13254562026-06-02 19:00:00+01:00achurchnearyou
CATEGORIES:
DESCRIPTION:Tuesday's\, starting 28th April @ 19:00\n\nStudy of the biblic
 al origins of the Eucharist\nDiscussion of it's place in the Church's wors
 hip\nConversation about our own experiences and what it means to us\n\nAll
  are welcome - faithful\, doubtful or just curious
GEO:-0.058092;51.427929
LOCATION:St Bart's\, Sydenham
URL:https://www.achurchnearyou.com/church/836/service-and-events/events/13
 25456/
END:VEVENT
BEGIN:VEVENT
SUMMARY:Study Group - The Eucharist
DTSTART;TZID=Europe/London:20260609T190000
DTEND;TZID=Europe/London:20260609T204500
DTSTAMP:20260421T102317Z
UID:13254562026-06-09 19:00:00+01:00achurchnearyou
CATEGORIES:
DESCRIPTION:Tuesday's\, starting 28th April @ 19:00\n\nStudy of the biblic
 al origins of the Eucharist\nDiscussion of it's place in the Church's wors
 hip\nConversation about our own experiences and what it means to us\n\nAll
  are welcome - faithful\, doubtful or just curious
GEO:-0.058092;51.427929
LOCATION:St Bart's\, Sydenham
URL:https://www.achurchnearyou.com/church/836/service-and-events/events/13
 25456/
END:VEVENT
END:VCALENDAR
