BEGIN:VCALENDAR
VERSION:2.0
PRODID:-//achurchnearyou.com//eventfeed//EN
CALSCALE:GREGORIAN
METHOD:PUBLISH
X-WR-TIMEZONE:UTC
BEGIN:VEVENT
SUMMARY:Service of Holy Communion
DTSTART;TZID=Europe/London:20240204T103000
DTEND;TZID=Europe/London:20240204T113000
DTSTAMP:20260421T172030Z
UID:10299892024-02-04 10:30:00+00:00achurchnearyou
CATEGORIES:
DESCRIPTION:We hold a service in English language on the first Sunday of e
 ach month at the church in Courcelles. Normally this is a service of Holy 
 Communion although occasionally this may vary. We enjoy coffee and a time 
 to chat afterwards. All are welcome regardless of denomination.
GEO:-0.4708946605601372;45.954880052339085
LOCATION:Anglican congregation in Courcelles
URL:https://www.achurchnearyou.com/church/8380/service-and-events/events/1
 029989/
END:VEVENT
BEGIN:VEVENT
SUMMARY:Service of Holy Communion
DTSTART;TZID=Europe/London:20240303T103000
DTEND;TZID=Europe/London:20240303T113000
DTSTAMP:20260421T172030Z
UID:10299892024-03-03 10:30:00+00:00achurchnearyou
CATEGORIES:
DESCRIPTION:We hold a service in English language on the first Sunday of e
 ach month at the church in Courcelles. Normally this is a service of Holy 
 Communion although occasionally this may vary. We enjoy coffee and a time 
 to chat afterwards. All are welcome regardless of denomination.
GEO:-0.4708946605601372;45.954880052339085
LOCATION:Anglican congregation in Courcelles
URL:https://www.achurchnearyou.com/church/8380/service-and-events/events/1
 029989/
END:VEVENT
BEGIN:VEVENT
SUMMARY:Service of Holy Communion
DTSTART;TZID=Europe/London:20240407T103000
DTEND;TZID=Europe/London:20240407T113000
DTSTAMP:20260421T172030Z
UID:10299892024-04-07 10:30:00+01:00achurchnearyou
CATEGORIES:
DESCRIPTION:We hold a service in English language on the first Sunday of e
 ach month at the church in Courcelles. Normally this is a service of Holy 
 Communion although occasionally this may vary. We enjoy coffee and a time 
 to chat afterwards. All are welcome regardless of denomination.
GEO:-0.4708946605601372;45.954880052339085
LOCATION:Anglican congregation in Courcelles
URL:https://www.achurchnearyou.com/church/8380/service-and-events/events/1
 029989/
END:VEVENT
BEGIN:VEVENT
SUMMARY:Service of Holy Communion
DTSTART;TZID=Europe/London:20240505T103000
DTEND;TZID=Europe/London:20240505T113000
DTSTAMP:20260421T172030Z
UID:10299892024-05-05 10:30:00+01:00achurchnearyou
CATEGORIES:
DESCRIPTION:We hold a service in English language on the first Sunday of e
 ach month at the church in Courcelles. Normally this is a service of Holy 
 Communion although occasionally this may vary. We enjoy coffee and a time 
 to chat afterwards. All are welcome regardless of denomination.
GEO:-0.4708946605601372;45.954880052339085
LOCATION:Anglican congregation in Courcelles
URL:https://www.achurchnearyou.com/church/8380/service-and-events/events/1
 029989/
END:VEVENT
BEGIN:VEVENT
SUMMARY:Service of Holy Communion
DTSTART;TZID=Europe/London:20240602T103000
DTEND;TZID=Europe/London:20240602T113000
DTSTAMP:20260421T172030Z
UID:10299892024-06-02 10:30:00+01:00achurchnearyou
CATEGORIES:
DESCRIPTION:We hold a service in English language on the first Sunday of e
 ach month at the church in Courcelles. Normally this is a service of Holy 
 Communion although occasionally this may vary. We enjoy coffee and a time 
 to chat afterwards. All are welcome regardless of denomination.
GEO:-0.4708946605601372;45.954880052339085
LOCATION:Anglican congregation in Courcelles
URL:https://www.achurchnearyou.com/church/8380/service-and-events/events/1
 029989/
END:VEVENT
BEGIN:VEVENT
SUMMARY:Service of Holy Communion
DTSTART;TZID=Europe/London:20240707T103000
DTEND;TZID=Europe/London:20240707T113000
DTSTAMP:20260421T172030Z
UID:10299892024-07-07 10:30:00+01:00achurchnearyou
CATEGORIES:
DESCRIPTION:We hold a service in English language on the first Sunday of e
 ach month at the church in Courcelles. Normally this is a service of Holy 
 Communion although occasionally this may vary. We enjoy coffee and a time 
 to chat afterwards. All are welcome regardless of denomination.
GEO:-0.4708946605601372;45.954880052339085
LOCATION:Anglican congregation in Courcelles
URL:https://www.achurchnearyou.com/church/8380/service-and-events/events/1
 029989/
END:VEVENT
BEGIN:VEVENT
SUMMARY:Service of Holy Communion
DTSTART;TZID=Europe/London:20240804T103000
DTEND;TZID=Europe/London:20240804T113000
DTSTAMP:20260421T172030Z
UID:10299892024-08-04 10:30:00+01:00achurchnearyou
CATEGORIES:
DESCRIPTION:We hold a service in English language on the first Sunday of e
 ach month at the church in Courcelles. Normally this is a service of Holy 
 Communion although occasionally this may vary. We enjoy coffee and a time 
 to chat afterwards. All are welcome regardless of denomination.
GEO:-0.4708946605601372;45.954880052339085
LOCATION:Anglican congregation in Courcelles
URL:https://www.achurchnearyou.com/church/8380/service-and-events/events/1
 029989/
END:VEVENT
BEGIN:VEVENT
SUMMARY:Service of Holy Communion
DTSTART;TZID=Europe/London:20240901T103000
DTEND;TZID=Europe/London:20240901T113000
DTSTAMP:20260421T172030Z
UID:10299892024-09-01 10:30:00+01:00achurchnearyou
CATEGORIES:
DESCRIPTION:We hold a service in English language on the first Sunday of e
 ach month at the church in Courcelles. Normally this is a service of Holy 
 Communion although occasionally this may vary. We enjoy coffee and a time 
 to chat afterwards. All are welcome regardless of denomination.
GEO:-0.4708946605601372;45.954880052339085
LOCATION:Anglican congregation in Courcelles
URL:https://www.achurchnearyou.com/church/8380/service-and-events/events/1
 029989/
END:VEVENT
BEGIN:VEVENT
SUMMARY:Service of Holy Communion
DTSTART;TZID=Europe/London:20241006T103000
DTEND;TZID=Europe/London:20241006T113000
DTSTAMP:20260421T172030Z
UID:10299892024-10-06 10:30:00+01:00achurchnearyou
CATEGORIES:
DESCRIPTION:We hold a service in English language on the first Sunday of e
 ach month at the church in Courcelles. Normally this is a service of Holy 
 Communion although occasionally this may vary. We enjoy coffee and a time 
 to chat afterwards. All are welcome regardless of denomination.
GEO:-0.4708946605601372;45.954880052339085
LOCATION:Anglican congregation in Courcelles
URL:https://www.achurchnearyou.com/church/8380/service-and-events/events/1
 029989/
END:VEVENT
BEGIN:VEVENT
SUMMARY:Service of Holy Communion
DTSTART;TZID=Europe/London:20241103T103000
DTEND;TZID=Europe/London:20241103T113000
DTSTAMP:20260421T172030Z
UID:10299892024-11-03 10:30:00+00:00achurchnearyou
CATEGORIES:
DESCRIPTION:We hold a service in English language on the first Sunday of e
 ach month at the church in Courcelles. Normally this is a service of Holy 
 Communion although occasionally this may vary. We enjoy coffee and a time 
 to chat afterwards. All are welcome regardless of denomination.
GEO:-0.4708946605601372;45.954880052339085
LOCATION:Anglican congregation in Courcelles
URL:https://www.achurchnearyou.com/church/8380/service-and-events/events/1
 029989/
END:VEVENT
BEGIN:VEVENT
SUMMARY:Service of Holy Communion
DTSTART;TZID=Europe/London:20241201T103000
DTEND;TZID=Europe/London:20241201T113000
DTSTAMP:20260421T172030Z
UID:10299892024-12-01 10:30:00+00:00achurchnearyou
CATEGORIES:
DESCRIPTION:We hold a service in English language on the first Sunday of e
 ach month at the church in Courcelles. Normally this is a service of Holy 
 Communion although occasionally this may vary. We enjoy coffee and a time 
 to chat afterwards. All are welcome regardless of denomination.
GEO:-0.4708946605601372;45.954880052339085
LOCATION:Anglican congregation in Courcelles
URL:https://www.achurchnearyou.com/church/8380/service-and-events/events/1
 029989/
END:VEVENT
BEGIN:VEVENT
SUMMARY:Service of Holy Communion
DTSTART;TZID=Europe/London:20250105T103000
DTEND;TZID=Europe/London:20250105T113000
DTSTAMP:20260421T172030Z
UID:10299892025-01-05 10:30:00+00:00achurchnearyou
CATEGORIES:
DESCRIPTION:We hold a service in English language on the first Sunday of e
 ach month at the church in Courcelles. Normally this is a service of Holy 
 Communion although occasionally this may vary. We enjoy coffee and a time 
 to chat afterwards. All are welcome regardless of denomination.
GEO:-0.4708946605601372;45.954880052339085
LOCATION:Anglican congregation in Courcelles
URL:https://www.achurchnearyou.com/church/8380/service-and-events/events/1
 029989/
END:VEVENT
BEGIN:VEVENT
SUMMARY:Service of Holy Communion
DTSTART;TZID=Europe/London:20250202T103000
DTEND;TZID=Europe/London:20250202T113000
DTSTAMP:20260421T172030Z
UID:10299892025-02-02 10:30:00+00:00achurchnearyou
CATEGORIES:
DESCRIPTION:We hold a service in English language on the first Sunday of e
 ach month at the church in Courcelles. Normally this is a service of Holy 
 Communion although occasionally this may vary. We enjoy coffee and a time 
 to chat afterwards. All are welcome regardless of denomination.
GEO:-0.4708946605601372;45.954880052339085
LOCATION:Anglican congregation in Courcelles
URL:https://www.achurchnearyou.com/church/8380/service-and-events/events/1
 029989/
END:VEVENT
BEGIN:VEVENT
SUMMARY:Service of Holy Communion
DTSTART;TZID=Europe/London:20250302T103000
DTEND;TZID=Europe/London:20250302T113000
DTSTAMP:20260421T172030Z
UID:10299892025-03-02 10:30:00+00:00achurchnearyou
CATEGORIES:
DESCRIPTION:We hold a service in English language on the first Sunday of e
 ach month at the church in Courcelles. Normally this is a service of Holy 
 Communion although occasionally this may vary. We enjoy coffee and a time 
 to chat afterwards. All are welcome regardless of denomination.
GEO:-0.4708946605601372;45.954880052339085
LOCATION:Anglican congregation in Courcelles
URL:https://www.achurchnearyou.com/church/8380/service-and-events/events/1
 029989/
END:VEVENT
BEGIN:VEVENT
SUMMARY:Service of Holy Communion
DTSTART;TZID=Europe/London:20250406T103000
DTEND;TZID=Europe/London:20250406T113000
DTSTAMP:20260421T172030Z
UID:10299892025-04-06 10:30:00+01:00achurchnearyou
CATEGORIES:
DESCRIPTION:We hold a service in English language on the first Sunday of e
 ach month at the church in Courcelles. Normally this is a service of Holy 
 Communion although occasionally this may vary. We enjoy coffee and a time 
 to chat afterwards. All are welcome regardless of denomination.
GEO:-0.4708946605601372;45.954880052339085
LOCATION:Anglican congregation in Courcelles
URL:https://www.achurchnearyou.com/church/8380/service-and-events/events/1
 029989/
END:VEVENT
BEGIN:VEVENT
SUMMARY:Service of Holy Communion
DTSTART;TZID=Europe/London:20250504T103000
DTEND;TZID=Europe/London:20250504T113000
DTSTAMP:20260421T172030Z
UID:10299892025-05-04 10:30:00+01:00achurchnearyou
CATEGORIES:
DESCRIPTION:We hold a service in English language on the first Sunday of e
 ach month at the church in Courcelles. Normally this is a service of Holy 
 Communion although occasionally this may vary. We enjoy coffee and a time 
 to chat afterwards. All are welcome regardless of denomination.
GEO:-0.4708946605601372;45.954880052339085
LOCATION:Anglican congregation in Courcelles
URL:https://www.achurchnearyou.com/church/8380/service-and-events/events/1
 029989/
END:VEVENT
BEGIN:VEVENT
SUMMARY:Service of Holy Communion
DTSTART;TZID=Europe/London:20250601T103000
DTEND;TZID=Europe/London:20250601T113000
DTSTAMP:20260421T172030Z
UID:10299892025-06-01 10:30:00+01:00achurchnearyou
CATEGORIES:
DESCRIPTION:We hold a service in English language on the first Sunday of e
 ach month at the church in Courcelles. Normally this is a service of Holy 
 Communion although occasionally this may vary. We enjoy coffee and a time 
 to chat afterwards. All are welcome regardless of denomination.
GEO:-0.4708946605601372;45.954880052339085
LOCATION:Anglican congregation in Courcelles
URL:https://www.achurchnearyou.com/church/8380/service-and-events/events/1
 029989/
END:VEVENT
BEGIN:VEVENT
SUMMARY:Service of Holy Communion
DTSTART;TZID=Europe/London:20250803T103000
DTEND;TZID=Europe/London:20250803T113000
DTSTAMP:20260421T172030Z
UID:10299892025-08-03 10:30:00+01:00achurchnearyou
CATEGORIES:
DESCRIPTION:We hold a service in English language on the first Sunday of e
 ach month at the church in Courcelles. Normally this is a service of Holy 
 Communion although occasionally this may vary. We enjoy coffee and a time 
 to chat afterwards. All are welcome regardless of denomination.
GEO:-0.4708946605601372;45.954880052339085
LOCATION:Anglican congregation in Courcelles
URL:https://www.achurchnearyou.com/church/8380/service-and-events/events/1
 029989/
END:VEVENT
BEGIN:VEVENT
SUMMARY:Service of Holy Communion
DTSTART;TZID=Europe/London:20250907T103000
DTEND;TZID=Europe/London:20250907T113000
DTSTAMP:20260421T172030Z
UID:10299892025-09-07 10:30:00+01:00achurchnearyou
CATEGORIES:
DESCRIPTION:We hold a service in English language on the first Sunday of e
 ach month at the church in Courcelles. Normally this is a service of Holy 
 Communion although occasionally this may vary. We enjoy coffee and a time 
 to chat afterwards. All are welcome regardless of denomination.
GEO:-0.4708946605601372;45.954880052339085
LOCATION:Anglican congregation in Courcelles
URL:https://www.achurchnearyou.com/church/8380/service-and-events/events/1
 029989/
END:VEVENT
BEGIN:VEVENT
SUMMARY:Service of Holy Communion
DTSTART;TZID=Europe/London:20251005T103000
DTEND;TZID=Europe/London:20251005T113000
DTSTAMP:20260421T172030Z
UID:10299892025-10-05 10:30:00+01:00achurchnearyou
CATEGORIES:
DESCRIPTION:We hold a service in English language on the first Sunday of e
 ach month at the church in Courcelles. Normally this is a service of Holy 
 Communion although occasionally this may vary. We enjoy coffee and a time 
 to chat afterwards. All are welcome regardless of denomination.
GEO:-0.4708946605601372;45.954880052339085
LOCATION:Anglican congregation in Courcelles
URL:https://www.achurchnearyou.com/church/8380/service-and-events/events/1
 029989/
END:VEVENT
BEGIN:VEVENT
SUMMARY:Service of Holy Communion
DTSTART;TZID=Europe/London:20251102T103000
DTEND;TZID=Europe/London:20251102T113000
DTSTAMP:20260421T172030Z
UID:10299892025-11-02 10:30:00+00:00achurchnearyou
CATEGORIES:
DESCRIPTION:We hold a service in English language on the first Sunday of e
 ach month at the church in Courcelles. Normally this is a service of Holy 
 Communion although occasionally this may vary. We enjoy coffee and a time 
 to chat afterwards. All are welcome regardless of denomination.
GEO:-0.4708946605601372;45.954880052339085
LOCATION:Anglican congregation in Courcelles
URL:https://www.achurchnearyou.com/church/8380/service-and-events/events/1
 029989/
END:VEVENT
BEGIN:VEVENT
SUMMARY:Service of Holy Communion
DTSTART;TZID=Europe/London:20251207T103000
DTEND;TZID=Europe/London:20251207T113000
DTSTAMP:20260421T172030Z
UID:10299892025-12-07 10:30:00+00:00achurchnearyou
CATEGORIES:
DESCRIPTION:We hold a service in English language on the first Sunday of e
 ach month at the church in Courcelles. Normally this is a service of Holy 
 Communion although occasionally this may vary. We enjoy coffee and a time 
 to chat afterwards. All are welcome regardless of denomination.
GEO:-0.4708946605601372;45.954880052339085
LOCATION:Anglican congregation in Courcelles
URL:https://www.achurchnearyou.com/church/8380/service-and-events/events/1
 029989/
END:VEVENT
BEGIN:VEVENT
SUMMARY:Service of Holy Communion
DTSTART;TZID=Europe/London:20260104T103000
DTEND;TZID=Europe/London:20260104T113000
DTSTAMP:20260421T172030Z
UID:10299892026-01-04 10:30:00+00:00achurchnearyou
CATEGORIES:
DESCRIPTION:We hold a service in English language on the first Sunday of e
 ach month at the church in Courcelles. Normally this is a service of Holy 
 Communion although occasionally this may vary. We enjoy coffee and a time 
 to chat afterwards. All are welcome regardless of denomination.
GEO:-0.4708946605601372;45.954880052339085
LOCATION:Anglican congregation in Courcelles
URL:https://www.achurchnearyou.com/church/8380/service-and-events/events/1
 029989/
END:VEVENT
BEGIN:VEVENT
SUMMARY:Service of Holy Communion
DTSTART;TZID=Europe/London:20260201T103000
DTEND;TZID=Europe/London:20260201T113000
DTSTAMP:20260421T172030Z
UID:10299892026-02-01 10:30:00+00:00achurchnearyou
CATEGORIES:
DESCRIPTION:We hold a service in English language on the first Sunday of e
 ach month at the church in Courcelles. Normally this is a service of Holy 
 Communion although occasionally this may vary. We enjoy coffee and a time 
 to chat afterwards. All are welcome regardless of denomination.
GEO:-0.4708946605601372;45.954880052339085
LOCATION:Anglican congregation in Courcelles
URL:https://www.achurchnearyou.com/church/8380/service-and-events/events/1
 029989/
END:VEVENT
BEGIN:VEVENT
SUMMARY:Service of Holy Communion
DTSTART;TZID=Europe/London:20260301T103000
DTEND;TZID=Europe/London:20260301T113000
DTSTAMP:20260421T172030Z
UID:10299892026-03-01 10:30:00+00:00achurchnearyou
CATEGORIES:
DESCRIPTION:We hold a service in English language on the first Sunday of e
 ach month at the church in Courcelles. Normally this is a service of Holy 
 Communion although occasionally this may vary. We enjoy coffee and a time 
 to chat afterwards. All are welcome regardless of denomination.
GEO:-0.4708946605601372;45.954880052339085
LOCATION:Anglican congregation in Courcelles
URL:https://www.achurchnearyou.com/church/8380/service-and-events/events/1
 029989/
END:VEVENT
BEGIN:VEVENT
SUMMARY:Service of Holy Communion
DTSTART;TZID=Europe/London:20260405T103000
DTEND;TZID=Europe/London:20260405T113000
DTSTAMP:20260421T172030Z
UID:10299892026-04-05 10:30:00+01:00achurchnearyou
CATEGORIES:
DESCRIPTION:We hold a service in English language on the first Sunday of e
 ach month at the church in Courcelles. Normally this is a service of Holy 
 Communion although occasionally this may vary. We enjoy coffee and a time 
 to chat afterwards. All are welcome regardless of denomination.
GEO:-0.4708946605601372;45.954880052339085
LOCATION:Anglican congregation in Courcelles
URL:https://www.achurchnearyou.com/church/8380/service-and-events/events/1
 029989/
END:VEVENT
BEGIN:VEVENT
SUMMARY:Service of Holy Communion
DTSTART;TZID=Europe/London:20260503T103000
DTEND;TZID=Europe/London:20260503T113000
DTSTAMP:20260421T172030Z
UID:10299892026-05-03 10:30:00+01:00achurchnearyou
CATEGORIES:
DESCRIPTION:We hold a service in English language on the first Sunday of e
 ach month at the church in Courcelles. Normally this is a service of Holy 
 Communion although occasionally this may vary. We enjoy coffee and a time 
 to chat afterwards. All are welcome regardless of denomination.
GEO:-0.4708946605601372;45.954880052339085
LOCATION:Anglican congregation in Courcelles
URL:https://www.achurchnearyou.com/church/8380/service-and-events/events/1
 029989/
END:VEVENT
BEGIN:VEVENT
SUMMARY:Service of Holy Communion
DTSTART;TZID=Europe/London:20260607T103000
DTEND;TZID=Europe/London:20260607T113000
DTSTAMP:20260421T172030Z
UID:10299892026-06-07 10:30:00+01:00achurchnearyou
CATEGORIES:
DESCRIPTION:We hold a service in English language on the first Sunday of e
 ach month at the church in Courcelles. Normally this is a service of Holy 
 Communion although occasionally this may vary. We enjoy coffee and a time 
 to chat afterwards. All are welcome regardless of denomination.
GEO:-0.4708946605601372;45.954880052339085
LOCATION:Anglican congregation in Courcelles
URL:https://www.achurchnearyou.com/church/8380/service-and-events/events/1
 029989/
END:VEVENT
BEGIN:VEVENT
SUMMARY:Service of Holy Communion
DTSTART;TZID=Europe/London:20260705T103000
DTEND;TZID=Europe/London:20260705T113000
DTSTAMP:20260421T172030Z
UID:10299892026-07-05 10:30:00+01:00achurchnearyou
CATEGORIES:
DESCRIPTION:We hold a service in English language on the first Sunday of e
 ach month at the church in Courcelles. Normally this is a service of Holy 
 Communion although occasionally this may vary. We enjoy coffee and a time 
 to chat afterwards. All are welcome regardless of denomination.
GEO:-0.4708946605601372;45.954880052339085
LOCATION:Anglican congregation in Courcelles
URL:https://www.achurchnearyou.com/church/8380/service-and-events/events/1
 029989/
END:VEVENT
BEGIN:VEVENT
SUMMARY:Service of Holy Communion
DTSTART;TZID=Europe/London:20260802T103000
DTEND;TZID=Europe/London:20260802T113000
DTSTAMP:20260421T172030Z
UID:10299892026-08-02 10:30:00+01:00achurchnearyou
CATEGORIES:
DESCRIPTION:We hold a service in English language on the first Sunday of e
 ach month at the church in Courcelles. Normally this is a service of Holy 
 Communion although occasionally this may vary. We enjoy coffee and a time 
 to chat afterwards. All are welcome regardless of denomination.
GEO:-0.4708946605601372;45.954880052339085
LOCATION:Anglican congregation in Courcelles
URL:https://www.achurchnearyou.com/church/8380/service-and-events/events/1
 029989/
END:VEVENT
BEGIN:VEVENT
SUMMARY:Service of Holy Communion
DTSTART;TZID=Europe/London:20260906T103000
DTEND;TZID=Europe/London:20260906T113000
DTSTAMP:20260421T172030Z
UID:10299892026-09-06 10:30:00+01:00achurchnearyou
CATEGORIES:
DESCRIPTION:We hold a service in English language on the first Sunday of e
 ach month at the church in Courcelles. Normally this is a service of Holy 
 Communion although occasionally this may vary. We enjoy coffee and a time 
 to chat afterwards. All are welcome regardless of denomination.
GEO:-0.4708946605601372;45.954880052339085
LOCATION:Anglican congregation in Courcelles
URL:https://www.achurchnearyou.com/church/8380/service-and-events/events/1
 029989/
END:VEVENT
BEGIN:VEVENT
SUMMARY:Service of Holy Communion
DTSTART;TZID=Europe/London:20261004T103000
DTEND;TZID=Europe/London:20261004T113000
DTSTAMP:20260421T172030Z
UID:10299892026-10-04 10:30:00+01:00achurchnearyou
CATEGORIES:
DESCRIPTION:We hold a service in English language on the first Sunday of e
 ach month at the church in Courcelles. Normally this is a service of Holy 
 Communion although occasionally this may vary. We enjoy coffee and a time 
 to chat afterwards. All are welcome regardless of denomination.
GEO:-0.4708946605601372;45.954880052339085
LOCATION:Anglican congregation in Courcelles
URL:https://www.achurchnearyou.com/church/8380/service-and-events/events/1
 029989/
END:VEVENT
BEGIN:VEVENT
SUMMARY:Service of Holy Communion
DTSTART;TZID=Europe/London:20261101T103000
DTEND;TZID=Europe/London:20261101T113000
DTSTAMP:20260421T172030Z
UID:10299892026-11-01 10:30:00+00:00achurchnearyou
CATEGORIES:
DESCRIPTION:We hold a service in English language on the first Sunday of e
 ach month at the church in Courcelles. Normally this is a service of Holy 
 Communion although occasionally this may vary. We enjoy coffee and a time 
 to chat afterwards. All are welcome regardless of denomination.
GEO:-0.4708946605601372;45.954880052339085
LOCATION:Anglican congregation in Courcelles
URL:https://www.achurchnearyou.com/church/8380/service-and-events/events/1
 029989/
END:VEVENT
BEGIN:VEVENT
SUMMARY:Service of Holy Communion
DTSTART;TZID=Europe/London:20261206T103000
DTEND;TZID=Europe/London:20261206T113000
DTSTAMP:20260421T172030Z
UID:10299892026-12-06 10:30:00+00:00achurchnearyou
CATEGORIES:
DESCRIPTION:We hold a service in English language on the first Sunday of e
 ach month at the church in Courcelles. Normally this is a service of Holy 
 Communion although occasionally this may vary. We enjoy coffee and a time 
 to chat afterwards. All are welcome regardless of denomination.
GEO:-0.4708946605601372;45.954880052339085
LOCATION:Anglican congregation in Courcelles
URL:https://www.achurchnearyou.com/church/8380/service-and-events/events/1
 029989/
END:VEVENT
BEGIN:VEVENT
SUMMARY:Service of Holy Communion
DTSTART;TZID=Europe/London:20270103T103000
DTEND;TZID=Europe/London:20270103T113000
DTSTAMP:20260421T172030Z
UID:10299892027-01-03 10:30:00+00:00achurchnearyou
CATEGORIES:
DESCRIPTION:We hold a service in English language on the first Sunday of e
 ach month at the church in Courcelles. Normally this is a service of Holy 
 Communion although occasionally this may vary. We enjoy coffee and a time 
 to chat afterwards. All are welcome regardless of denomination.
GEO:-0.4708946605601372;45.954880052339085
LOCATION:Anglican congregation in Courcelles
URL:https://www.achurchnearyou.com/church/8380/service-and-events/events/1
 029989/
END:VEVENT
BEGIN:VEVENT
SUMMARY:Service of Holy Communion
DTSTART;TZID=Europe/London:20270207T103000
DTEND;TZID=Europe/London:20270207T113000
DTSTAMP:20260421T172030Z
UID:10299892027-02-07 10:30:00+00:00achurchnearyou
CATEGORIES:
DESCRIPTION:We hold a service in English language on the first Sunday of e
 ach month at the church in Courcelles. Normally this is a service of Holy 
 Communion although occasionally this may vary. We enjoy coffee and a time 
 to chat afterwards. All are welcome regardless of denomination.
GEO:-0.4708946605601372;45.954880052339085
LOCATION:Anglican congregation in Courcelles
URL:https://www.achurchnearyou.com/church/8380/service-and-events/events/1
 029989/
END:VEVENT
BEGIN:VEVENT
SUMMARY:Service of Holy Communion
DTSTART;TZID=Europe/London:20270307T103000
DTEND;TZID=Europe/London:20270307T113000
DTSTAMP:20260421T172030Z
UID:10299892027-03-07 10:30:00+00:00achurchnearyou
CATEGORIES:
DESCRIPTION:We hold a service in English language on the first Sunday of e
 ach month at the church in Courcelles. Normally this is a service of Holy 
 Communion although occasionally this may vary. We enjoy coffee and a time 
 to chat afterwards. All are welcome regardless of denomination.
GEO:-0.4708946605601372;45.954880052339085
LOCATION:Anglican congregation in Courcelles
URL:https://www.achurchnearyou.com/church/8380/service-and-events/events/1
 029989/
END:VEVENT
BEGIN:VEVENT
SUMMARY:Service of Holy Communion
DTSTART;TZID=Europe/London:20270404T103000
DTEND;TZID=Europe/London:20270404T113000
DTSTAMP:20260421T172030Z
UID:10299892027-04-04 10:30:00+01:00achurchnearyou
CATEGORIES:
DESCRIPTION:We hold a service in English language on the first Sunday of e
 ach month at the church in Courcelles. Normally this is a service of Holy 
 Communion although occasionally this may vary. We enjoy coffee and a time 
 to chat afterwards. All are welcome regardless of denomination.
GEO:-0.4708946605601372;45.954880052339085
LOCATION:Anglican congregation in Courcelles
URL:https://www.achurchnearyou.com/church/8380/service-and-events/events/1
 029989/
END:VEVENT
END:VCALENDAR
