BEGIN:VCALENDAR
VERSION:2.0
PRODID:-//achurchnearyou.com//eventfeed//EN
CALSCALE:GREGORIAN
METHOD:PUBLISH
X-WR-TIMEZONE:UTC
BEGIN:VEVENT
SUMMARY:Christmas service of Lessons and Carols
DTSTART:20251214T160000Z
DTEND:20251214T170000Z
DTSTAMP:20260425T152457Z
UID:12458812025-12-14 16:00:00+00:00achurchnearyou
CATEGORIES:
DESCRIPTION:Join us for our traditional carol service with bells\, organ a
 nd singing\, both in English and French and for seasonal refreshments afte
 r.
GEO:2.386716;42.545015
LOCATION:St George's
URL:https://www.achurchnearyou.com/church/8385/service-and-events/events/1
 245881/
END:VEVENT
END:VCALENDAR
