BEGIN:VCALENDAR
VERSION:2.0
PRODID:-//achurchnearyou.com//eventfeed//EN
CALSCALE:GREGORIAN
METHOD:PUBLISH
X-WR-TIMEZONE:UTC
BEGIN:VEVENT
SUMMARY:Maundy Thursday
DTSTART:20260402T170000Z
DTEND:20260402T183000Z
DTSTAMP:20260423T120357Z
UID:12949522026-04-02 17:00:00+00:00achurchnearyou
CATEGORIES:
DESCRIPTION:A shared meal for all ages\, reflecting on the meals Jesus sha
 red with his disciples\, leading to the Last Supper\, interspersed with mu
 sic\, prayer\, and reflection. More information to follow. Sign-up is esse
 ntial.
GEO:-0.134484;51.441939
LOCATION:St Thomas with St Stephen
URL:https://www.achurchnearyou.com/church/840/service-and-events/events/12
 94952/
END:VEVENT
END:VCALENDAR
