BEGIN:VCALENDAR
VERSION:2.0
PRODID:-//achurchnearyou.com//eventfeed//EN
CALSCALE:GREGORIAN
METHOD:PUBLISH
X-WR-TIMEZONE:UTC
BEGIN:VEVENT
SUMMARY:Hour Before the Cross
DTSTART:20260403T130000Z
DTEND:20260403T140000Z
DTSTAMP:20260423T090810Z
UID:12949672026-04-03 13:00:00+00:00achurchnearyou
CATEGORIES:
DESCRIPTION:Join us as we watch together and pray together\, following Jes
 us through the last events of his earthly life.
GEO:-0.134484;51.441939
LOCATION:St Thomas with St Stephen
URL:https://www.achurchnearyou.com/church/840/service-and-events/events/12
 94967/
END:VEVENT
END:VCALENDAR
