BEGIN:VCALENDAR
VERSION:2.0
PRODID:-//achurchnearyou.com//eventfeed//EN
CALSCALE:GREGORIAN
METHOD:PUBLISH
X-WR-TIMEZONE:UTC
BEGIN:VEVENT
SUMMARY:Cuestión de fe
DTSTART;TZID=Europe/London:20250316T170000
DTEND;TZID=Europe/London:20250316T180000
DTSTAMP:20260421T193755Z
UID:11715792025-03-16 17:00:00+00:00achurchnearyou
CATEGORIES:
DESCRIPTION:Grupo de charla y discusión sobre temas de fe para la Cuaresm
 a
GEO:-0.087;51.411102
LOCATION:All Saints\, Upper Norwood
URL:https://www.achurchnearyou.com/church/850/service-and-events/events/11
 71579/
END:VEVENT
BEGIN:VEVENT
SUMMARY:Cuestión de fe
DTSTART;TZID=Europe/London:20250323T170000
DTEND;TZID=Europe/London:20250323T180000
DTSTAMP:20260421T193755Z
UID:11715792025-03-23 17:00:00+00:00achurchnearyou
CATEGORIES:
DESCRIPTION:Grupo de charla y discusión sobre temas de fe para la Cuaresm
 a
GEO:-0.087;51.411102
LOCATION:All Saints\, Upper Norwood
URL:https://www.achurchnearyou.com/church/850/service-and-events/events/11
 71579/
END:VEVENT
BEGIN:VEVENT
SUMMARY:Cuestión de fe
DTSTART;TZID=Europe/London:20250330T170000
DTEND;TZID=Europe/London:20250330T180000
DTSTAMP:20260421T193755Z
UID:11715792025-03-30 17:00:00+01:00achurchnearyou
CATEGORIES:
DESCRIPTION:Grupo de charla y discusión sobre temas de fe para la Cuaresm
 a
GEO:-0.087;51.411102
LOCATION:All Saints\, Upper Norwood
URL:https://www.achurchnearyou.com/church/850/service-and-events/events/11
 71579/
END:VEVENT
BEGIN:VEVENT
SUMMARY:Cuestión de fe
DTSTART;TZID=Europe/London:20250406T170000
DTEND;TZID=Europe/London:20250406T180000
DTSTAMP:20260421T193755Z
UID:11715792025-04-06 17:00:00+01:00achurchnearyou
CATEGORIES:
DESCRIPTION:Grupo de charla y discusión sobre temas de fe para la Cuaresm
 a
GEO:-0.087;51.411102
LOCATION:All Saints\, Upper Norwood
URL:https://www.achurchnearyou.com/church/850/service-and-events/events/11
 71579/
END:VEVENT
END:VCALENDAR
