BEGIN:VCALENDAR
VERSION:2.0
PRODID:-//achurchnearyou.com//eventfeed//EN
CALSCALE:GREGORIAN
METHOD:PUBLISH
X-WR-TIMEZONE:UTC
BEGIN:VEVENT
SUMMARY:Mothering Sunday All Age Interactive Eucharist
DTSTART:20250330T090000Z
DTEND:20250330T100000Z
DTSTAMP:20260421T212228Z
UID:11715942025-03-30 09:00:00+00:00achurchnearyou
CATEGORIES:
DESCRIPTION:The school choir will join our choir in song\, including a spe
 cial piece for all mothers. Plus\, there will be a lovely floral surprise 
 for them! Everyone is welcome.
GEO:-0.087;51.411102
LOCATION:All Saints\, Upper Norwood
URL:https://www.achurchnearyou.com/church/850/service-and-events/events/11
 71594/
END:VEVENT
END:VCALENDAR
