BEGIN:VCALENDAR
VERSION:2.0
PRODID:-//achurchnearyou.com//eventfeed//EN
CALSCALE:GREGORIAN
METHOD:PUBLISH
X-WR-TIMEZONE:UTC
BEGIN:VEVENT
SUMMARY:ASH WEDNESDAY
DTSTART:20250305T150000Z
DTEND:20250305T160000Z
DTSTAMP:20260419T222741Z
UID:11586112025-03-05 15:00:00+00:00achurchnearyou
CATEGORIES:
DESCRIPTION:There will be a special Ash Wednesday service at 15:00 at the 
 Franciscan Hospice at Palma de Gandia-
LOCATION:Franciscan Hospice
URL:https://www.achurchnearyou.com/church/8516/service-and-events/events/1
 158611/
END:VEVENT
END:VCALENDAR
