BEGIN:VCALENDAR
VERSION:2.0
PRODID:-//achurchnearyou.com//eventfeed//EN
CALSCALE:GREGORIAN
METHOD:PUBLISH
X-WR-TIMEZONE:UTC
BEGIN:VEVENT
SUMMARY:Maundy Thursday Meal & Communion
DTSTART;TZID=Europe/London:20260402T191500
DTEND;TZID=Europe/London:20260402T203000
DTSTAMP:20260420T200412Z
UID:13072431775153700.0achurchnearyou
CATEGORIES:
DESCRIPTION:o\n7.15pm for a lamb/veggie pitta\, 8pm for Maundy Thursday Co
 mmunion & Contemplation.\nSign-up for food here:\nhttps://springfield.chur
 chsuite.com/-/forms/namswaw0
GEO:-0.149355;51.34811
LOCATION:Springfield Church\, Wallington
URL:https://www.achurchnearyou.com/church/856/service-and-events/events/13
 07243/
END:VEVENT
BEGIN:VEVENT
SUMMARY:Good Friday prayer walk\, refreshments & Communion
DTSTART;TZID=Europe/London:20260403T100000
DTEND;TZID=Europe/London:20260403T120000
DTSTAMP:20260420T200412Z
UID:13072571775206800.0achurchnearyou
CATEGORIES:
DESCRIPTION:A Good Friday prayer walk on Roundshaw (taking approx. 30 minu
 tes) - come on your own or join in with others.\nRefreshments served from 
 10am until Communion service at 11.15.
GEO:-0.149355;51.34811
LOCATION:Springfield Church\, Wallington
URL:https://www.achurchnearyou.com/church/856/service-and-events/events/13
 07257/
END:VEVENT
BEGIN:VEVENT
SUMMARY:Easter Sunday family service with Communion
DTSTART;TZID=Europe/London:20260405T103000
DTEND;TZID=Europe/London:20260405T113000
DTSTAMP:20260420T200412Z
UID:13072621775381400.0achurchnearyou
CATEGORIES:
DESCRIPTION:Easter for Everyone.\nA fun 'All In' family service with Commu
 nion to celebrate Easter.
GEO:-0.149355;51.34811
LOCATION:Springfield Church\, Wallington
URL:https://www.achurchnearyou.com/church/856/service-and-events/events/13
 07262/
END:VEVENT
BEGIN:VEVENT
SUMMARY:Morning Worship
DTSTART;TZID=Europe/London:20260405T103000
DTEND;TZID=Europe/London:20260405T114000
DTSTAMP:20260420T200412Z
UID:3565361775381400.0achurchnearyou
CATEGORIES:
DESCRIPTION:Morning Worship\nEvery week we meet at 10.30 in St Paul's Chur
 ch\, Mollison Drive SM6 9HG\, with separate groups for our children and yo
 ung people\, next door in the Phoenix Centre. Once a month we also have a 
 more reflective service at 7pm.\nOur morning services are also livestreame
 d to YouTube if you prefer to catch up with us there - do have a look at t
 he Springfield website for full details.
GEO:-0.149355;51.34811
LOCATION:Springfield Church\, Wallington
URL:http://springfieldchurch.org.uk/
END:VEVENT
BEGIN:VEVENT
SUMMARY:Morning Worship
DTSTART;TZID=Europe/London:20260412T103000
DTEND;TZID=Europe/London:20260412T114000
DTSTAMP:20260420T200412Z
UID:3565361775986200.0achurchnearyou
CATEGORIES:
DESCRIPTION:Morning Worship\nEvery week we meet at 10.30 in St Paul's Chur
 ch\, Mollison Drive SM6 9HG\, with separate groups for our children and yo
 ung people\, next door in the Phoenix Centre. Once a month we also have a 
 more reflective service at 7pm.\nOur morning services are also livestreame
 d to YouTube if you prefer to catch up with us there - do have a look at t
 he Springfield website for full details.
GEO:-0.149355;51.34811
LOCATION:Springfield Church\, Wallington
URL:http://springfieldchurch.org.uk/
END:VEVENT
BEGIN:VEVENT
SUMMARY:Morning Worship
DTSTART;TZID=Europe/London:20260419T103000
DTEND;TZID=Europe/London:20260419T114000
DTSTAMP:20260420T200412Z
UID:3565361776591000.0achurchnearyou
CATEGORIES:
DESCRIPTION:Morning Worship\nEvery week we meet at 10.30 in St Paul's Chur
 ch\, Mollison Drive SM6 9HG\, with separate groups for our children and yo
 ung people\, next door in the Phoenix Centre. Once a month we also have a 
 more reflective service at 7pm.\nOur morning services are also livestreame
 d to YouTube if you prefer to catch up with us there - do have a look at t
 he Springfield website for full details.
GEO:-0.149355;51.34811
LOCATION:Springfield Church\, Wallington
URL:http://springfieldchurch.org.uk/
END:VEVENT
BEGIN:VEVENT
SUMMARY:Morning Worship
DTSTART;TZID=Europe/London:20260426T103000
DTEND;TZID=Europe/London:20260426T114000
DTSTAMP:20260420T200412Z
UID:3565361777195800.0achurchnearyou
CATEGORIES:
DESCRIPTION:Morning Worship\nEvery week we meet at 10.30 in St Paul's Chur
 ch\, Mollison Drive SM6 9HG\, with separate groups for our children and yo
 ung people\, next door in the Phoenix Centre. Once a month we also have a 
 more reflective service at 7pm.\nOur morning services are also livestreame
 d to YouTube if you prefer to catch up with us there - do have a look at t
 he Springfield website for full details.
GEO:-0.149355;51.34811
LOCATION:Springfield Church\, Wallington
URL:http://springfieldchurch.org.uk/
END:VEVENT
BEGIN:VEVENT
SUMMARY:Morning Worship
DTSTART;TZID=Europe/London:20260503T103000
DTEND;TZID=Europe/London:20260503T114000
DTSTAMP:20260420T200412Z
UID:3565361777800600.0achurchnearyou
CATEGORIES:
DESCRIPTION:Morning Worship\nEvery week we meet at 10.30 in St Paul's Chur
 ch\, Mollison Drive SM6 9HG\, with separate groups for our children and yo
 ung people\, next door in the Phoenix Centre. Once a month we also have a 
 more reflective service at 7pm.\nOur morning services are also livestreame
 d to YouTube if you prefer to catch up with us there - do have a look at t
 he Springfield website for full details.
GEO:-0.149355;51.34811
LOCATION:Springfield Church\, Wallington
URL:http://springfieldchurch.org.uk/
END:VEVENT
BEGIN:VEVENT
SUMMARY:Morning Worship
DTSTART;TZID=Europe/London:20260510T103000
DTEND;TZID=Europe/London:20260510T114000
DTSTAMP:20260420T200412Z
UID:3565361778405400.0achurchnearyou
CATEGORIES:
DESCRIPTION:Morning Worship\nEvery week we meet at 10.30 in St Paul's Chur
 ch\, Mollison Drive SM6 9HG\, with separate groups for our children and yo
 ung people\, next door in the Phoenix Centre. Once a month we also have a 
 more reflective service at 7pm.\nOur morning services are also livestreame
 d to YouTube if you prefer to catch up with us there - do have a look at t
 he Springfield website for full details.
GEO:-0.149355;51.34811
LOCATION:Springfield Church\, Wallington
URL:http://springfieldchurch.org.uk/
END:VEVENT
BEGIN:VEVENT
SUMMARY:Morning Worship
DTSTART;TZID=Europe/London:20260517T103000
DTEND;TZID=Europe/London:20260517T114000
DTSTAMP:20260420T200412Z
UID:3565361779010200.0achurchnearyou
CATEGORIES:
DESCRIPTION:Morning Worship\nEvery week we meet at 10.30 in St Paul's Chur
 ch\, Mollison Drive SM6 9HG\, with separate groups for our children and yo
 ung people\, next door in the Phoenix Centre. Once a month we also have a 
 more reflective service at 7pm.\nOur morning services are also livestreame
 d to YouTube if you prefer to catch up with us there - do have a look at t
 he Springfield website for full details.
GEO:-0.149355;51.34811
LOCATION:Springfield Church\, Wallington
URL:http://springfieldchurch.org.uk/
END:VEVENT
BEGIN:VEVENT
SUMMARY:Morning Worship
DTSTART;TZID=Europe/London:20260524T103000
DTEND;TZID=Europe/London:20260524T114000
DTSTAMP:20260420T200412Z
UID:3565361779615000.0achurchnearyou
CATEGORIES:
DESCRIPTION:Morning Worship\nEvery week we meet at 10.30 in St Paul's Chur
 ch\, Mollison Drive SM6 9HG\, with separate groups for our children and yo
 ung people\, next door in the Phoenix Centre. Once a month we also have a 
 more reflective service at 7pm.\nOur morning services are also livestreame
 d to YouTube if you prefer to catch up with us there - do have a look at t
 he Springfield website for full details.
GEO:-0.149355;51.34811
LOCATION:Springfield Church\, Wallington
URL:http://springfieldchurch.org.uk/
END:VEVENT
BEGIN:VEVENT
SUMMARY:Morning Worship
DTSTART;TZID=Europe/London:20260531T103000
DTEND;TZID=Europe/London:20260531T114000
DTSTAMP:20260420T200412Z
UID:3565361780219800.0achurchnearyou
CATEGORIES:
DESCRIPTION:Morning Worship\nEvery week we meet at 10.30 in St Paul's Chur
 ch\, Mollison Drive SM6 9HG\, with separate groups for our children and yo
 ung people\, next door in the Phoenix Centre. Once a month we also have a 
 more reflective service at 7pm.\nOur morning services are also livestreame
 d to YouTube if you prefer to catch up with us there - do have a look at t
 he Springfield website for full details.
GEO:-0.149355;51.34811
LOCATION:Springfield Church\, Wallington
URL:http://springfieldchurch.org.uk/
END:VEVENT
BEGIN:VEVENT
SUMMARY:Morning Worship
DTSTART;TZID=Europe/London:20260607T103000
DTEND;TZID=Europe/London:20260607T114000
DTSTAMP:20260420T200412Z
UID:3565361780824600.0achurchnearyou
CATEGORIES:
DESCRIPTION:Morning Worship\nEvery week we meet at 10.30 in St Paul's Chur
 ch\, Mollison Drive SM6 9HG\, with separate groups for our children and yo
 ung people\, next door in the Phoenix Centre. Once a month we also have a 
 more reflective service at 7pm.\nOur morning services are also livestreame
 d to YouTube if you prefer to catch up with us there - do have a look at t
 he Springfield website for full details.
GEO:-0.149355;51.34811
LOCATION:Springfield Church\, Wallington
URL:http://springfieldchurch.org.uk/
END:VEVENT
BEGIN:VEVENT
SUMMARY:Morning Worship
DTSTART;TZID=Europe/London:20260614T103000
DTEND;TZID=Europe/London:20260614T114000
DTSTAMP:20260420T200412Z
UID:3565361781429400.0achurchnearyou
CATEGORIES:
DESCRIPTION:Morning Worship\nEvery week we meet at 10.30 in St Paul's Chur
 ch\, Mollison Drive SM6 9HG\, with separate groups for our children and yo
 ung people\, next door in the Phoenix Centre. Once a month we also have a 
 more reflective service at 7pm.\nOur morning services are also livestreame
 d to YouTube if you prefer to catch up with us there - do have a look at t
 he Springfield website for full details.
GEO:-0.149355;51.34811
LOCATION:Springfield Church\, Wallington
URL:http://springfieldchurch.org.uk/
END:VEVENT
BEGIN:VEVENT
SUMMARY:Morning Worship
DTSTART;TZID=Europe/London:20260621T103000
DTEND;TZID=Europe/London:20260621T114000
DTSTAMP:20260420T200412Z
UID:3565361782034200.0achurchnearyou
CATEGORIES:
DESCRIPTION:Morning Worship\nEvery week we meet at 10.30 in St Paul's Chur
 ch\, Mollison Drive SM6 9HG\, with separate groups for our children and yo
 ung people\, next door in the Phoenix Centre. Once a month we also have a 
 more reflective service at 7pm.\nOur morning services are also livestreame
 d to YouTube if you prefer to catch up with us there - do have a look at t
 he Springfield website for full details.
GEO:-0.149355;51.34811
LOCATION:Springfield Church\, Wallington
URL:http://springfieldchurch.org.uk/
END:VEVENT
BEGIN:VEVENT
SUMMARY:Morning Worship
DTSTART;TZID=Europe/London:20260628T103000
DTEND;TZID=Europe/London:20260628T114000
DTSTAMP:20260420T200412Z
UID:3565361782639000.0achurchnearyou
CATEGORIES:
DESCRIPTION:Morning Worship\nEvery week we meet at 10.30 in St Paul's Chur
 ch\, Mollison Drive SM6 9HG\, with separate groups for our children and yo
 ung people\, next door in the Phoenix Centre. Once a month we also have a 
 more reflective service at 7pm.\nOur morning services are also livestreame
 d to YouTube if you prefer to catch up with us there - do have a look at t
 he Springfield website for full details.
GEO:-0.149355;51.34811
LOCATION:Springfield Church\, Wallington
URL:http://springfieldchurch.org.uk/
END:VEVENT
BEGIN:VEVENT
SUMMARY:Morning Worship
DTSTART;TZID=Europe/London:20260705T103000
DTEND;TZID=Europe/London:20260705T114000
DTSTAMP:20260420T200412Z
UID:3565361783243800.0achurchnearyou
CATEGORIES:
DESCRIPTION:Morning Worship\nEvery week we meet at 10.30 in St Paul's Chur
 ch\, Mollison Drive SM6 9HG\, with separate groups for our children and yo
 ung people\, next door in the Phoenix Centre. Once a month we also have a 
 more reflective service at 7pm.\nOur morning services are also livestreame
 d to YouTube if you prefer to catch up with us there - do have a look at t
 he Springfield website for full details.
GEO:-0.149355;51.34811
LOCATION:Springfield Church\, Wallington
URL:http://springfieldchurch.org.uk/
END:VEVENT
BEGIN:VEVENT
SUMMARY:Morning Worship
DTSTART;TZID=Europe/London:20260712T103000
DTEND;TZID=Europe/London:20260712T114000
DTSTAMP:20260420T200412Z
UID:3565361783848600.0achurchnearyou
CATEGORIES:
DESCRIPTION:Morning Worship\nEvery week we meet at 10.30 in St Paul's Chur
 ch\, Mollison Drive SM6 9HG\, with separate groups for our children and yo
 ung people\, next door in the Phoenix Centre. Once a month we also have a 
 more reflective service at 7pm.\nOur morning services are also livestreame
 d to YouTube if you prefer to catch up with us there - do have a look at t
 he Springfield website for full details.
GEO:-0.149355;51.34811
LOCATION:Springfield Church\, Wallington
URL:http://springfieldchurch.org.uk/
END:VEVENT
BEGIN:VEVENT
SUMMARY:Morning Worship
DTSTART;TZID=Europe/London:20260719T103000
DTEND;TZID=Europe/London:20260719T114000
DTSTAMP:20260420T200412Z
UID:3565361784453400.0achurchnearyou
CATEGORIES:
DESCRIPTION:Morning Worship\nEvery week we meet at 10.30 in St Paul's Chur
 ch\, Mollison Drive SM6 9HG\, with separate groups for our children and yo
 ung people\, next door in the Phoenix Centre. Once a month we also have a 
 more reflective service at 7pm.\nOur morning services are also livestreame
 d to YouTube if you prefer to catch up with us there - do have a look at t
 he Springfield website for full details.
GEO:-0.149355;51.34811
LOCATION:Springfield Church\, Wallington
URL:http://springfieldchurch.org.uk/
END:VEVENT
BEGIN:VEVENT
SUMMARY:Morning Worship
DTSTART;TZID=Europe/London:20260726T103000
DTEND;TZID=Europe/London:20260726T114000
DTSTAMP:20260420T200412Z
UID:3565361785058200.0achurchnearyou
CATEGORIES:
DESCRIPTION:Morning Worship\nEvery week we meet at 10.30 in St Paul's Chur
 ch\, Mollison Drive SM6 9HG\, with separate groups for our children and yo
 ung people\, next door in the Phoenix Centre. Once a month we also have a 
 more reflective service at 7pm.\nOur morning services are also livestreame
 d to YouTube if you prefer to catch up with us there - do have a look at t
 he Springfield website for full details.
GEO:-0.149355;51.34811
LOCATION:Springfield Church\, Wallington
URL:http://springfieldchurch.org.uk/
END:VEVENT
BEGIN:VEVENT
SUMMARY:Morning Worship
DTSTART;TZID=Europe/London:20260802T103000
DTEND;TZID=Europe/London:20260802T114000
DTSTAMP:20260420T200412Z
UID:3565361785663000.0achurchnearyou
CATEGORIES:
DESCRIPTION:Morning Worship\nEvery week we meet at 10.30 in St Paul's Chur
 ch\, Mollison Drive SM6 9HG\, with separate groups for our children and yo
 ung people\, next door in the Phoenix Centre. Once a month we also have a 
 more reflective service at 7pm.\nOur morning services are also livestreame
 d to YouTube if you prefer to catch up with us there - do have a look at t
 he Springfield website for full details.
GEO:-0.149355;51.34811
LOCATION:Springfield Church\, Wallington
URL:http://springfieldchurch.org.uk/
END:VEVENT
BEGIN:VEVENT
SUMMARY:Morning Worship
DTSTART;TZID=Europe/London:20260809T103000
DTEND;TZID=Europe/London:20260809T114000
DTSTAMP:20260420T200412Z
UID:3565361786267800.0achurchnearyou
CATEGORIES:
DESCRIPTION:Morning Worship\nEvery week we meet at 10.30 in St Paul's Chur
 ch\, Mollison Drive SM6 9HG\, with separate groups for our children and yo
 ung people\, next door in the Phoenix Centre. Once a month we also have a 
 more reflective service at 7pm.\nOur morning services are also livestreame
 d to YouTube if you prefer to catch up with us there - do have a look at t
 he Springfield website for full details.
GEO:-0.149355;51.34811
LOCATION:Springfield Church\, Wallington
URL:http://springfieldchurch.org.uk/
END:VEVENT
BEGIN:VEVENT
SUMMARY:Morning Worship
DTSTART;TZID=Europe/London:20260816T103000
DTEND;TZID=Europe/London:20260816T114000
DTSTAMP:20260420T200412Z
UID:3565361786872600.0achurchnearyou
CATEGORIES:
DESCRIPTION:Morning Worship\nEvery week we meet at 10.30 in St Paul's Chur
 ch\, Mollison Drive SM6 9HG\, with separate groups for our children and yo
 ung people\, next door in the Phoenix Centre. Once a month we also have a 
 more reflective service at 7pm.\nOur morning services are also livestreame
 d to YouTube if you prefer to catch up with us there - do have a look at t
 he Springfield website for full details.
GEO:-0.149355;51.34811
LOCATION:Springfield Church\, Wallington
URL:http://springfieldchurch.org.uk/
END:VEVENT
BEGIN:VEVENT
SUMMARY:Morning Worship
DTSTART;TZID=Europe/London:20260823T103000
DTEND;TZID=Europe/London:20260823T114000
DTSTAMP:20260420T200412Z
UID:3565361787477400.0achurchnearyou
CATEGORIES:
DESCRIPTION:Morning Worship\nEvery week we meet at 10.30 in St Paul's Chur
 ch\, Mollison Drive SM6 9HG\, with separate groups for our children and yo
 ung people\, next door in the Phoenix Centre. Once a month we also have a 
 more reflective service at 7pm.\nOur morning services are also livestreame
 d to YouTube if you prefer to catch up with us there - do have a look at t
 he Springfield website for full details.
GEO:-0.149355;51.34811
LOCATION:Springfield Church\, Wallington
URL:http://springfieldchurch.org.uk/
END:VEVENT
BEGIN:VEVENT
SUMMARY:Morning Worship
DTSTART;TZID=Europe/London:20260830T103000
DTEND;TZID=Europe/London:20260830T114000
DTSTAMP:20260420T200412Z
UID:3565361788082200.0achurchnearyou
CATEGORIES:
DESCRIPTION:Morning Worship\nEvery week we meet at 10.30 in St Paul's Chur
 ch\, Mollison Drive SM6 9HG\, with separate groups for our children and yo
 ung people\, next door in the Phoenix Centre. Once a month we also have a 
 more reflective service at 7pm.\nOur morning services are also livestreame
 d to YouTube if you prefer to catch up with us there - do have a look at t
 he Springfield website for full details.
GEO:-0.149355;51.34811
LOCATION:Springfield Church\, Wallington
URL:http://springfieldchurch.org.uk/
END:VEVENT
BEGIN:VEVENT
SUMMARY:Morning Worship
DTSTART;TZID=Europe/London:20260906T103000
DTEND;TZID=Europe/London:20260906T114000
DTSTAMP:20260420T200412Z
UID:3565361788687000.0achurchnearyou
CATEGORIES:
DESCRIPTION:Morning Worship\nEvery week we meet at 10.30 in St Paul's Chur
 ch\, Mollison Drive SM6 9HG\, with separate groups for our children and yo
 ung people\, next door in the Phoenix Centre. Once a month we also have a 
 more reflective service at 7pm.\nOur morning services are also livestreame
 d to YouTube if you prefer to catch up with us there - do have a look at t
 he Springfield website for full details.
GEO:-0.149355;51.34811
LOCATION:Springfield Church\, Wallington
URL:http://springfieldchurch.org.uk/
END:VEVENT
BEGIN:VEVENT
SUMMARY:Morning Worship
DTSTART;TZID=Europe/London:20260913T103000
DTEND;TZID=Europe/London:20260913T114000
DTSTAMP:20260420T200412Z
UID:3565361789291800.0achurchnearyou
CATEGORIES:
DESCRIPTION:Morning Worship\nEvery week we meet at 10.30 in St Paul's Chur
 ch\, Mollison Drive SM6 9HG\, with separate groups for our children and yo
 ung people\, next door in the Phoenix Centre. Once a month we also have a 
 more reflective service at 7pm.\nOur morning services are also livestreame
 d to YouTube if you prefer to catch up with us there - do have a look at t
 he Springfield website for full details.
GEO:-0.149355;51.34811
LOCATION:Springfield Church\, Wallington
URL:http://springfieldchurch.org.uk/
END:VEVENT
BEGIN:VEVENT
SUMMARY:Morning Worship
DTSTART;TZID=Europe/London:20260920T103000
DTEND;TZID=Europe/London:20260920T114000
DTSTAMP:20260420T200412Z
UID:3565361789896600.0achurchnearyou
CATEGORIES:
DESCRIPTION:Morning Worship\nEvery week we meet at 10.30 in St Paul's Chur
 ch\, Mollison Drive SM6 9HG\, with separate groups for our children and yo
 ung people\, next door in the Phoenix Centre. Once a month we also have a 
 more reflective service at 7pm.\nOur morning services are also livestreame
 d to YouTube if you prefer to catch up with us there - do have a look at t
 he Springfield website for full details.
GEO:-0.149355;51.34811
LOCATION:Springfield Church\, Wallington
URL:http://springfieldchurch.org.uk/
END:VEVENT
BEGIN:VEVENT
SUMMARY:Morning Worship
DTSTART;TZID=Europe/London:20260927T103000
DTEND;TZID=Europe/London:20260927T114000
DTSTAMP:20260420T200412Z
UID:3565361790501400.0achurchnearyou
CATEGORIES:
DESCRIPTION:Morning Worship\nEvery week we meet at 10.30 in St Paul's Chur
 ch\, Mollison Drive SM6 9HG\, with separate groups for our children and yo
 ung people\, next door in the Phoenix Centre. Once a month we also have a 
 more reflective service at 7pm.\nOur morning services are also livestreame
 d to YouTube if you prefer to catch up with us there - do have a look at t
 he Springfield website for full details.
GEO:-0.149355;51.34811
LOCATION:Springfield Church\, Wallington
URL:http://springfieldchurch.org.uk/
END:VEVENT
END:VCALENDAR
