BEGIN:VCALENDAR
VERSION:2.0
PRODID:-//achurchnearyou.com//eventfeed//EN
CALSCALE:GREGORIAN
METHOD:PUBLISH
X-WR-TIMEZONE:UTC
BEGIN:VEVENT
SUMMARY:Holy Week and Easter services 2026
DTSTART:20260329T090000Z
DTEND:20260405T113000Z
DTSTAMP:20260422T133208Z
UID:13146012026-03-29 09:00:00+00:00achurchnearyou
CATEGORIES:
DESCRIPTION:Please see attached poster for details\n\nPalm Sunday 29th Mar
 ch\, 10am - Mass with procession\n\nMonday 30th March -  Wednesday 1st Apr
 il\, 7pm - Compline (Night Prayer) \n\nMaundy Thursday 2nd April\, 7.30pm 
 -  Mass of the Last Supper \n                        (followed by Watch & 
 Youth Prayer Pilgrimage) \n\nGood Friday\, 3rd April - 12pm Stations of th
 e Cross through the parish\n                                           1.3
 0pm Liturgy of Good Friday and Children's Church\n\nEaster Day\, Sunday 5t
 h April - 6.30am Easter Vigil Mass\n                                      
                 10am Parish Mass
GEO:-0.085536;51.490611
LOCATION:St Christopher's\, Walworth
URL:https://www.achurchnearyou.com/church/858/service-and-events/events/13
 14601/
END:VEVENT
END:VCALENDAR
