BEGIN:VCALENDAR
VERSION:2.0
PRODID:-//achurchnearyou.com//eventfeed//EN
CALSCALE:GREGORIAN
METHOD:PUBLISH
X-WR-TIMEZONE:UTC
BEGIN:VEVENT
SUMMARY:Said Mass
DTSTART;TZID=Europe/London:20260427T190000
DTEND;TZID=Europe/London:20260427T193000
DTSTAMP:20260422T123419Z
UID:1452822026-04-27 19:00:00+01:00achurchnearyou
CATEGORIES:
DESCRIPTION:This quiet and reflective Communion Service is a great way to 
 recharge your spiritual batteries during the week. All welcome.
GEO:-0.092825;51.48642
LOCATION:St Peter's\, Walworth\, Liverpool Grove
URL:https://www.achurchnearyou.com/church/859/service-and-events/events/14
 5282/
END:VEVENT
BEGIN:VEVENT
SUMMARY:Said Mass
DTSTART;TZID=Europe/London:20260511T190000
DTEND;TZID=Europe/London:20260511T193000
DTSTAMP:20260422T123419Z
UID:1452822026-05-11 19:00:00+01:00achurchnearyou
CATEGORIES:
DESCRIPTION:This quiet and reflective Communion Service is a great way to 
 recharge your spiritual batteries during the week. All welcome.
GEO:-0.092825;51.48642
LOCATION:St Peter's\, Walworth\, Liverpool Grove
URL:https://www.achurchnearyou.com/church/859/service-and-events/events/14
 5282/
END:VEVENT
BEGIN:VEVENT
SUMMARY:Said Mass
DTSTART;TZID=Europe/London:20260518T190000
DTEND;TZID=Europe/London:20260518T193000
DTSTAMP:20260422T123419Z
UID:1452822026-05-18 19:00:00+01:00achurchnearyou
CATEGORIES:
DESCRIPTION:This quiet and reflective Communion Service is a great way to 
 recharge your spiritual batteries during the week. All welcome.
GEO:-0.092825;51.48642
LOCATION:St Peter's\, Walworth\, Liverpool Grove
URL:https://www.achurchnearyou.com/church/859/service-and-events/events/14
 5282/
END:VEVENT
BEGIN:VEVENT
SUMMARY:Said Mass
DTSTART;TZID=Europe/London:20260525T190000
DTEND;TZID=Europe/London:20260525T193000
DTSTAMP:20260422T123419Z
UID:1452822026-05-25 19:00:00+01:00achurchnearyou
CATEGORIES:
DESCRIPTION:This quiet and reflective Communion Service is a great way to 
 recharge your spiritual batteries during the week. All welcome.
GEO:-0.092825;51.48642
LOCATION:St Peter's\, Walworth\, Liverpool Grove
URL:https://www.achurchnearyou.com/church/859/service-and-events/events/14
 5282/
END:VEVENT
BEGIN:VEVENT
SUMMARY:Said Mass
DTSTART;TZID=Europe/London:20260608T190000
DTEND;TZID=Europe/London:20260608T193000
DTSTAMP:20260422T123419Z
UID:1452822026-06-08 19:00:00+01:00achurchnearyou
CATEGORIES:
DESCRIPTION:This quiet and reflective Communion Service is a great way to 
 recharge your spiritual batteries during the week. All welcome.
GEO:-0.092825;51.48642
LOCATION:St Peter's\, Walworth\, Liverpool Grove
URL:https://www.achurchnearyou.com/church/859/service-and-events/events/14
 5282/
END:VEVENT
BEGIN:VEVENT
SUMMARY:Said Mass
DTSTART;TZID=Europe/London:20260615T190000
DTEND;TZID=Europe/London:20260615T193000
DTSTAMP:20260422T123419Z
UID:1452822026-06-15 19:00:00+01:00achurchnearyou
CATEGORIES:
DESCRIPTION:This quiet and reflective Communion Service is a great way to 
 recharge your spiritual batteries during the week. All welcome.
GEO:-0.092825;51.48642
LOCATION:St Peter's\, Walworth\, Liverpool Grove
URL:https://www.achurchnearyou.com/church/859/service-and-events/events/14
 5282/
END:VEVENT
BEGIN:VEVENT
SUMMARY:Said Mass
DTSTART;TZID=Europe/London:20260622T190000
DTEND;TZID=Europe/London:20260622T193000
DTSTAMP:20260422T123419Z
UID:1452822026-06-22 19:00:00+01:00achurchnearyou
CATEGORIES:
DESCRIPTION:This quiet and reflective Communion Service is a great way to 
 recharge your spiritual batteries during the week. All welcome.
GEO:-0.092825;51.48642
LOCATION:St Peter's\, Walworth\, Liverpool Grove
URL:https://www.achurchnearyou.com/church/859/service-and-events/events/14
 5282/
END:VEVENT
BEGIN:VEVENT
SUMMARY:Said Mass
DTSTART;TZID=Europe/London:20260629T190000
DTEND;TZID=Europe/London:20260629T193000
DTSTAMP:20260422T123419Z
UID:1452822026-06-29 19:00:00+01:00achurchnearyou
CATEGORIES:
DESCRIPTION:This quiet and reflective Communion Service is a great way to 
 recharge your spiritual batteries during the week. All welcome.
GEO:-0.092825;51.48642
LOCATION:St Peter's\, Walworth\, Liverpool Grove
URL:https://www.achurchnearyou.com/church/859/service-and-events/events/14
 5282/
END:VEVENT
BEGIN:VEVENT
SUMMARY:Said Mass
DTSTART;TZID=Europe/London:20260713T190000
DTEND;TZID=Europe/London:20260713T193000
DTSTAMP:20260422T123419Z
UID:1452822026-07-13 19:00:00+01:00achurchnearyou
CATEGORIES:
DESCRIPTION:This quiet and reflective Communion Service is a great way to 
 recharge your spiritual batteries during the week. All welcome.
GEO:-0.092825;51.48642
LOCATION:St Peter's\, Walworth\, Liverpool Grove
URL:https://www.achurchnearyou.com/church/859/service-and-events/events/14
 5282/
END:VEVENT
BEGIN:VEVENT
SUMMARY:Said Mass
DTSTART;TZID=Europe/London:20260720T190000
DTEND;TZID=Europe/London:20260720T193000
DTSTAMP:20260422T123419Z
UID:1452822026-07-20 19:00:00+01:00achurchnearyou
CATEGORIES:
DESCRIPTION:This quiet and reflective Communion Service is a great way to 
 recharge your spiritual batteries during the week. All welcome.
GEO:-0.092825;51.48642
LOCATION:St Peter's\, Walworth\, Liverpool Grove
URL:https://www.achurchnearyou.com/church/859/service-and-events/events/14
 5282/
END:VEVENT
BEGIN:VEVENT
SUMMARY:Said Mass
DTSTART;TZID=Europe/London:20260727T190000
DTEND;TZID=Europe/London:20260727T193000
DTSTAMP:20260422T123419Z
UID:1452822026-07-27 19:00:00+01:00achurchnearyou
CATEGORIES:
DESCRIPTION:This quiet and reflective Communion Service is a great way to 
 recharge your spiritual batteries during the week. All welcome.
GEO:-0.092825;51.48642
LOCATION:St Peter's\, Walworth\, Liverpool Grove
URL:https://www.achurchnearyou.com/church/859/service-and-events/events/14
 5282/
END:VEVENT
BEGIN:VEVENT
SUMMARY:Said Mass
DTSTART;TZID=Europe/London:20260810T190000
DTEND;TZID=Europe/London:20260810T193000
DTSTAMP:20260422T123419Z
UID:1452822026-08-10 19:00:00+01:00achurchnearyou
CATEGORIES:
DESCRIPTION:This quiet and reflective Communion Service is a great way to 
 recharge your spiritual batteries during the week. All welcome.
GEO:-0.092825;51.48642
LOCATION:St Peter's\, Walworth\, Liverpool Grove
URL:https://www.achurchnearyou.com/church/859/service-and-events/events/14
 5282/
END:VEVENT
BEGIN:VEVENT
SUMMARY:Said Mass
DTSTART;TZID=Europe/London:20260817T190000
DTEND;TZID=Europe/London:20260817T193000
DTSTAMP:20260422T123419Z
UID:1452822026-08-17 19:00:00+01:00achurchnearyou
CATEGORIES:
DESCRIPTION:This quiet and reflective Communion Service is a great way to 
 recharge your spiritual batteries during the week. All welcome.
GEO:-0.092825;51.48642
LOCATION:St Peter's\, Walworth\, Liverpool Grove
URL:https://www.achurchnearyou.com/church/859/service-and-events/events/14
 5282/
END:VEVENT
BEGIN:VEVENT
SUMMARY:Said Mass
DTSTART;TZID=Europe/London:20260824T190000
DTEND;TZID=Europe/London:20260824T193000
DTSTAMP:20260422T123419Z
UID:1452822026-08-24 19:00:00+01:00achurchnearyou
CATEGORIES:
DESCRIPTION:This quiet and reflective Communion Service is a great way to 
 recharge your spiritual batteries during the week. All welcome.
GEO:-0.092825;51.48642
LOCATION:St Peter's\, Walworth\, Liverpool Grove
URL:https://www.achurchnearyou.com/church/859/service-and-events/events/14
 5282/
END:VEVENT
BEGIN:VEVENT
SUMMARY:Said Mass
DTSTART;TZID=Europe/London:20260831T190000
DTEND;TZID=Europe/London:20260831T193000
DTSTAMP:20260422T123419Z
UID:1452822026-08-31 19:00:00+01:00achurchnearyou
CATEGORIES:
DESCRIPTION:This quiet and reflective Communion Service is a great way to 
 recharge your spiritual batteries during the week. All welcome.
GEO:-0.092825;51.48642
LOCATION:St Peter's\, Walworth\, Liverpool Grove
URL:https://www.achurchnearyou.com/church/859/service-and-events/events/14
 5282/
END:VEVENT
BEGIN:VEVENT
SUMMARY:Said Mass
DTSTART;TZID=Europe/London:20260914T190000
DTEND;TZID=Europe/London:20260914T193000
DTSTAMP:20260422T123419Z
UID:1452822026-09-14 19:00:00+01:00achurchnearyou
CATEGORIES:
DESCRIPTION:This quiet and reflective Communion Service is a great way to 
 recharge your spiritual batteries during the week. All welcome.
GEO:-0.092825;51.48642
LOCATION:St Peter's\, Walworth\, Liverpool Grove
URL:https://www.achurchnearyou.com/church/859/service-and-events/events/14
 5282/
END:VEVENT
BEGIN:VEVENT
SUMMARY:Said Mass
DTSTART;TZID=Europe/London:20260921T190000
DTEND;TZID=Europe/London:20260921T193000
DTSTAMP:20260422T123419Z
UID:1452822026-09-21 19:00:00+01:00achurchnearyou
CATEGORIES:
DESCRIPTION:This quiet and reflective Communion Service is a great way to 
 recharge your spiritual batteries during the week. All welcome.
GEO:-0.092825;51.48642
LOCATION:St Peter's\, Walworth\, Liverpool Grove
URL:https://www.achurchnearyou.com/church/859/service-and-events/events/14
 5282/
END:VEVENT
BEGIN:VEVENT
SUMMARY:Said Mass
DTSTART;TZID=Europe/London:20260928T190000
DTEND;TZID=Europe/London:20260928T193000
DTSTAMP:20260422T123419Z
UID:1452822026-09-28 19:00:00+01:00achurchnearyou
CATEGORIES:
DESCRIPTION:This quiet and reflective Communion Service is a great way to 
 recharge your spiritual batteries during the week. All welcome.
GEO:-0.092825;51.48642
LOCATION:St Peter's\, Walworth\, Liverpool Grove
URL:https://www.achurchnearyou.com/church/859/service-and-events/events/14
 5282/
END:VEVENT
BEGIN:VEVENT
SUMMARY:Said Mass
DTSTART;TZID=Europe/London:20261012T190000
DTEND;TZID=Europe/London:20261012T193000
DTSTAMP:20260422T123419Z
UID:1452822026-10-12 19:00:00+01:00achurchnearyou
CATEGORIES:
DESCRIPTION:This quiet and reflective Communion Service is a great way to 
 recharge your spiritual batteries during the week. All welcome.
GEO:-0.092825;51.48642
LOCATION:St Peter's\, Walworth\, Liverpool Grove
URL:https://www.achurchnearyou.com/church/859/service-and-events/events/14
 5282/
END:VEVENT
BEGIN:VEVENT
SUMMARY:Said Mass
DTSTART;TZID=Europe/London:20261019T190000
DTEND;TZID=Europe/London:20261019T193000
DTSTAMP:20260422T123419Z
UID:1452822026-10-19 19:00:00+01:00achurchnearyou
CATEGORIES:
DESCRIPTION:This quiet and reflective Communion Service is a great way to 
 recharge your spiritual batteries during the week. All welcome.
GEO:-0.092825;51.48642
LOCATION:St Peter's\, Walworth\, Liverpool Grove
URL:https://www.achurchnearyou.com/church/859/service-and-events/events/14
 5282/
END:VEVENT
BEGIN:VEVENT
SUMMARY:Said Mass
DTSTART;TZID=Europe/London:20261026T190000
DTEND;TZID=Europe/London:20261026T193000
DTSTAMP:20260422T123419Z
UID:1452822026-10-26 19:00:00+00:00achurchnearyou
CATEGORIES:
DESCRIPTION:This quiet and reflective Communion Service is a great way to 
 recharge your spiritual batteries during the week. All welcome.
GEO:-0.092825;51.48642
LOCATION:St Peter's\, Walworth\, Liverpool Grove
URL:https://www.achurchnearyou.com/church/859/service-and-events/events/14
 5282/
END:VEVENT
BEGIN:VEVENT
SUMMARY:Said Mass
DTSTART;TZID=Europe/London:20261109T190000
DTEND;TZID=Europe/London:20261109T193000
DTSTAMP:20260422T123419Z
UID:1452822026-11-09 19:00:00+00:00achurchnearyou
CATEGORIES:
DESCRIPTION:This quiet and reflective Communion Service is a great way to 
 recharge your spiritual batteries during the week. All welcome.
GEO:-0.092825;51.48642
LOCATION:St Peter's\, Walworth\, Liverpool Grove
URL:https://www.achurchnearyou.com/church/859/service-and-events/events/14
 5282/
END:VEVENT
BEGIN:VEVENT
SUMMARY:Said Mass
DTSTART;TZID=Europe/London:20261116T190000
DTEND;TZID=Europe/London:20261116T193000
DTSTAMP:20260422T123419Z
UID:1452822026-11-16 19:00:00+00:00achurchnearyou
CATEGORIES:
DESCRIPTION:This quiet and reflective Communion Service is a great way to 
 recharge your spiritual batteries during the week. All welcome.
GEO:-0.092825;51.48642
LOCATION:St Peter's\, Walworth\, Liverpool Grove
URL:https://www.achurchnearyou.com/church/859/service-and-events/events/14
 5282/
END:VEVENT
BEGIN:VEVENT
SUMMARY:Said Mass
DTSTART;TZID=Europe/London:20261123T190000
DTEND;TZID=Europe/London:20261123T193000
DTSTAMP:20260422T123419Z
UID:1452822026-11-23 19:00:00+00:00achurchnearyou
CATEGORIES:
DESCRIPTION:This quiet and reflective Communion Service is a great way to 
 recharge your spiritual batteries during the week. All welcome.
GEO:-0.092825;51.48642
LOCATION:St Peter's\, Walworth\, Liverpool Grove
URL:https://www.achurchnearyou.com/church/859/service-and-events/events/14
 5282/
END:VEVENT
BEGIN:VEVENT
SUMMARY:Said Mass
DTSTART;TZID=Europe/London:20261130T190000
DTEND;TZID=Europe/London:20261130T193000
DTSTAMP:20260422T123419Z
UID:1452822026-11-30 19:00:00+00:00achurchnearyou
CATEGORIES:
DESCRIPTION:This quiet and reflective Communion Service is a great way to 
 recharge your spiritual batteries during the week. All welcome.
GEO:-0.092825;51.48642
LOCATION:St Peter's\, Walworth\, Liverpool Grove
URL:https://www.achurchnearyou.com/church/859/service-and-events/events/14
 5282/
END:VEVENT
BEGIN:VEVENT
SUMMARY:Said Mass
DTSTART;TZID=Europe/London:20261214T190000
DTEND;TZID=Europe/London:20261214T193000
DTSTAMP:20260422T123419Z
UID:1452822026-12-14 19:00:00+00:00achurchnearyou
CATEGORIES:
DESCRIPTION:This quiet and reflective Communion Service is a great way to 
 recharge your spiritual batteries during the week. All welcome.
GEO:-0.092825;51.48642
LOCATION:St Peter's\, Walworth\, Liverpool Grove
URL:https://www.achurchnearyou.com/church/859/service-and-events/events/14
 5282/
END:VEVENT
BEGIN:VEVENT
SUMMARY:Said Mass
DTSTART;TZID=Europe/London:20261221T190000
DTEND;TZID=Europe/London:20261221T193000
DTSTAMP:20260422T123419Z
UID:1452822026-12-21 19:00:00+00:00achurchnearyou
CATEGORIES:
DESCRIPTION:This quiet and reflective Communion Service is a great way to 
 recharge your spiritual batteries during the week. All welcome.
GEO:-0.092825;51.48642
LOCATION:St Peter's\, Walworth\, Liverpool Grove
URL:https://www.achurchnearyou.com/church/859/service-and-events/events/14
 5282/
END:VEVENT
BEGIN:VEVENT
SUMMARY:Said Mass
DTSTART;TZID=Europe/London:20261228T190000
DTEND;TZID=Europe/London:20261228T193000
DTSTAMP:20260422T123419Z
UID:1452822026-12-28 19:00:00+00:00achurchnearyou
CATEGORIES:
DESCRIPTION:This quiet and reflective Communion Service is a great way to 
 recharge your spiritual batteries during the week. All welcome.
GEO:-0.092825;51.48642
LOCATION:St Peter's\, Walworth\, Liverpool Grove
URL:https://www.achurchnearyou.com/church/859/service-and-events/events/14
 5282/
END:VEVENT
BEGIN:VEVENT
SUMMARY:Said Mass
DTSTART;TZID=Europe/London:20270111T190000
DTEND;TZID=Europe/London:20270111T193000
DTSTAMP:20260422T123419Z
UID:1452822027-01-11 19:00:00+00:00achurchnearyou
CATEGORIES:
DESCRIPTION:This quiet and reflective Communion Service is a great way to 
 recharge your spiritual batteries during the week. All welcome.
GEO:-0.092825;51.48642
LOCATION:St Peter's\, Walworth\, Liverpool Grove
URL:https://www.achurchnearyou.com/church/859/service-and-events/events/14
 5282/
END:VEVENT
BEGIN:VEVENT
SUMMARY:Said Mass
DTSTART;TZID=Europe/London:20270118T190000
DTEND;TZID=Europe/London:20270118T193000
DTSTAMP:20260422T123419Z
UID:1452822027-01-18 19:00:00+00:00achurchnearyou
CATEGORIES:
DESCRIPTION:This quiet and reflective Communion Service is a great way to 
 recharge your spiritual batteries during the week. All welcome.
GEO:-0.092825;51.48642
LOCATION:St Peter's\, Walworth\, Liverpool Grove
URL:https://www.achurchnearyou.com/church/859/service-and-events/events/14
 5282/
END:VEVENT
BEGIN:VEVENT
SUMMARY:Said Mass
DTSTART;TZID=Europe/London:20270125T190000
DTEND;TZID=Europe/London:20270125T193000
DTSTAMP:20260422T123419Z
UID:1452822027-01-25 19:00:00+00:00achurchnearyou
CATEGORIES:
DESCRIPTION:This quiet and reflective Communion Service is a great way to 
 recharge your spiritual batteries during the week. All welcome.
GEO:-0.092825;51.48642
LOCATION:St Peter's\, Walworth\, Liverpool Grove
URL:https://www.achurchnearyou.com/church/859/service-and-events/events/14
 5282/
END:VEVENT
BEGIN:VEVENT
SUMMARY:Said Mass
DTSTART;TZID=Europe/London:20270208T190000
DTEND;TZID=Europe/London:20270208T193000
DTSTAMP:20260422T123419Z
UID:1452822027-02-08 19:00:00+00:00achurchnearyou
CATEGORIES:
DESCRIPTION:This quiet and reflective Communion Service is a great way to 
 recharge your spiritual batteries during the week. All welcome.
GEO:-0.092825;51.48642
LOCATION:St Peter's\, Walworth\, Liverpool Grove
URL:https://www.achurchnearyou.com/church/859/service-and-events/events/14
 5282/
END:VEVENT
BEGIN:VEVENT
SUMMARY:Said Mass
DTSTART;TZID=Europe/London:20270215T190000
DTEND;TZID=Europe/London:20270215T193000
DTSTAMP:20260422T123419Z
UID:1452822027-02-15 19:00:00+00:00achurchnearyou
CATEGORIES:
DESCRIPTION:This quiet and reflective Communion Service is a great way to 
 recharge your spiritual batteries during the week. All welcome.
GEO:-0.092825;51.48642
LOCATION:St Peter's\, Walworth\, Liverpool Grove
URL:https://www.achurchnearyou.com/church/859/service-and-events/events/14
 5282/
END:VEVENT
BEGIN:VEVENT
SUMMARY:Said Mass
DTSTART;TZID=Europe/London:20270222T190000
DTEND;TZID=Europe/London:20270222T193000
DTSTAMP:20260422T123419Z
UID:1452822027-02-22 19:00:00+00:00achurchnearyou
CATEGORIES:
DESCRIPTION:This quiet and reflective Communion Service is a great way to 
 recharge your spiritual batteries during the week. All welcome.
GEO:-0.092825;51.48642
LOCATION:St Peter's\, Walworth\, Liverpool Grove
URL:https://www.achurchnearyou.com/church/859/service-and-events/events/14
 5282/
END:VEVENT
BEGIN:VEVENT
SUMMARY:Said Mass
DTSTART;TZID=Europe/London:20270308T190000
DTEND;TZID=Europe/London:20270308T193000
DTSTAMP:20260422T123419Z
UID:1452822027-03-08 19:00:00+00:00achurchnearyou
CATEGORIES:
DESCRIPTION:This quiet and reflective Communion Service is a great way to 
 recharge your spiritual batteries during the week. All welcome.
GEO:-0.092825;51.48642
LOCATION:St Peter's\, Walworth\, Liverpool Grove
URL:https://www.achurchnearyou.com/church/859/service-and-events/events/14
 5282/
END:VEVENT
BEGIN:VEVENT
SUMMARY:Said Mass
DTSTART;TZID=Europe/London:20270315T190000
DTEND;TZID=Europe/London:20270315T193000
DTSTAMP:20260422T123419Z
UID:1452822027-03-15 19:00:00+00:00achurchnearyou
CATEGORIES:
DESCRIPTION:This quiet and reflective Communion Service is a great way to 
 recharge your spiritual batteries during the week. All welcome.
GEO:-0.092825;51.48642
LOCATION:St Peter's\, Walworth\, Liverpool Grove
URL:https://www.achurchnearyou.com/church/859/service-and-events/events/14
 5282/
END:VEVENT
BEGIN:VEVENT
SUMMARY:Said Mass
DTSTART;TZID=Europe/London:20270322T190000
DTEND;TZID=Europe/London:20270322T193000
DTSTAMP:20260422T123419Z
UID:1452822027-03-22 19:00:00+00:00achurchnearyou
CATEGORIES:
DESCRIPTION:This quiet and reflective Communion Service is a great way to 
 recharge your spiritual batteries during the week. All welcome.
GEO:-0.092825;51.48642
LOCATION:St Peter's\, Walworth\, Liverpool Grove
URL:https://www.achurchnearyou.com/church/859/service-and-events/events/14
 5282/
END:VEVENT
BEGIN:VEVENT
SUMMARY:Said Mass
DTSTART;TZID=Europe/London:20270329T190000
DTEND;TZID=Europe/London:20270329T193000
DTSTAMP:20260422T123419Z
UID:1452822027-03-29 19:00:00+01:00achurchnearyou
CATEGORIES:
DESCRIPTION:This quiet and reflective Communion Service is a great way to 
 recharge your spiritual batteries during the week. All welcome.
GEO:-0.092825;51.48642
LOCATION:St Peter's\, Walworth\, Liverpool Grove
URL:https://www.achurchnearyou.com/church/859/service-and-events/events/14
 5282/
END:VEVENT
BEGIN:VEVENT
SUMMARY:Said Mass
DTSTART;TZID=Europe/London:20270412T190000
DTEND;TZID=Europe/London:20270412T193000
DTSTAMP:20260422T123419Z
UID:1452822027-04-12 19:00:00+01:00achurchnearyou
CATEGORIES:
DESCRIPTION:This quiet and reflective Communion Service is a great way to 
 recharge your spiritual batteries during the week. All welcome.
GEO:-0.092825;51.48642
LOCATION:St Peter's\, Walworth\, Liverpool Grove
URL:https://www.achurchnearyou.com/church/859/service-and-events/events/14
 5282/
END:VEVENT
BEGIN:VEVENT
SUMMARY:Said Mass
DTSTART;TZID=Europe/London:20270419T190000
DTEND;TZID=Europe/London:20270419T193000
DTSTAMP:20260422T123419Z
UID:1452822027-04-19 19:00:00+01:00achurchnearyou
CATEGORIES:
DESCRIPTION:This quiet and reflective Communion Service is a great way to 
 recharge your spiritual batteries during the week. All welcome.
GEO:-0.092825;51.48642
LOCATION:St Peter's\, Walworth\, Liverpool Grove
URL:https://www.achurchnearyou.com/church/859/service-and-events/events/14
 5282/
END:VEVENT
END:VCALENDAR
