BEGIN:VCALENDAR
VERSION:2.0
PRODID:-//achurchnearyou.com//eventfeed//EN
CALSCALE:GREGORIAN
METHOD:PUBLISH
X-WR-TIMEZONE:UTC
BEGIN:VEVENT
SUMMARY:Carols at the Outdoor Crib
DTSTART:20251218T193000Z
DTEND:20251218T203000Z
DTSTAMP:20260424T053812Z
UID:12544012025-12-18 19:30:00+00:00achurchnearyou
CATEGORIES:
DESCRIPTION:Join us as we gather outside St Matthew’s to sing your   \nf
 avourite carols\, accompanied by Yiewsley & West Drayton Band. Enjoy warm 
 refreshments afterwards!
GEO:-0.473192;51.512962
LOCATION:St Matthew Yiewsley
URL:https://www.achurchnearyou.com/church/8596/service-and-events/events/1
 254401/
END:VEVENT
END:VCALENDAR
